BEGIN:VCALENDAR
VERSION:2.0
PRODID:-//First Lutheran Church - ECPv6.15.20//NONSGML v1.0//EN
CALSCALE:GREGORIAN
METHOD:PUBLISH
X-ORIGINAL-URL:https://www.flcduluth.org
X-WR-CALDESC:Events for First Lutheran Church
REFRESH-INTERVAL;VALUE=DURATION:PT1H
X-Robots-Tag:noindex
X-PUBLISHED-TTL:PT1H
BEGIN:VTIMEZONE
TZID:America/Chicago
BEGIN:DAYLIGHT
TZOFFSETFROM:-0600
TZOFFSETTO:-0500
TZNAME:CDT
DTSTART:20210314T080000
END:DAYLIGHT
BEGIN:STANDARD
TZOFFSETFROM:-0500
TZOFFSETTO:-0600
TZNAME:CST
DTSTART:20211107T070000
END:STANDARD
BEGIN:DAYLIGHT
TZOFFSETFROM:-0600
TZOFFSETTO:-0500
TZNAME:CDT
DTSTART:20220313T080000
END:DAYLIGHT
BEGIN:STANDARD
TZOFFSETFROM:-0500
TZOFFSETTO:-0600
TZNAME:CST
DTSTART:20221106T070000
END:STANDARD
BEGIN:DAYLIGHT
TZOFFSETFROM:-0600
TZOFFSETTO:-0500
TZNAME:CDT
DTSTART:20230312T080000
END:DAYLIGHT
BEGIN:STANDARD
TZOFFSETFROM:-0500
TZOFFSETTO:-0600
TZNAME:CST
DTSTART:20231105T070000
END:STANDARD
END:VTIMEZONE
BEGIN:VEVENT
DTSTART;TZID=America/Chicago:20220807T083000
DTEND;TZID=America/Chicago:20220807T093000
DTSTAMP:20260425T231219
CREATED:20220404T183553Z
LAST-MODIFIED:20220404T183553Z
UID:10001624-1659861000-1659864600@www.flcduluth.org
SUMMARY:Worship
DESCRIPTION:
URL:https://www.flcduluth.org/event/worship-3/2022-08-07/
LOCATION:MN
CATEGORIES:Worship
END:VEVENT
BEGIN:VEVENT
DTSTART;TZID=America/Chicago:20220807T100000
DTEND;TZID=America/Chicago:20220807T110000
DTSTAMP:20260425T231219
CREATED:20220404T183717Z
LAST-MODIFIED:20220615T174032Z
UID:10001648-1659866400-1659870000@www.flcduluth.org
SUMMARY:Worship in Leif Erikson Park
DESCRIPTION:
URL:https://www.flcduluth.org/event/worship-in-leif-erikson-park/2022-08-07/
LOCATION:MN
CATEGORIES:Worship
END:VEVENT
BEGIN:VEVENT
DTSTART;TZID=America/Chicago:20220814T083000
DTEND;TZID=America/Chicago:20220814T093000
DTSTAMP:20260425T231220
CREATED:20220404T183553Z
LAST-MODIFIED:20220404T183553Z
UID:10001625-1660465800-1660469400@www.flcduluth.org
SUMMARY:Worship
DESCRIPTION:
URL:https://www.flcduluth.org/event/worship-3/2022-08-14/
LOCATION:MN
CATEGORIES:Worship
END:VEVENT
BEGIN:VEVENT
DTSTART;TZID=America/Chicago:20220814T100000
DTEND;TZID=America/Chicago:20220814T110000
DTSTAMP:20260425T231220
CREATED:20220404T183717Z
LAST-MODIFIED:20220615T174032Z
UID:10001649-1660471200-1660474800@www.flcduluth.org
SUMMARY:Worship in Leif Erikson Park
DESCRIPTION:
URL:https://www.flcduluth.org/event/worship-in-leif-erikson-park/2022-08-14/
LOCATION:MN
CATEGORIES:Worship
END:VEVENT
BEGIN:VEVENT
DTSTART;TZID=America/Chicago:20220821T083000
DTEND;TZID=America/Chicago:20220821T093000
DTSTAMP:20260425T231220
CREATED:20220404T183553Z
LAST-MODIFIED:20220404T183553Z
UID:10001626-1661070600-1661074200@www.flcduluth.org
SUMMARY:Worship
DESCRIPTION:
URL:https://www.flcduluth.org/event/worship-3/2022-08-21/
LOCATION:MN
CATEGORIES:Worship
END:VEVENT
BEGIN:VEVENT
DTSTART;TZID=America/Chicago:20220821T100000
DTEND;TZID=America/Chicago:20220821T110000
DTSTAMP:20260425T231220
CREATED:20220404T183717Z
LAST-MODIFIED:20220615T174032Z
UID:10001650-1661076000-1661079600@www.flcduluth.org
SUMMARY:Worship in Leif Erikson Park
DESCRIPTION:
URL:https://www.flcduluth.org/event/worship-in-leif-erikson-park/2022-08-21/
LOCATION:MN
CATEGORIES:Worship
END:VEVENT
BEGIN:VEVENT
DTSTART;TZID=America/Chicago:20220828T083000
DTEND;TZID=America/Chicago:20220828T093000
DTSTAMP:20260425T231220
CREATED:20220404T183553Z
LAST-MODIFIED:20220404T183553Z
UID:10001627-1661675400-1661679000@www.flcduluth.org
SUMMARY:Worship
DESCRIPTION:
URL:https://www.flcduluth.org/event/worship-3/2022-08-28/
LOCATION:MN
CATEGORIES:Worship
END:VEVENT
BEGIN:VEVENT
DTSTART;TZID=America/Chicago:20220828T100000
DTEND;TZID=America/Chicago:20220828T110000
DTSTAMP:20260425T231220
CREATED:20220404T183717Z
LAST-MODIFIED:20220615T174032Z
UID:10001651-1661680800-1661684400@www.flcduluth.org
SUMMARY:Worship in Leif Erikson Park
DESCRIPTION:
URL:https://www.flcduluth.org/event/worship-in-leif-erikson-park/2022-08-28/
LOCATION:MN
CATEGORIES:Worship
END:VEVENT
END:VCALENDAR