BEGIN:VCALENDAR
VERSION:2.0
PRODID:-//First Lutheran Church - ECPv6.15.20//NONSGML v1.0//EN
CALSCALE:GREGORIAN
METHOD:PUBLISH
X-ORIGINAL-URL:https://www.flcduluth.org
X-WR-CALDESC:Events for First Lutheran Church
REFRESH-INTERVAL;VALUE=DURATION:PT1H
X-Robots-Tag:noindex
X-PUBLISHED-TTL:PT1H
BEGIN:VTIMEZONE
TZID:America/Chicago
BEGIN:DAYLIGHT
TZOFFSETFROM:-0600
TZOFFSETTO:-0500
TZNAME:CDT
DTSTART:20220313T080000
END:DAYLIGHT
BEGIN:STANDARD
TZOFFSETFROM:-0500
TZOFFSETTO:-0600
TZNAME:CST
DTSTART:20221106T070000
END:STANDARD
BEGIN:DAYLIGHT
TZOFFSETFROM:-0600
TZOFFSETTO:-0500
TZNAME:CDT
DTSTART:20230312T080000
END:DAYLIGHT
BEGIN:STANDARD
TZOFFSETFROM:-0500
TZOFFSETTO:-0600
TZNAME:CST
DTSTART:20231105T070000
END:STANDARD
BEGIN:DAYLIGHT
TZOFFSETFROM:-0600
TZOFFSETTO:-0500
TZNAME:CDT
DTSTART:20240310T080000
END:DAYLIGHT
BEGIN:STANDARD
TZOFFSETFROM:-0500
TZOFFSETTO:-0600
TZNAME:CST
DTSTART:20241103T070000
END:STANDARD
END:VTIMEZONE
BEGIN:VEVENT
DTSTART;TZID=America/Chicago:20230205T083000
DTEND;TZID=America/Chicago:20230205T093000
DTSTAMP:20260425T134513
CREATED:20230110T214941Z
LAST-MODIFIED:20230110T215643Z
UID:10001911-1675585800-1675589400@www.flcduluth.org
SUMMARY:Worship
DESCRIPTION:
URL:https://www.flcduluth.org/event/worship-5/2023-02-05/
LOCATION:First Lutheran Church\, 1100 E. Superior St.\, Duluth\, MN\, 55802\, United States
CATEGORIES:Worship
END:VEVENT
BEGIN:VEVENT
DTSTART;TZID=America/Chicago:20230205T110000
DTEND;TZID=America/Chicago:20230205T120000
DTSTAMP:20260425T134513
CREATED:20230110T215041Z
LAST-MODIFIED:20230110T215608Z
UID:10001983-1675594800-1675598400@www.flcduluth.org
SUMMARY:Worship
DESCRIPTION:
URL:https://www.flcduluth.org/event/worship-6/2023-02-05/
LOCATION:First Lutheran Church\, 1100 E. Superior St.\, Duluth\, MN\, 55802\, United States
CATEGORIES:Worship
END:VEVENT
BEGIN:VEVENT
DTSTART;TZID=America/Chicago:20230212T083000
DTEND;TZID=America/Chicago:20230212T093000
DTSTAMP:20260425T134513
CREATED:20230110T214941Z
LAST-MODIFIED:20230110T215643Z
UID:10001912-1676190600-1676194200@www.flcduluth.org
SUMMARY:Worship
DESCRIPTION:
URL:https://www.flcduluth.org/event/worship-5/2023-02-12/
LOCATION:First Lutheran Church\, 1100 E. Superior St.\, Duluth\, MN\, 55802\, United States
CATEGORIES:Worship
END:VEVENT
BEGIN:VEVENT
DTSTART;TZID=America/Chicago:20230212T110000
DTEND;TZID=America/Chicago:20230212T120000
DTSTAMP:20260425T134513
CREATED:20230110T215041Z
LAST-MODIFIED:20230110T215608Z
UID:10001984-1676199600-1676203200@www.flcduluth.org
SUMMARY:Worship
DESCRIPTION:
URL:https://www.flcduluth.org/event/worship-6/2023-02-12/
LOCATION:First Lutheran Church\, 1100 E. Superior St.\, Duluth\, MN\, 55802\, United States
CATEGORIES:Worship
END:VEVENT
BEGIN:VEVENT
DTSTART;TZID=America/Chicago:20230219T083000
DTEND;TZID=America/Chicago:20230219T093000
DTSTAMP:20260425T134513
CREATED:20230110T214941Z
LAST-MODIFIED:20230110T215643Z
UID:10001913-1676795400-1676799000@www.flcduluth.org
SUMMARY:Worship
DESCRIPTION:
URL:https://www.flcduluth.org/event/worship-5/2023-02-19/
LOCATION:First Lutheran Church\, 1100 E. Superior St.\, Duluth\, MN\, 55802\, United States
CATEGORIES:Worship
END:VEVENT
BEGIN:VEVENT
DTSTART;TZID=America/Chicago:20230219T110000
DTEND;TZID=America/Chicago:20230219T120000
DTSTAMP:20260425T134513
CREATED:20230110T215041Z
LAST-MODIFIED:20230110T215608Z
UID:10001985-1676804400-1676808000@www.flcduluth.org
SUMMARY:Worship
DESCRIPTION:
URL:https://www.flcduluth.org/event/worship-6/2023-02-19/
LOCATION:First Lutheran Church\, 1100 E. Superior St.\, Duluth\, MN\, 55802\, United States
CATEGORIES:Worship
END:VEVENT
BEGIN:VEVENT
DTSTART;TZID=America/Chicago:20230222T120000
DTEND;TZID=America/Chicago:20230222T130000
DTSTAMP:20260425T134513
CREATED:20230201T215252Z
LAST-MODIFIED:20230201T215252Z
UID:10004198-1677067200-1677070800@www.flcduluth.org
SUMMARY:Ash Wednesday Service
DESCRIPTION:
URL:https://www.flcduluth.org/event/ash-wednesday-service-3/
LOCATION:MN
CATEGORIES:Worship
END:VEVENT
BEGIN:VEVENT
DTSTART;TZID=America/Chicago:20230222T190000
DTEND;TZID=America/Chicago:20230222T200000
DTSTAMP:20260425T134513
CREATED:20230201T215338Z
LAST-MODIFIED:20230201T215338Z
UID:10004199-1677092400-1677096000@www.flcduluth.org
SUMMARY:Ash Wednesday Service
DESCRIPTION:
URL:https://www.flcduluth.org/event/ash-wednesday-service-4/
LOCATION:MN
CATEGORIES:Worship
END:VEVENT
BEGIN:VEVENT
DTSTART;TZID=America/Chicago:20230226T083000
DTEND;TZID=America/Chicago:20230226T093000
DTSTAMP:20260425T134513
CREATED:20230110T214941Z
LAST-MODIFIED:20230110T215643Z
UID:10001914-1677400200-1677403800@www.flcduluth.org
SUMMARY:Worship
DESCRIPTION:
URL:https://www.flcduluth.org/event/worship-5/2023-02-26/
LOCATION:First Lutheran Church\, 1100 E. Superior St.\, Duluth\, MN\, 55802\, United States
CATEGORIES:Worship
END:VEVENT
BEGIN:VEVENT
DTSTART;TZID=America/Chicago:20230226T110000
DTEND;TZID=America/Chicago:20230226T120000
DTSTAMP:20260425T134513
CREATED:20230110T215041Z
LAST-MODIFIED:20230110T215608Z
UID:10001986-1677409200-1677412800@www.flcduluth.org
SUMMARY:Worship
DESCRIPTION:
URL:https://www.flcduluth.org/event/worship-6/2023-02-26/
LOCATION:First Lutheran Church\, 1100 E. Superior St.\, Duluth\, MN\, 55802\, United States
CATEGORIES:Worship
END:VEVENT
END:VCALENDAR