BEGIN:VCALENDAR
VERSION:2.0
PRODID:-//First Lutheran Church - ECPv6.15.20//NONSGML v1.0//EN
CALSCALE:GREGORIAN
METHOD:PUBLISH
X-WR-CALNAME:First Lutheran Church
X-ORIGINAL-URL:https://www.flcduluth.org
X-WR-CALDESC:Events for First Lutheran Church
REFRESH-INTERVAL;VALUE=DURATION:PT1H
X-Robots-Tag:noindex
X-PUBLISHED-TTL:PT1H
BEGIN:VTIMEZONE
TZID:America/Chicago
BEGIN:DAYLIGHT
TZOFFSETFROM:-0600
TZOFFSETTO:-0500
TZNAME:CDT
DTSTART:20220313T080000
END:DAYLIGHT
BEGIN:STANDARD
TZOFFSETFROM:-0500
TZOFFSETTO:-0600
TZNAME:CST
DTSTART:20221106T070000
END:STANDARD
BEGIN:DAYLIGHT
TZOFFSETFROM:-0600
TZOFFSETTO:-0500
TZNAME:CDT
DTSTART:20230312T080000
END:DAYLIGHT
BEGIN:STANDARD
TZOFFSETFROM:-0500
TZOFFSETTO:-0600
TZNAME:CST
DTSTART:20231105T070000
END:STANDARD
BEGIN:DAYLIGHT
TZOFFSETFROM:-0600
TZOFFSETTO:-0500
TZNAME:CDT
DTSTART:20240310T080000
END:DAYLIGHT
BEGIN:STANDARD
TZOFFSETFROM:-0500
TZOFFSETTO:-0600
TZNAME:CST
DTSTART:20241103T070000
END:STANDARD
END:VTIMEZONE
BEGIN:VEVENT
DTSTART;TZID=America/Chicago:20231001T083000
DTEND;TZID=America/Chicago:20231001T090000
DTSTAMP:20260424T212257
CREATED:20230526T163854Z
LAST-MODIFIED:20230526T163854Z
UID:10004278-1696149000-1696150800@www.flcduluth.org
SUMMARY:Worship
DESCRIPTION:
URL:https://www.flcduluth.org/event/worship-8/2023-10-01/
LOCATION:MN
CATEGORIES:Worship
END:VEVENT
BEGIN:VEVENT
DTSTART;TZID=America/Chicago:20231001T110000
DTEND;TZID=America/Chicago:20231001T120000
DTSTAMP:20260424T212257
CREATED:20230620T185936Z
LAST-MODIFIED:20230620T185936Z
UID:10004428-1696158000-1696161600@www.flcduluth.org
SUMMARY:Worship
DESCRIPTION:
URL:https://www.flcduluth.org/event/worship-9/2023-10-01/
LOCATION:MN
CATEGORIES:Worship
END:VEVENT
BEGIN:VEVENT
DTSTART;TZID=America/Chicago:20231008T083000
DTEND;TZID=America/Chicago:20231008T090000
DTSTAMP:20260424T212257
CREATED:20230526T163854Z
LAST-MODIFIED:20230526T163854Z
UID:10004279-1696753800-1696755600@www.flcduluth.org
SUMMARY:Worship
DESCRIPTION:
URL:https://www.flcduluth.org/event/worship-8/2023-10-08/
LOCATION:MN
CATEGORIES:Worship
END:VEVENT
BEGIN:VEVENT
DTSTART;TZID=America/Chicago:20231008T110000
DTEND;TZID=America/Chicago:20231008T120000
DTSTAMP:20260424T212257
CREATED:20230620T185936Z
LAST-MODIFIED:20230620T185936Z
UID:10004429-1696762800-1696766400@www.flcduluth.org
SUMMARY:Worship
DESCRIPTION:
URL:https://www.flcduluth.org/event/worship-9/2023-10-08/
LOCATION:MN
CATEGORIES:Worship
END:VEVENT
BEGIN:VEVENT
DTSTART;TZID=America/Chicago:20231015T083000
DTEND;TZID=America/Chicago:20231015T090000
DTSTAMP:20260424T212257
CREATED:20230526T163854Z
LAST-MODIFIED:20230526T163854Z
UID:10004280-1697358600-1697360400@www.flcduluth.org
SUMMARY:Worship
DESCRIPTION:
URL:https://www.flcduluth.org/event/worship-8/2023-10-15/
LOCATION:MN
CATEGORIES:Worship
END:VEVENT
BEGIN:VEVENT
DTSTART;TZID=America/Chicago:20231015T110000
DTEND;TZID=America/Chicago:20231015T120000
DTSTAMP:20260424T212257
CREATED:20230620T185936Z
LAST-MODIFIED:20230620T185936Z
UID:10004430-1697367600-1697371200@www.flcduluth.org
SUMMARY:Worship
DESCRIPTION:
URL:https://www.flcduluth.org/event/worship-9/2023-10-15/
LOCATION:MN
CATEGORIES:Worship
END:VEVENT
BEGIN:VEVENT
DTSTART;TZID=America/Chicago:20231022T083000
DTEND;TZID=America/Chicago:20231022T090000
DTSTAMP:20260424T212257
CREATED:20230526T163854Z
LAST-MODIFIED:20230526T163854Z
UID:10004281-1697963400-1697965200@www.flcduluth.org
SUMMARY:Worship
DESCRIPTION:
URL:https://www.flcduluth.org/event/worship-8/2023-10-22/
LOCATION:MN
CATEGORIES:Worship
END:VEVENT
BEGIN:VEVENT
DTSTART;TZID=America/Chicago:20231022T110000
DTEND;TZID=America/Chicago:20231022T120000
DTSTAMP:20260424T212257
CREATED:20230620T185936Z
LAST-MODIFIED:20230620T185936Z
UID:10004431-1697972400-1697976000@www.flcduluth.org
SUMMARY:Worship
DESCRIPTION:
URL:https://www.flcduluth.org/event/worship-9/2023-10-22/
LOCATION:MN
CATEGORIES:Worship
END:VEVENT
BEGIN:VEVENT
DTSTART;TZID=America/Chicago:20231029T083000
DTEND;TZID=America/Chicago:20231029T090000
DTSTAMP:20260424T212257
CREATED:20230526T163854Z
LAST-MODIFIED:20230526T163854Z
UID:10004282-1698568200-1698570000@www.flcduluth.org
SUMMARY:Worship
DESCRIPTION:
URL:https://www.flcduluth.org/event/worship-8/2023-10-29/
LOCATION:MN
CATEGORIES:Worship
END:VEVENT
BEGIN:VEVENT
DTSTART;TZID=America/Chicago:20231029T110000
DTEND;TZID=America/Chicago:20231029T120000
DTSTAMP:20260424T212257
CREATED:20230620T185936Z
LAST-MODIFIED:20230620T185936Z
UID:10004432-1698577200-1698580800@www.flcduluth.org
SUMMARY:Worship
DESCRIPTION:
URL:https://www.flcduluth.org/event/worship-9/2023-10-29/
LOCATION:MN
CATEGORIES:Worship
END:VEVENT
END:VCALENDAR