BEGIN:VCALENDAR
VERSION:2.0
PRODID:-//First Lutheran Church - ECPv6.15.20//NONSGML v1.0//EN
CALSCALE:GREGORIAN
METHOD:PUBLISH
X-WR-CALNAME:First Lutheran Church
X-ORIGINAL-URL:https://www.flcduluth.org
X-WR-CALDESC:Events for First Lutheran Church
REFRESH-INTERVAL;VALUE=DURATION:PT1H
X-Robots-Tag:noindex
X-PUBLISHED-TTL:PT1H
BEGIN:VTIMEZONE
TZID:America/Chicago
BEGIN:DAYLIGHT
TZOFFSETFROM:-0600
TZOFFSETTO:-0500
TZNAME:CDT
DTSTART:20230312T080000
END:DAYLIGHT
BEGIN:STANDARD
TZOFFSETFROM:-0500
TZOFFSETTO:-0600
TZNAME:CST
DTSTART:20231105T070000
END:STANDARD
BEGIN:DAYLIGHT
TZOFFSETFROM:-0600
TZOFFSETTO:-0500
TZNAME:CDT
DTSTART:20240310T080000
END:DAYLIGHT
BEGIN:STANDARD
TZOFFSETFROM:-0500
TZOFFSETTO:-0600
TZNAME:CST
DTSTART:20241103T070000
END:STANDARD
BEGIN:DAYLIGHT
TZOFFSETFROM:-0600
TZOFFSETTO:-0500
TZNAME:CDT
DTSTART:20250309T080000
END:DAYLIGHT
BEGIN:STANDARD
TZOFFSETFROM:-0500
TZOFFSETTO:-0600
TZNAME:CST
DTSTART:20251102T070000
END:STANDARD
END:VTIMEZONE
BEGIN:VEVENT
DTSTART;TZID=America/Chicago:20240804T083000
DTEND;TZID=America/Chicago:20240804T093000
DTSTAMP:20260424T045305
CREATED:20240515T192107Z
LAST-MODIFIED:20250411T172815Z
UID:10005874-1722760200-1722763800@www.flcduluth.org
SUMMARY:Traditional Worship
DESCRIPTION:
URL:https://www.flcduluth.org/event/worship-16/2024-08-04/
LOCATION:MN
CATEGORIES:Worship
END:VEVENT
BEGIN:VEVENT
DTSTART;TZID=America/Chicago:20240804T110000
DTEND;TZID=America/Chicago:20240804T120000
DTSTAMP:20260424T045305
CREATED:20240515T191948Z
LAST-MODIFIED:20250411T173105Z
UID:10006433-1722769200-1722772800@www.flcduluth.org
SUMMARY:Contemporary Worship
DESCRIPTION:
URL:https://www.flcduluth.org/event/worship-15/2024-08-04/
LOCATION:MN
CATEGORIES:Worship
END:VEVENT
BEGIN:VEVENT
DTSTART;TZID=America/Chicago:20240811T083000
DTEND;TZID=America/Chicago:20240811T093000
DTSTAMP:20260424T045305
CREATED:20240515T192107Z
LAST-MODIFIED:20250411T172815Z
UID:10005875-1723365000-1723368600@www.flcduluth.org
SUMMARY:Traditional Worship
DESCRIPTION:
URL:https://www.flcduluth.org/event/worship-16/2024-08-11/
LOCATION:MN
CATEGORIES:Worship
END:VEVENT
BEGIN:VEVENT
DTSTART;TZID=America/Chicago:20240811T110000
DTEND;TZID=America/Chicago:20240811T120000
DTSTAMP:20260424T045305
CREATED:20240515T191948Z
LAST-MODIFIED:20250411T173105Z
UID:10006434-1723374000-1723377600@www.flcduluth.org
SUMMARY:Contemporary Worship
DESCRIPTION:
URL:https://www.flcduluth.org/event/worship-15/2024-08-11/
LOCATION:MN
CATEGORIES:Worship
END:VEVENT
BEGIN:VEVENT
DTSTART;TZID=America/Chicago:20240818T083000
DTEND;TZID=America/Chicago:20240818T093000
DTSTAMP:20260424T045305
CREATED:20240515T192107Z
LAST-MODIFIED:20250411T172815Z
UID:10005876-1723969800-1723973400@www.flcduluth.org
SUMMARY:Traditional Worship
DESCRIPTION:
URL:https://www.flcduluth.org/event/worship-16/2024-08-18/
LOCATION:MN
CATEGORIES:Worship
END:VEVENT
BEGIN:VEVENT
DTSTART;TZID=America/Chicago:20240818T110000
DTEND;TZID=America/Chicago:20240818T120000
DTSTAMP:20260424T045305
CREATED:20240515T191948Z
LAST-MODIFIED:20250411T173105Z
UID:10006435-1723978800-1723982400@www.flcduluth.org
SUMMARY:Contemporary Worship
DESCRIPTION:
URL:https://www.flcduluth.org/event/worship-15/2024-08-18/
LOCATION:MN
CATEGORIES:Worship
END:VEVENT
BEGIN:VEVENT
DTSTART;TZID=America/Chicago:20240825T083000
DTEND;TZID=America/Chicago:20240825T093000
DTSTAMP:20260424T045305
CREATED:20240515T192107Z
LAST-MODIFIED:20250411T172815Z
UID:10005877-1724574600-1724578200@www.flcduluth.org
SUMMARY:Traditional Worship
DESCRIPTION:
URL:https://www.flcduluth.org/event/worship-16/2024-08-25/
LOCATION:MN
CATEGORIES:Worship
END:VEVENT
BEGIN:VEVENT
DTSTART;TZID=America/Chicago:20240825T110000
DTEND;TZID=America/Chicago:20240825T120000
DTSTAMP:20260424T045305
CREATED:20240515T191948Z
LAST-MODIFIED:20250411T173105Z
UID:10006436-1724583600-1724587200@www.flcduluth.org
SUMMARY:Contemporary Worship
DESCRIPTION:
URL:https://www.flcduluth.org/event/worship-15/2024-08-25/
LOCATION:MN
CATEGORIES:Worship
END:VEVENT
END:VCALENDAR