BEGIN:VCALENDAR
VERSION:2.0
PRODID:-//First Lutheran Church - ECPv6.15.20//NONSGML v1.0//EN
CALSCALE:GREGORIAN
METHOD:PUBLISH
X-WR-CALNAME:First Lutheran Church
X-ORIGINAL-URL:https://www.flcduluth.org
X-WR-CALDESC:Events for First Lutheran Church
REFRESH-INTERVAL;VALUE=DURATION:PT1H
X-Robots-Tag:noindex
X-PUBLISHED-TTL:PT1H
BEGIN:VTIMEZONE
TZID:America/Chicago
BEGIN:DAYLIGHT
TZOFFSETFROM:-0600
TZOFFSETTO:-0500
TZNAME:CDT
DTSTART:20240310T080000
END:DAYLIGHT
BEGIN:STANDARD
TZOFFSETFROM:-0500
TZOFFSETTO:-0600
TZNAME:CST
DTSTART:20241103T070000
END:STANDARD
BEGIN:DAYLIGHT
TZOFFSETFROM:-0600
TZOFFSETTO:-0500
TZNAME:CDT
DTSTART:20250309T080000
END:DAYLIGHT
BEGIN:STANDARD
TZOFFSETFROM:-0500
TZOFFSETTO:-0600
TZNAME:CST
DTSTART:20251102T070000
END:STANDARD
BEGIN:DAYLIGHT
TZOFFSETFROM:-0600
TZOFFSETTO:-0500
TZNAME:CDT
DTSTART:20260308T080000
END:DAYLIGHT
BEGIN:STANDARD
TZOFFSETFROM:-0500
TZOFFSETTO:-0600
TZNAME:CST
DTSTART:20261101T070000
END:STANDARD
END:VTIMEZONE
BEGIN:VEVENT
DTSTART;TZID=America/Chicago:20251228T083000
DTEND;TZID=America/Chicago:20251228T093000
DTSTAMP:20260423T094321
CREATED:20240515T192107Z
LAST-MODIFIED:20250411T172815Z
UID:10005947-1766910600-1766914200@www.flcduluth.org
SUMMARY:Traditional Worship
DESCRIPTION:
URL:https://www.flcduluth.org/event/worship-16/2025-12-28/
LOCATION:MN
CATEGORIES:Worship
END:VEVENT
BEGIN:VEVENT
DTSTART;TZID=America/Chicago:20251221T110000
DTEND;TZID=America/Chicago:20251221T120000
DTSTAMP:20260423T094321
CREATED:20251123T164838Z
LAST-MODIFIED:20251123T164838Z
UID:10006518-1766314800-1766318400@www.flcduluth.org
SUMMARY:Worship Service
DESCRIPTION:
URL:https://www.flcduluth.org/event/worship-service-2/2025-12-21/
LOCATION:First Lutheran Church\, 1100 E. Superior St.\, Duluth\, MN\, 55802\, United States
CATEGORIES:Worship
END:VEVENT
BEGIN:VEVENT
DTSTART;TZID=America/Chicago:20251221T083000
DTEND;TZID=America/Chicago:20251221T093000
DTSTAMP:20260423T094321
CREATED:20240515T192107Z
LAST-MODIFIED:20250411T172815Z
UID:10005946-1766305800-1766309400@www.flcduluth.org
SUMMARY:Traditional Worship
DESCRIPTION:
URL:https://www.flcduluth.org/event/worship-16/2025-12-21/
LOCATION:MN
CATEGORIES:Worship
END:VEVENT
BEGIN:VEVENT
DTSTART;TZID=America/Chicago:20251214T110000
DTEND;TZID=America/Chicago:20251214T120000
DTSTAMP:20260423T094321
CREATED:20251123T164838Z
LAST-MODIFIED:20251123T164838Z
UID:10006517-1765710000-1765713600@www.flcduluth.org
SUMMARY:Worship Service
DESCRIPTION:
URL:https://www.flcduluth.org/event/worship-service-2/2025-12-14/
LOCATION:First Lutheran Church\, 1100 E. Superior St.\, Duluth\, MN\, 55802\, United States
CATEGORIES:Worship
END:VEVENT
BEGIN:VEVENT
DTSTART;TZID=America/Chicago:20251214T083000
DTEND;TZID=America/Chicago:20251214T093000
DTSTAMP:20260423T094321
CREATED:20240515T192107Z
LAST-MODIFIED:20250411T172815Z
UID:10005945-1765701000-1765704600@www.flcduluth.org
SUMMARY:Traditional Worship
DESCRIPTION:
URL:https://www.flcduluth.org/event/worship-16/2025-12-14/
LOCATION:MN
CATEGORIES:Worship
END:VEVENT
BEGIN:VEVENT
DTSTART;TZID=America/Chicago:20251207T110000
DTEND;TZID=America/Chicago:20251207T120000
DTSTAMP:20260423T094321
CREATED:20251123T164838Z
LAST-MODIFIED:20251123T164838Z
UID:10006516-1765105200-1765108800@www.flcduluth.org
SUMMARY:Worship Service
DESCRIPTION:
URL:https://www.flcduluth.org/event/worship-service-2/2025-12-07/
LOCATION:First Lutheran Church\, 1100 E. Superior St.\, Duluth\, MN\, 55802\, United States
CATEGORIES:Worship
END:VEVENT
BEGIN:VEVENT
DTSTART;TZID=America/Chicago:20251207T083000
DTEND;TZID=America/Chicago:20251207T093000
DTSTAMP:20260423T094321
CREATED:20240515T192107Z
LAST-MODIFIED:20250411T172815Z
UID:10005944-1765096200-1765099800@www.flcduluth.org
SUMMARY:Traditional Worship
DESCRIPTION:
URL:https://www.flcduluth.org/event/worship-16/2025-12-07/
LOCATION:MN
CATEGORIES:Worship
END:VEVENT
BEGIN:VEVENT
DTSTART;TZID=America/Chicago:20251130T110000
DTEND;TZID=America/Chicago:20251130T120000
DTSTAMP:20260423T094321
CREATED:20251123T164838Z
LAST-MODIFIED:20251123T164838Z
UID:10006515-1764500400-1764504000@www.flcduluth.org
SUMMARY:Worship Service
DESCRIPTION:
URL:https://www.flcduluth.org/event/worship-service-2/2025-11-30/
LOCATION:First Lutheran Church\, 1100 E. Superior St.\, Duluth\, MN\, 55802\, United States
CATEGORIES:Worship
END:VEVENT
BEGIN:VEVENT
DTSTART;TZID=America/Chicago:20251130T083000
DTEND;TZID=America/Chicago:20251130T093000
DTSTAMP:20260423T094321
CREATED:20240515T192107Z
LAST-MODIFIED:20250411T172815Z
UID:10005943-1764491400-1764495000@www.flcduluth.org
SUMMARY:Traditional Worship
DESCRIPTION:
URL:https://www.flcduluth.org/event/worship-16/2025-11-30/
LOCATION:MN
CATEGORIES:Worship
END:VEVENT
BEGIN:VEVENT
DTSTART;TZID=America/Chicago:20251123T110000
DTEND;TZID=America/Chicago:20251123T120000
DTSTAMP:20260423T094321
CREATED:20251123T164838Z
LAST-MODIFIED:20251123T164838Z
UID:10006514-1763895600-1763899200@www.flcduluth.org
SUMMARY:Worship Service
DESCRIPTION:
URL:https://www.flcduluth.org/event/worship-service-2/2025-11-23/
LOCATION:First Lutheran Church\, 1100 E. Superior St.\, Duluth\, MN\, 55802\, United States
CATEGORIES:Worship
END:VEVENT
BEGIN:VEVENT
DTSTART;TZID=America/Chicago:20251123T083000
DTEND;TZID=America/Chicago:20251123T093000
DTSTAMP:20260423T094321
CREATED:20240515T192107Z
LAST-MODIFIED:20250411T172815Z
UID:10005942-1763886600-1763890200@www.flcduluth.org
SUMMARY:Traditional Worship
DESCRIPTION:
URL:https://www.flcduluth.org/event/worship-16/2025-11-23/
LOCATION:MN
CATEGORIES:Worship
END:VEVENT
BEGIN:VEVENT
DTSTART;TZID=America/Chicago:20251116T083000
DTEND;TZID=America/Chicago:20251116T093000
DTSTAMP:20260423T094321
CREATED:20240515T192107Z
LAST-MODIFIED:20250411T172815Z
UID:10005941-1763281800-1763285400@www.flcduluth.org
SUMMARY:Traditional Worship
DESCRIPTION:
URL:https://www.flcduluth.org/event/worship-16/2025-11-16/
LOCATION:MN
CATEGORIES:Worship
END:VEVENT
BEGIN:VEVENT
DTSTART;TZID=America/Chicago:20251109T083000
DTEND;TZID=America/Chicago:20251109T093000
DTSTAMP:20260423T094321
CREATED:20240515T192107Z
LAST-MODIFIED:20250411T172815Z
UID:10005940-1762677000-1762680600@www.flcduluth.org
SUMMARY:Traditional Worship
DESCRIPTION:
URL:https://www.flcduluth.org/event/worship-16/2025-11-09/
LOCATION:MN
CATEGORIES:Worship
END:VEVENT
BEGIN:VEVENT
DTSTART;TZID=America/Chicago:20251102T083000
DTEND;TZID=America/Chicago:20251102T093000
DTSTAMP:20260423T094321
CREATED:20240515T192107Z
LAST-MODIFIED:20250411T172815Z
UID:10005939-1762072200-1762075800@www.flcduluth.org
SUMMARY:Traditional Worship
DESCRIPTION:
URL:https://www.flcduluth.org/event/worship-16/2025-11-02/
LOCATION:MN
CATEGORIES:Worship
END:VEVENT
BEGIN:VEVENT
DTSTART;TZID=America/Chicago:20251026T083000
DTEND;TZID=America/Chicago:20251026T093000
DTSTAMP:20260423T094321
CREATED:20240515T192107Z
LAST-MODIFIED:20250411T172815Z
UID:10005938-1761467400-1761471000@www.flcduluth.org
SUMMARY:Traditional Worship
DESCRIPTION:
URL:https://www.flcduluth.org/event/worship-16/2025-10-26/
LOCATION:MN
CATEGORIES:Worship
END:VEVENT
BEGIN:VEVENT
DTSTART;TZID=America/Chicago:20251019T083000
DTEND;TZID=America/Chicago:20251019T093000
DTSTAMP:20260423T094321
CREATED:20240515T192107Z
LAST-MODIFIED:20250411T172815Z
UID:10005937-1760862600-1760866200@www.flcduluth.org
SUMMARY:Traditional Worship
DESCRIPTION:
URL:https://www.flcduluth.org/event/worship-16/2025-10-19/
LOCATION:MN
CATEGORIES:Worship
END:VEVENT
BEGIN:VEVENT
DTSTART;TZID=America/Chicago:20251012T083000
DTEND;TZID=America/Chicago:20251012T093000
DTSTAMP:20260423T094321
CREATED:20240515T192107Z
LAST-MODIFIED:20250411T172815Z
UID:10005936-1760257800-1760261400@www.flcduluth.org
SUMMARY:Traditional Worship
DESCRIPTION:
URL:https://www.flcduluth.org/event/worship-16/2025-10-12/
LOCATION:MN
CATEGORIES:Worship
END:VEVENT
BEGIN:VEVENT
DTSTART;TZID=America/Chicago:20251005T083000
DTEND;TZID=America/Chicago:20251005T093000
DTSTAMP:20260423T094321
CREATED:20240515T192107Z
LAST-MODIFIED:20250411T172815Z
UID:10005935-1759653000-1759656600@www.flcduluth.org
SUMMARY:Traditional Worship
DESCRIPTION:
URL:https://www.flcduluth.org/event/worship-16/2025-10-05/
LOCATION:MN
CATEGORIES:Worship
END:VEVENT
BEGIN:VEVENT
DTSTART;TZID=America/Chicago:20250928T083000
DTEND;TZID=America/Chicago:20250928T093000
DTSTAMP:20260423T094321
CREATED:20240515T192107Z
LAST-MODIFIED:20250411T172815Z
UID:10005934-1759048200-1759051800@www.flcduluth.org
SUMMARY:Traditional Worship
DESCRIPTION:
URL:https://www.flcduluth.org/event/worship-16/2025-09-28/
LOCATION:MN
CATEGORIES:Worship
END:VEVENT
BEGIN:VEVENT
DTSTART;TZID=America/Chicago:20250921T083000
DTEND;TZID=America/Chicago:20250921T093000
DTSTAMP:20260423T094321
CREATED:20240515T192107Z
LAST-MODIFIED:20250411T172815Z
UID:10005933-1758443400-1758447000@www.flcduluth.org
SUMMARY:Traditional Worship
DESCRIPTION:
URL:https://www.flcduluth.org/event/worship-16/2025-09-21/
LOCATION:MN
CATEGORIES:Worship
END:VEVENT
BEGIN:VEVENT
DTSTART;TZID=America/Chicago:20250914T083000
DTEND;TZID=America/Chicago:20250914T093000
DTSTAMP:20260423T094321
CREATED:20240515T192107Z
LAST-MODIFIED:20250411T172815Z
UID:10005932-1757838600-1757842200@www.flcduluth.org
SUMMARY:Traditional Worship
DESCRIPTION:
URL:https://www.flcduluth.org/event/worship-16/2025-09-14/
LOCATION:MN
CATEGORIES:Worship
END:VEVENT
BEGIN:VEVENT
DTSTART;TZID=America/Chicago:20250907T083000
DTEND;TZID=America/Chicago:20250907T093000
DTSTAMP:20260423T094321
CREATED:20240515T192107Z
LAST-MODIFIED:20250411T172815Z
UID:10005931-1757233800-1757237400@www.flcduluth.org
SUMMARY:Traditional Worship
DESCRIPTION:
URL:https://www.flcduluth.org/event/worship-16/2025-09-07/
LOCATION:MN
CATEGORIES:Worship
END:VEVENT
BEGIN:VEVENT
DTSTART;TZID=America/Chicago:20250831T110000
DTEND;TZID=America/Chicago:20250831T120000
DTSTAMP:20260423T094321
CREATED:20240515T191948Z
LAST-MODIFIED:20250411T173105Z
UID:10006489-1756638000-1756641600@www.flcduluth.org
SUMMARY:Contemporary Worship
DESCRIPTION:
URL:https://www.flcduluth.org/event/worship-15/2025-08-31/
LOCATION:MN
CATEGORIES:Worship
END:VEVENT
BEGIN:VEVENT
DTSTART;TZID=America/Chicago:20250831T083000
DTEND;TZID=America/Chicago:20250831T093000
DTSTAMP:20260423T094321
CREATED:20240515T192107Z
LAST-MODIFIED:20250411T172815Z
UID:10005930-1756629000-1756632600@www.flcduluth.org
SUMMARY:Traditional Worship
DESCRIPTION:
URL:https://www.flcduluth.org/event/worship-16/2025-08-31/
LOCATION:MN
CATEGORIES:Worship
END:VEVENT
BEGIN:VEVENT
DTSTART;TZID=America/Chicago:20250824T110000
DTEND;TZID=America/Chicago:20250824T120000
DTSTAMP:20260423T094321
CREATED:20240515T191948Z
LAST-MODIFIED:20250411T173105Z
UID:10006488-1756033200-1756036800@www.flcduluth.org
SUMMARY:Contemporary Worship
DESCRIPTION:
URL:https://www.flcduluth.org/event/worship-15/2025-08-24/
LOCATION:MN
CATEGORIES:Worship
END:VEVENT
BEGIN:VEVENT
DTSTART;TZID=America/Chicago:20250824T083000
DTEND;TZID=America/Chicago:20250824T093000
DTSTAMP:20260423T094321
CREATED:20240515T192107Z
LAST-MODIFIED:20250411T172815Z
UID:10005929-1756024200-1756027800@www.flcduluth.org
SUMMARY:Traditional Worship
DESCRIPTION:
URL:https://www.flcduluth.org/event/worship-16/2025-08-24/
LOCATION:MN
CATEGORIES:Worship
END:VEVENT
BEGIN:VEVENT
DTSTART;TZID=America/Chicago:20250817T110000
DTEND;TZID=America/Chicago:20250817T120000
DTSTAMP:20260423T094321
CREATED:20240515T191948Z
LAST-MODIFIED:20250411T173105Z
UID:10006487-1755428400-1755432000@www.flcduluth.org
SUMMARY:Contemporary Worship
DESCRIPTION:
URL:https://www.flcduluth.org/event/worship-15/2025-08-17/
LOCATION:MN
CATEGORIES:Worship
END:VEVENT
BEGIN:VEVENT
DTSTART;TZID=America/Chicago:20250817T083000
DTEND;TZID=America/Chicago:20250817T093000
DTSTAMP:20260423T094321
CREATED:20240515T192107Z
LAST-MODIFIED:20250411T172815Z
UID:10005928-1755419400-1755423000@www.flcduluth.org
SUMMARY:Traditional Worship
DESCRIPTION:
URL:https://www.flcduluth.org/event/worship-16/2025-08-17/
LOCATION:MN
CATEGORIES:Worship
END:VEVENT
BEGIN:VEVENT
DTSTART;TZID=America/Chicago:20250810T110000
DTEND;TZID=America/Chicago:20250810T120000
DTSTAMP:20260423T094321
CREATED:20240515T191948Z
LAST-MODIFIED:20250411T173105Z
UID:10006486-1754823600-1754827200@www.flcduluth.org
SUMMARY:Contemporary Worship
DESCRIPTION:
URL:https://www.flcduluth.org/event/worship-15/2025-08-10/
LOCATION:MN
CATEGORIES:Worship
END:VEVENT
BEGIN:VEVENT
DTSTART;TZID=America/Chicago:20250810T083000
DTEND;TZID=America/Chicago:20250810T093000
DTSTAMP:20260423T094321
CREATED:20240515T192107Z
LAST-MODIFIED:20250411T172815Z
UID:10005927-1754814600-1754818200@www.flcduluth.org
SUMMARY:Traditional Worship
DESCRIPTION:
URL:https://www.flcduluth.org/event/worship-16/2025-08-10/
LOCATION:MN
CATEGORIES:Worship
END:VEVENT
END:VCALENDAR