BEGIN:VCALENDAR
VERSION:2.0
PRODID:-//First Lutheran Church - ECPv6.15.20//NONSGML v1.0//EN
CALSCALE:GREGORIAN
METHOD:PUBLISH
X-WR-CALNAME:First Lutheran Church
X-ORIGINAL-URL:https://www.flcduluth.org
X-WR-CALDESC:Events for First Lutheran Church
REFRESH-INTERVAL;VALUE=DURATION:PT1H
X-Robots-Tag:noindex
X-PUBLISHED-TTL:PT1H
BEGIN:VTIMEZONE
TZID:America/Chicago
BEGIN:DAYLIGHT
TZOFFSETFROM:-0600
TZOFFSETTO:-0500
TZNAME:CDT
DTSTART:20230312T080000
END:DAYLIGHT
BEGIN:STANDARD
TZOFFSETFROM:-0500
TZOFFSETTO:-0600
TZNAME:CST
DTSTART:20231105T070000
END:STANDARD
BEGIN:DAYLIGHT
TZOFFSETFROM:-0600
TZOFFSETTO:-0500
TZNAME:CDT
DTSTART:20240310T080000
END:DAYLIGHT
BEGIN:STANDARD
TZOFFSETFROM:-0500
TZOFFSETTO:-0600
TZNAME:CST
DTSTART:20241103T070000
END:STANDARD
BEGIN:DAYLIGHT
TZOFFSETFROM:-0600
TZOFFSETTO:-0500
TZNAME:CDT
DTSTART:20250309T080000
END:DAYLIGHT
BEGIN:STANDARD
TZOFFSETFROM:-0500
TZOFFSETTO:-0600
TZNAME:CST
DTSTART:20251102T070000
END:STANDARD
END:VTIMEZONE
BEGIN:VEVENT
DTSTART;TZID=America/Chicago:20241006T083000
DTEND;TZID=America/Chicago:20241006T093000
DTSTAMP:20260424T023144
CREATED:20240515T192107Z
LAST-MODIFIED:20250411T172815Z
UID:10005883-1728203400-1728207000@www.flcduluth.org
SUMMARY:Traditional Worship
DESCRIPTION:
URL:https://www.flcduluth.org/event/worship-16/2024-10-06/
CATEGORIES:Worship
END:VEVENT
BEGIN:VEVENT
DTSTART;TZID=America/Chicago:20240929T110000
DTEND;TZID=America/Chicago:20240929T120000
DTSTAMP:20260424T023144
CREATED:20240515T191948Z
LAST-MODIFIED:20250411T173105Z
UID:10006441-1727607600-1727611200@www.flcduluth.org
SUMMARY:Contemporary Worship
DESCRIPTION:
URL:https://www.flcduluth.org/event/worship-15/2024-09-29/
CATEGORIES:Worship
END:VEVENT
BEGIN:VEVENT
DTSTART;TZID=America/Chicago:20240929T083000
DTEND;TZID=America/Chicago:20240929T093000
DTSTAMP:20260424T023144
CREATED:20240515T192107Z
LAST-MODIFIED:20250411T172815Z
UID:10005882-1727598600-1727602200@www.flcduluth.org
SUMMARY:Traditional Worship
DESCRIPTION:
URL:https://www.flcduluth.org/event/worship-16/2024-09-29/
CATEGORIES:Worship
END:VEVENT
BEGIN:VEVENT
DTSTART;TZID=America/Chicago:20240922T110000
DTEND;TZID=America/Chicago:20240922T120000
DTSTAMP:20260424T023144
CREATED:20240515T191948Z
LAST-MODIFIED:20250411T173105Z
UID:10006440-1727002800-1727006400@www.flcduluth.org
SUMMARY:Contemporary Worship
DESCRIPTION:
URL:https://www.flcduluth.org/event/worship-15/2024-09-22/
CATEGORIES:Worship
END:VEVENT
BEGIN:VEVENT
DTSTART;TZID=America/Chicago:20240922T083000
DTEND;TZID=America/Chicago:20240922T093000
DTSTAMP:20260424T023144
CREATED:20240515T192107Z
LAST-MODIFIED:20250411T172815Z
UID:10005881-1726993800-1726997400@www.flcduluth.org
SUMMARY:Traditional Worship
DESCRIPTION:
URL:https://www.flcduluth.org/event/worship-16/2024-09-22/
CATEGORIES:Worship
END:VEVENT
BEGIN:VEVENT
DTSTART;TZID=America/Chicago:20240915T110000
DTEND;TZID=America/Chicago:20240915T120000
DTSTAMP:20260424T023144
CREATED:20240515T191948Z
LAST-MODIFIED:20250411T173105Z
UID:10006439-1726398000-1726401600@www.flcduluth.org
SUMMARY:Contemporary Worship
DESCRIPTION:
URL:https://www.flcduluth.org/event/worship-15/2024-09-15/
CATEGORIES:Worship
END:VEVENT
BEGIN:VEVENT
DTSTART;TZID=America/Chicago:20240915T083000
DTEND;TZID=America/Chicago:20240915T093000
DTSTAMP:20260424T023144
CREATED:20240515T192107Z
LAST-MODIFIED:20250411T172815Z
UID:10005880-1726389000-1726392600@www.flcduluth.org
SUMMARY:Traditional Worship
DESCRIPTION:
URL:https://www.flcduluth.org/event/worship-16/2024-09-15/
CATEGORIES:Worship
END:VEVENT
BEGIN:VEVENT
DTSTART;TZID=America/Chicago:20240908T110000
DTEND;TZID=America/Chicago:20240908T120000
DTSTAMP:20260424T023144
CREATED:20240515T191948Z
LAST-MODIFIED:20250411T173105Z
UID:10006438-1725793200-1725796800@www.flcduluth.org
SUMMARY:Contemporary Worship
DESCRIPTION:
URL:https://www.flcduluth.org/event/worship-15/2024-09-08/
CATEGORIES:Worship
END:VEVENT
BEGIN:VEVENT
DTSTART;TZID=America/Chicago:20240908T083000
DTEND;TZID=America/Chicago:20240908T093000
DTSTAMP:20260424T023144
CREATED:20240515T192107Z
LAST-MODIFIED:20250411T172815Z
UID:10005879-1725784200-1725787800@www.flcduluth.org
SUMMARY:Traditional Worship
DESCRIPTION:
URL:https://www.flcduluth.org/event/worship-16/2024-09-08/
CATEGORIES:Worship
END:VEVENT
BEGIN:VEVENT
DTSTART;TZID=America/Chicago:20240901T110000
DTEND;TZID=America/Chicago:20240901T120000
DTSTAMP:20260424T023144
CREATED:20240515T191948Z
LAST-MODIFIED:20250411T173105Z
UID:10006437-1725188400-1725192000@www.flcduluth.org
SUMMARY:Contemporary Worship
DESCRIPTION:
URL:https://www.flcduluth.org/event/worship-15/2024-09-01/
CATEGORIES:Worship
END:VEVENT
BEGIN:VEVENT
DTSTART;TZID=America/Chicago:20240901T083000
DTEND;TZID=America/Chicago:20240901T093000
DTSTAMP:20260424T023144
CREATED:20240515T192107Z
LAST-MODIFIED:20250411T172815Z
UID:10005878-1725179400-1725183000@www.flcduluth.org
SUMMARY:Traditional Worship
DESCRIPTION:
URL:https://www.flcduluth.org/event/worship-16/2024-09-01/
CATEGORIES:Worship
END:VEVENT
BEGIN:VEVENT
DTSTART;TZID=America/Chicago:20240825T110000
DTEND;TZID=America/Chicago:20240825T120000
DTSTAMP:20260424T023144
CREATED:20240515T191948Z
LAST-MODIFIED:20250411T173105Z
UID:10006436-1724583600-1724587200@www.flcduluth.org
SUMMARY:Contemporary Worship
DESCRIPTION:
URL:https://www.flcduluth.org/event/worship-15/2024-08-25/
CATEGORIES:Worship
END:VEVENT
BEGIN:VEVENT
DTSTART;TZID=America/Chicago:20240825T083000
DTEND;TZID=America/Chicago:20240825T093000
DTSTAMP:20260424T023144
CREATED:20240515T192107Z
LAST-MODIFIED:20250411T172815Z
UID:10005877-1724574600-1724578200@www.flcduluth.org
SUMMARY:Traditional Worship
DESCRIPTION:
URL:https://www.flcduluth.org/event/worship-16/2024-08-25/
CATEGORIES:Worship
END:VEVENT
BEGIN:VEVENT
DTSTART;TZID=America/Chicago:20240818T110000
DTEND;TZID=America/Chicago:20240818T120000
DTSTAMP:20260424T023144
CREATED:20240515T191948Z
LAST-MODIFIED:20250411T173105Z
UID:10006435-1723978800-1723982400@www.flcduluth.org
SUMMARY:Contemporary Worship
DESCRIPTION:
URL:https://www.flcduluth.org/event/worship-15/2024-08-18/
CATEGORIES:Worship
END:VEVENT
BEGIN:VEVENT
DTSTART;TZID=America/Chicago:20240818T083000
DTEND;TZID=America/Chicago:20240818T093000
DTSTAMP:20260424T023144
CREATED:20240515T192107Z
LAST-MODIFIED:20250411T172815Z
UID:10005876-1723969800-1723973400@www.flcduluth.org
SUMMARY:Traditional Worship
DESCRIPTION:
URL:https://www.flcduluth.org/event/worship-16/2024-08-18/
CATEGORIES:Worship
END:VEVENT
BEGIN:VEVENT
DTSTART;TZID=America/Chicago:20240811T110000
DTEND;TZID=America/Chicago:20240811T120000
DTSTAMP:20260424T023144
CREATED:20240515T191948Z
LAST-MODIFIED:20250411T173105Z
UID:10006434-1723374000-1723377600@www.flcduluth.org
SUMMARY:Contemporary Worship
DESCRIPTION:
URL:https://www.flcduluth.org/event/worship-15/2024-08-11/
CATEGORIES:Worship
END:VEVENT
BEGIN:VEVENT
DTSTART;TZID=America/Chicago:20240811T083000
DTEND;TZID=America/Chicago:20240811T093000
DTSTAMP:20260424T023144
CREATED:20240515T192107Z
LAST-MODIFIED:20250411T172815Z
UID:10005875-1723365000-1723368600@www.flcduluth.org
SUMMARY:Traditional Worship
DESCRIPTION:
URL:https://www.flcduluth.org/event/worship-16/2024-08-11/
CATEGORIES:Worship
END:VEVENT
BEGIN:VEVENT
DTSTART;TZID=America/Chicago:20240804T110000
DTEND;TZID=America/Chicago:20240804T120000
DTSTAMP:20260424T023144
CREATED:20240515T191948Z
LAST-MODIFIED:20250411T173105Z
UID:10006433-1722769200-1722772800@www.flcduluth.org
SUMMARY:Contemporary Worship
DESCRIPTION:
URL:https://www.flcduluth.org/event/worship-15/2024-08-04/
CATEGORIES:Worship
END:VEVENT
BEGIN:VEVENT
DTSTART;TZID=America/Chicago:20240804T083000
DTEND;TZID=America/Chicago:20240804T093000
DTSTAMP:20260424T023144
CREATED:20240515T192107Z
LAST-MODIFIED:20250411T172815Z
UID:10005874-1722760200-1722763800@www.flcduluth.org
SUMMARY:Traditional Worship
DESCRIPTION:
URL:https://www.flcduluth.org/event/worship-16/2024-08-04/
CATEGORIES:Worship
END:VEVENT
BEGIN:VEVENT
DTSTART;TZID=America/Chicago:20240728T110000
DTEND;TZID=America/Chicago:20240728T120000
DTSTAMP:20260424T023144
CREATED:20240515T191948Z
LAST-MODIFIED:20250411T173105Z
UID:10006432-1722164400-1722168000@www.flcduluth.org
SUMMARY:Contemporary Worship
DESCRIPTION:
URL:https://www.flcduluth.org/event/worship-15/2024-07-28/
CATEGORIES:Worship
END:VEVENT
BEGIN:VEVENT
DTSTART;TZID=America/Chicago:20240728T083000
DTEND;TZID=America/Chicago:20240728T093000
DTSTAMP:20260424T023144
CREATED:20240515T192107Z
LAST-MODIFIED:20250411T172815Z
UID:10005873-1722155400-1722159000@www.flcduluth.org
SUMMARY:Traditional Worship
DESCRIPTION:
URL:https://www.flcduluth.org/event/worship-16/2024-07-28/
CATEGORIES:Worship
END:VEVENT
BEGIN:VEVENT
DTSTART;TZID=America/Chicago:20240721T110000
DTEND;TZID=America/Chicago:20240721T120000
DTSTAMP:20260424T023144
CREATED:20240515T191948Z
LAST-MODIFIED:20250411T173105Z
UID:10006431-1721559600-1721563200@www.flcduluth.org
SUMMARY:Contemporary Worship
DESCRIPTION:
URL:https://www.flcduluth.org/event/worship-15/2024-07-21/
CATEGORIES:Worship
END:VEVENT
BEGIN:VEVENT
DTSTART;TZID=America/Chicago:20240721T083000
DTEND;TZID=America/Chicago:20240721T093000
DTSTAMP:20260424T023144
CREATED:20240515T192107Z
LAST-MODIFIED:20250411T172815Z
UID:10005872-1721550600-1721554200@www.flcduluth.org
SUMMARY:Traditional Worship
DESCRIPTION:
URL:https://www.flcduluth.org/event/worship-16/2024-07-21/
CATEGORIES:Worship
END:VEVENT
BEGIN:VEVENT
DTSTART;TZID=America/Chicago:20240714T110000
DTEND;TZID=America/Chicago:20240714T120000
DTSTAMP:20260424T023144
CREATED:20240515T191948Z
LAST-MODIFIED:20250411T173105Z
UID:10006430-1720954800-1720958400@www.flcduluth.org
SUMMARY:Contemporary Worship
DESCRIPTION:
URL:https://www.flcduluth.org/event/worship-15/2024-07-14/
CATEGORIES:Worship
END:VEVENT
BEGIN:VEVENT
DTSTART;TZID=America/Chicago:20240714T083000
DTEND;TZID=America/Chicago:20240714T093000
DTSTAMP:20260424T023144
CREATED:20240515T192107Z
LAST-MODIFIED:20250411T172815Z
UID:10005871-1720945800-1720949400@www.flcduluth.org
SUMMARY:Traditional Worship
DESCRIPTION:
URL:https://www.flcduluth.org/event/worship-16/2024-07-14/
CATEGORIES:Worship
END:VEVENT
BEGIN:VEVENT
DTSTART;TZID=America/Chicago:20240707T110000
DTEND;TZID=America/Chicago:20240707T120000
DTSTAMP:20260424T023144
CREATED:20240515T191948Z
LAST-MODIFIED:20250411T173105Z
UID:10006429-1720350000-1720353600@www.flcduluth.org
SUMMARY:Contemporary Worship
DESCRIPTION:
URL:https://www.flcduluth.org/event/worship-15/2024-07-07/
CATEGORIES:Worship
END:VEVENT
BEGIN:VEVENT
DTSTART;TZID=America/Chicago:20240707T083000
DTEND;TZID=America/Chicago:20240707T093000
DTSTAMP:20260424T023144
CREATED:20240515T192107Z
LAST-MODIFIED:20250411T172815Z
UID:10005870-1720341000-1720344600@www.flcduluth.org
SUMMARY:Traditional Worship
DESCRIPTION:
URL:https://www.flcduluth.org/event/worship-16/2024-07-07/
CATEGORIES:Worship
END:VEVENT
BEGIN:VEVENT
DTSTART;TZID=America/Chicago:20240630T110000
DTEND;TZID=America/Chicago:20240630T120000
DTSTAMP:20260424T023144
CREATED:20240515T191948Z
LAST-MODIFIED:20250411T173105Z
UID:10006428-1719745200-1719748800@www.flcduluth.org
SUMMARY:Contemporary Worship
DESCRIPTION:
URL:https://www.flcduluth.org/event/worship-15/2024-06-30/
CATEGORIES:Worship
END:VEVENT
BEGIN:VEVENT
DTSTART;TZID=America/Chicago:20240623T110000
DTEND;TZID=America/Chicago:20240623T120000
DTSTAMP:20260424T023144
CREATED:20240515T191948Z
LAST-MODIFIED:20250411T173105Z
UID:10006427-1719140400-1719144000@www.flcduluth.org
SUMMARY:Contemporary Worship
DESCRIPTION:
URL:https://www.flcduluth.org/event/worship-15/2024-06-23/
CATEGORIES:Worship
END:VEVENT
BEGIN:VEVENT
DTSTART;TZID=America/Chicago:20240616T110000
DTEND;TZID=America/Chicago:20240616T120000
DTSTAMP:20260424T023144
CREATED:20240515T191948Z
LAST-MODIFIED:20250411T173105Z
UID:10006426-1718535600-1718539200@www.flcduluth.org
SUMMARY:Contemporary Worship
DESCRIPTION:
URL:https://www.flcduluth.org/event/worship-15/2024-06-16/
CATEGORIES:Worship
END:VEVENT
END:VCALENDAR