BEGIN:VCALENDAR
VERSION:2.0
PRODID:-//First Lutheran Church - ECPv6.15.20//NONSGML v1.0//EN
CALSCALE:GREGORIAN
METHOD:PUBLISH
X-ORIGINAL-URL:https://www.flcduluth.org
X-WR-CALDESC:Events for First Lutheran Church
REFRESH-INTERVAL;VALUE=DURATION:PT1H
X-Robots-Tag:noindex
X-PUBLISHED-TTL:PT1H
BEGIN:VTIMEZONE
TZID:America/Chicago
BEGIN:DAYLIGHT
TZOFFSETFROM:-0600
TZOFFSETTO:-0500
TZNAME:CDT
DTSTART:20220313T080000
END:DAYLIGHT
BEGIN:STANDARD
TZOFFSETFROM:-0500
TZOFFSETTO:-0600
TZNAME:CST
DTSTART:20221106T070000
END:STANDARD
BEGIN:DAYLIGHT
TZOFFSETFROM:-0600
TZOFFSETTO:-0500
TZNAME:CDT
DTSTART:20230312T080000
END:DAYLIGHT
BEGIN:STANDARD
TZOFFSETFROM:-0500
TZOFFSETTO:-0600
TZNAME:CST
DTSTART:20231105T070000
END:STANDARD
BEGIN:DAYLIGHT
TZOFFSETFROM:-0600
TZOFFSETTO:-0500
TZNAME:CDT
DTSTART:20240310T080000
END:DAYLIGHT
BEGIN:STANDARD
TZOFFSETFROM:-0500
TZOFFSETTO:-0600
TZNAME:CST
DTSTART:20241103T070000
END:STANDARD
END:VTIMEZONE
BEGIN:VEVENT
DTSTART;TZID=America/Chicago:20230917T083000
DTEND;TZID=America/Chicago:20230917T090000
DTSTAMP:20260424T204425
CREATED:20230526T163854Z
LAST-MODIFIED:20230526T163854Z
UID:10004276-1694939400-1694941200@www.flcduluth.org
SUMMARY:Worship
DESCRIPTION:
URL:https://www.flcduluth.org/event/worship-8/2023-09-17/
CATEGORIES:Worship
END:VEVENT
BEGIN:VEVENT
DTSTART;TZID=America/Chicago:20230910T110000
DTEND;TZID=America/Chicago:20230910T120000
DTSTAMP:20260424T204425
CREATED:20230620T185936Z
LAST-MODIFIED:20230620T185936Z
UID:10004425-1694343600-1694347200@www.flcduluth.org
SUMMARY:Worship
DESCRIPTION:
URL:https://www.flcduluth.org/event/worship-9/2023-09-10/
CATEGORIES:Worship
END:VEVENT
BEGIN:VEVENT
DTSTART;TZID=America/Chicago:20230910T083000
DTEND;TZID=America/Chicago:20230910T090000
DTSTAMP:20260424T204425
CREATED:20230526T163854Z
LAST-MODIFIED:20230526T163854Z
UID:10004275-1694334600-1694336400@www.flcduluth.org
SUMMARY:Worship
DESCRIPTION:
URL:https://www.flcduluth.org/event/worship-8/2023-09-10/
CATEGORIES:Worship
END:VEVENT
BEGIN:VEVENT
DTSTART;TZID=America/Chicago:20230903T100000
DTEND;TZID=America/Chicago:20230903T110000
DTSTAMP:20260424T204425
CREATED:20230810T181317Z
LAST-MODIFIED:20230810T181319Z
UID:10004274-1693735200-1693738800@www.flcduluth.org
SUMMARY:Worship
DESCRIPTION:
URL:https://www.flcduluth.org/event/worship-8-2/
CATEGORIES:Worship
END:VEVENT
BEGIN:VEVENT
DTSTART;TZID=America/Chicago:20230827T100000
DTEND;TZID=America/Chicago:20230827T110000
DTSTAMP:20260424T204425
CREATED:20230526T164108Z
LAST-MODIFIED:20230526T164109Z
UID:10004264-1693130400-1693134000@www.flcduluth.org
SUMMARY:Worship
DESCRIPTION:
URL:https://www.flcduluth.org/event/worship-7-2/2023-08-27/
CATEGORIES:Worship
END:VEVENT
BEGIN:VEVENT
DTSTART;TZID=America/Chicago:20230827T083000
DTEND;TZID=America/Chicago:20230827T090000
DTSTAMP:20260424T204425
CREATED:20230526T163854Z
LAST-MODIFIED:20230526T163854Z
UID:10004273-1693125000-1693126800@www.flcduluth.org
SUMMARY:Worship
DESCRIPTION:
URL:https://www.flcduluth.org/event/worship-8/2023-08-27/
CATEGORIES:Worship
END:VEVENT
BEGIN:VEVENT
DTSTART;TZID=America/Chicago:20230820T100000
DTEND;TZID=America/Chicago:20230820T110000
DTSTAMP:20260424T204425
CREATED:20230526T164108Z
LAST-MODIFIED:20230526T164109Z
UID:10004263-1692525600-1692529200@www.flcduluth.org
SUMMARY:Worship
DESCRIPTION:
URL:https://www.flcduluth.org/event/worship-7-2/2023-08-20/
CATEGORIES:Worship
END:VEVENT
BEGIN:VEVENT
DTSTART;TZID=America/Chicago:20230820T083000
DTEND;TZID=America/Chicago:20230820T090000
DTSTAMP:20260424T204425
CREATED:20230526T163854Z
LAST-MODIFIED:20230526T163854Z
UID:10004272-1692520200-1692522000@www.flcduluth.org
SUMMARY:Worship
DESCRIPTION:
URL:https://www.flcduluth.org/event/worship-8/2023-08-20/
CATEGORIES:Worship
END:VEVENT
BEGIN:VEVENT
DTSTART;TZID=America/Chicago:20230813T100000
DTEND;TZID=America/Chicago:20230813T110000
DTSTAMP:20260424T204425
CREATED:20230526T164108Z
LAST-MODIFIED:20230526T164109Z
UID:10004262-1691920800-1691924400@www.flcduluth.org
SUMMARY:Worship
DESCRIPTION:
URL:https://www.flcduluth.org/event/worship-7-2/2023-08-13/
CATEGORIES:Worship
END:VEVENT
BEGIN:VEVENT
DTSTART;TZID=America/Chicago:20230813T083000
DTEND;TZID=America/Chicago:20230813T090000
DTSTAMP:20260424T204425
CREATED:20230526T163854Z
LAST-MODIFIED:20230526T163854Z
UID:10004271-1691915400-1691917200@www.flcduluth.org
SUMMARY:Worship
DESCRIPTION:
URL:https://www.flcduluth.org/event/worship-8/2023-08-13/
CATEGORIES:Worship
END:VEVENT
BEGIN:VEVENT
DTSTART;TZID=America/Chicago:20230806T100000
DTEND;TZID=America/Chicago:20230806T110000
DTSTAMP:20260424T204425
CREATED:20230526T164108Z
LAST-MODIFIED:20230526T164109Z
UID:10004261-1691316000-1691319600@www.flcduluth.org
SUMMARY:Worship
DESCRIPTION:
URL:https://www.flcduluth.org/event/worship-7-2/2023-08-06/
CATEGORIES:Worship
END:VEVENT
BEGIN:VEVENT
DTSTART;TZID=America/Chicago:20230806T083000
DTEND;TZID=America/Chicago:20230806T090000
DTSTAMP:20260424T204425
CREATED:20230526T163854Z
LAST-MODIFIED:20230526T163854Z
UID:10004270-1691310600-1691312400@www.flcduluth.org
SUMMARY:Worship
DESCRIPTION:
URL:https://www.flcduluth.org/event/worship-8/2023-08-06/
CATEGORIES:Worship
END:VEVENT
BEGIN:VEVENT
DTSTART;TZID=America/Chicago:20230730T100000
DTEND;TZID=America/Chicago:20230730T110000
DTSTAMP:20260424T204425
CREATED:20230526T164108Z
LAST-MODIFIED:20230526T164109Z
UID:10004260-1690711200-1690714800@www.flcduluth.org
SUMMARY:Worship
DESCRIPTION:
URL:https://www.flcduluth.org/event/worship-7-2/2023-07-30/
CATEGORIES:Worship
END:VEVENT
BEGIN:VEVENT
DTSTART;TZID=America/Chicago:20230730T083000
DTEND;TZID=America/Chicago:20230730T090000
DTSTAMP:20260424T204425
CREATED:20230526T163854Z
LAST-MODIFIED:20230526T163854Z
UID:10004269-1690705800-1690707600@www.flcduluth.org
SUMMARY:Worship
DESCRIPTION:
URL:https://www.flcduluth.org/event/worship-8/2023-07-30/
CATEGORIES:Worship
END:VEVENT
BEGIN:VEVENT
DTSTART;TZID=America/Chicago:20230723T100000
DTEND;TZID=America/Chicago:20230723T110000
DTSTAMP:20260424T204425
CREATED:20230526T164108Z
LAST-MODIFIED:20230526T164109Z
UID:10004259-1690106400-1690110000@www.flcduluth.org
SUMMARY:Worship
DESCRIPTION:
URL:https://www.flcduluth.org/event/worship-7-2/2023-07-23/
CATEGORIES:Worship
END:VEVENT
BEGIN:VEVENT
DTSTART;TZID=America/Chicago:20230723T083000
DTEND;TZID=America/Chicago:20230723T090000
DTSTAMP:20260424T204425
CREATED:20230526T163854Z
LAST-MODIFIED:20230526T163854Z
UID:10004268-1690101000-1690102800@www.flcduluth.org
SUMMARY:Worship
DESCRIPTION:
URL:https://www.flcduluth.org/event/worship-8/2023-07-23/
CATEGORIES:Worship
END:VEVENT
BEGIN:VEVENT
DTSTART;TZID=America/Chicago:20230716T100000
DTEND;TZID=America/Chicago:20230716T110000
DTSTAMP:20260424T204425
CREATED:20230526T164108Z
LAST-MODIFIED:20230526T164109Z
UID:10004258-1689501600-1689505200@www.flcduluth.org
SUMMARY:Worship
DESCRIPTION:
URL:https://www.flcduluth.org/event/worship-7-2/2023-07-16/
CATEGORIES:Worship
END:VEVENT
BEGIN:VEVENT
DTSTART;TZID=America/Chicago:20230716T083000
DTEND;TZID=America/Chicago:20230716T090000
DTSTAMP:20260424T204425
CREATED:20230526T163854Z
LAST-MODIFIED:20230526T163854Z
UID:10004267-1689496200-1689498000@www.flcduluth.org
SUMMARY:Worship
DESCRIPTION:
URL:https://www.flcduluth.org/event/worship-8/2023-07-16/
CATEGORIES:Worship
END:VEVENT
BEGIN:VEVENT
DTSTART;TZID=America/Chicago:20230709T100000
DTEND;TZID=America/Chicago:20230709T110000
DTSTAMP:20260424T204425
CREATED:20230526T164108Z
LAST-MODIFIED:20230526T164109Z
UID:10004257-1688896800-1688900400@www.flcduluth.org
SUMMARY:Worship
DESCRIPTION:
URL:https://www.flcduluth.org/event/worship-7-2/2023-07-09/
CATEGORIES:Worship
END:VEVENT
BEGIN:VEVENT
DTSTART;TZID=America/Chicago:20230709T083000
DTEND;TZID=America/Chicago:20230709T090000
DTSTAMP:20260424T204425
CREATED:20230526T163854Z
LAST-MODIFIED:20230526T163854Z
UID:10004266-1688891400-1688893200@www.flcduluth.org
SUMMARY:Worship
DESCRIPTION:
URL:https://www.flcduluth.org/event/worship-8/2023-07-09/
CATEGORIES:Worship
END:VEVENT
BEGIN:VEVENT
DTSTART;TZID=America/Chicago:20230702T100000
DTEND;TZID=America/Chicago:20230702T110000
DTSTAMP:20260424T204425
CREATED:20230314T173316Z
LAST-MODIFIED:20230526T163722Z
UID:10004256-1688292000-1688295600@www.flcduluth.org
SUMMARY:Worship
DESCRIPTION:
URL:https://www.flcduluth.org/event/worship-7/2023-07-02/
CATEGORIES:Worship
END:VEVENT
BEGIN:VEVENT
DTSTART;TZID=America/Chicago:20230702T083000
DTEND;TZID=America/Chicago:20230702T090000
DTSTAMP:20260424T204425
CREATED:20230526T163854Z
LAST-MODIFIED:20230526T163854Z
UID:10004265-1688286600-1688288400@www.flcduluth.org
SUMMARY:Worship
DESCRIPTION:
URL:https://www.flcduluth.org/event/worship-8/2023-07-02/
CATEGORIES:Worship
END:VEVENT
BEGIN:VEVENT
DTSTART;TZID=America/Chicago:20230625T100000
DTEND;TZID=America/Chicago:20230625T110000
DTSTAMP:20260424T204425
CREATED:20230314T173316Z
LAST-MODIFIED:20230526T163722Z
UID:10004255-1687687200-1687690800@www.flcduluth.org
SUMMARY:Worship
DESCRIPTION:
URL:https://www.flcduluth.org/event/worship-7/2023-06-25/
CATEGORIES:Worship
END:VEVENT
BEGIN:VEVENT
DTSTART;TZID=America/Chicago:20230618T100000
DTEND;TZID=America/Chicago:20230618T110000
DTSTAMP:20260424T204425
CREATED:20230314T173316Z
LAST-MODIFIED:20230526T163722Z
UID:10004254-1687082400-1687086000@www.flcduluth.org
SUMMARY:Worship
DESCRIPTION:
URL:https://www.flcduluth.org/event/worship-7/2023-06-18/
CATEGORIES:Worship
END:VEVENT
BEGIN:VEVENT
DTSTART;TZID=America/Chicago:20230611T100000
DTEND;TZID=America/Chicago:20230611T110000
DTSTAMP:20260424T204425
CREATED:20230314T173316Z
LAST-MODIFIED:20230526T163722Z
UID:10004253-1686477600-1686481200@www.flcduluth.org
SUMMARY:Worship
DESCRIPTION:
URL:https://www.flcduluth.org/event/worship-7/2023-06-11/
CATEGORIES:Worship
END:VEVENT
BEGIN:VEVENT
DTSTART;TZID=America/Chicago:20230604T100000
DTEND;TZID=America/Chicago:20230604T110000
DTSTAMP:20260424T204425
CREATED:20230314T173316Z
LAST-MODIFIED:20230526T163722Z
UID:10004252-1685872800-1685876400@www.flcduluth.org
SUMMARY:Worship
DESCRIPTION:
URL:https://www.flcduluth.org/event/worship-7/2023-06-04/
CATEGORIES:Worship
END:VEVENT
BEGIN:VEVENT
DTSTART;TZID=America/Chicago:20230528T100000
DTEND;TZID=America/Chicago:20230528T110000
DTSTAMP:20260424T204425
CREATED:20230314T173316Z
LAST-MODIFIED:20230526T163722Z
UID:10004231-1685268000-1685271600@www.flcduluth.org
SUMMARY:Worship
DESCRIPTION:
URL:https://www.flcduluth.org/event/worship-7/2023-05-28/
CATEGORIES:Worship
END:VEVENT
BEGIN:VEVENT
DTSTART;TZID=America/Chicago:20230521T110000
DTEND;TZID=America/Chicago:20230521T120000
DTSTAMP:20260424T204425
CREATED:20230110T215041Z
LAST-MODIFIED:20230110T215608Z
UID:10001998-1684666800-1684670400@www.flcduluth.org
SUMMARY:Worship
DESCRIPTION:
URL:https://www.flcduluth.org/event/worship-6/2023-05-21/
LOCATION:First Lutheran Church\, 1100 E. Superior St.\, Duluth\, MN\, 55802\, United States
CATEGORIES:Worship
END:VEVENT
BEGIN:VEVENT
DTSTART;TZID=America/Chicago:20230521T083000
DTEND;TZID=America/Chicago:20230521T093000
DTSTAMP:20260424T204425
CREATED:20230110T214941Z
LAST-MODIFIED:20230110T215643Z
UID:10001926-1684657800-1684661400@www.flcduluth.org
SUMMARY:Worship
DESCRIPTION:
URL:https://www.flcduluth.org/event/worship-5/2023-05-21/
LOCATION:First Lutheran Church\, 1100 E. Superior St.\, Duluth\, MN\, 55802\, United States
CATEGORIES:Worship
END:VEVENT
BEGIN:VEVENT
DTSTART;TZID=America/Chicago:20230514T110000
DTEND;TZID=America/Chicago:20230514T120000
DTSTAMP:20260424T204425
CREATED:20230110T215041Z
LAST-MODIFIED:20230110T215608Z
UID:10001997-1684062000-1684065600@www.flcduluth.org
SUMMARY:Worship
DESCRIPTION:
URL:https://www.flcduluth.org/event/worship-6/2023-05-14/
LOCATION:First Lutheran Church\, 1100 E. Superior St.\, Duluth\, MN\, 55802\, United States
CATEGORIES:Worship
END:VEVENT
END:VCALENDAR