BEGIN:VCALENDAR
VERSION:2.0
PRODID:-//First Lutheran Church - ECPv6.15.20//NONSGML v1.0//EN
CALSCALE:GREGORIAN
METHOD:PUBLISH
X-ORIGINAL-URL:https://www.flcduluth.org
X-WR-CALDESC:Events for First Lutheran Church
REFRESH-INTERVAL;VALUE=DURATION:PT1H
X-Robots-Tag:noindex
X-PUBLISHED-TTL:PT1H
BEGIN:VTIMEZONE
TZID:America/Chicago
BEGIN:DAYLIGHT
TZOFFSETFROM:-0600
TZOFFSETTO:-0500
TZNAME:CDT
DTSTART:20210314T080000
END:DAYLIGHT
BEGIN:STANDARD
TZOFFSETFROM:-0500
TZOFFSETTO:-0600
TZNAME:CST
DTSTART:20211107T070000
END:STANDARD
BEGIN:DAYLIGHT
TZOFFSETFROM:-0600
TZOFFSETTO:-0500
TZNAME:CDT
DTSTART:20220313T080000
END:DAYLIGHT
BEGIN:STANDARD
TZOFFSETFROM:-0500
TZOFFSETTO:-0600
TZNAME:CST
DTSTART:20221106T070000
END:STANDARD
BEGIN:DAYLIGHT
TZOFFSETFROM:-0600
TZOFFSETTO:-0500
TZNAME:CDT
DTSTART:20230312T080000
END:DAYLIGHT
BEGIN:STANDARD
TZOFFSETFROM:-0500
TZOFFSETTO:-0600
TZNAME:CST
DTSTART:20231105T070000
END:STANDARD
END:VTIMEZONE
BEGIN:VEVENT
DTSTART;TZID=America/Chicago:20221211T083000
DTEND;TZID=America/Chicago:20221211T093000
DTSTAMP:20260425T064821
CREATED:20220404T183553Z
LAST-MODIFIED:20220404T183553Z
UID:10001642-1670747400-1670751000@www.flcduluth.org
SUMMARY:Worship
DESCRIPTION:
URL:https://www.flcduluth.org/event/worship-3/2022-12-11/
CATEGORIES:Worship
END:VEVENT
BEGIN:VEVENT
DTSTART;TZID=America/Chicago:20221204T110000
DTEND;TZID=America/Chicago:20221204T120000
DTSTAMP:20260425T064821
CREATED:20220404T183900Z
LAST-MODIFIED:20220815T185803Z
UID:10001674-1670151600-1670155200@www.flcduluth.org
SUMMARY:Worship
DESCRIPTION:
URL:https://www.flcduluth.org/event/worship-4-2022-09-11/2022-12-04/
CATEGORIES:Worship
END:VEVENT
BEGIN:VEVENT
DTSTART;TZID=America/Chicago:20221204T083000
DTEND;TZID=America/Chicago:20221204T093000
DTSTAMP:20260425T064821
CREATED:20220404T183553Z
LAST-MODIFIED:20220404T183553Z
UID:10001641-1670142600-1670146200@www.flcduluth.org
SUMMARY:Worship
DESCRIPTION:
URL:https://www.flcduluth.org/event/worship-3/2022-12-04/
CATEGORIES:Worship
END:VEVENT
BEGIN:VEVENT
DTSTART;TZID=America/Chicago:20221127T110000
DTEND;TZID=America/Chicago:20221127T120000
DTSTAMP:20260425T064821
CREATED:20220404T183900Z
LAST-MODIFIED:20220815T185803Z
UID:10001673-1669546800-1669550400@www.flcduluth.org
SUMMARY:Worship
DESCRIPTION:
URL:https://www.flcduluth.org/event/worship-4-2022-09-11/2022-11-27/
CATEGORIES:Worship
END:VEVENT
BEGIN:VEVENT
DTSTART;TZID=America/Chicago:20221127T083000
DTEND;TZID=America/Chicago:20221127T093000
DTSTAMP:20260425T064821
CREATED:20220404T183553Z
LAST-MODIFIED:20220404T183553Z
UID:10001640-1669537800-1669541400@www.flcduluth.org
SUMMARY:Worship
DESCRIPTION:
URL:https://www.flcduluth.org/event/worship-3/2022-11-27/
CATEGORIES:Worship
END:VEVENT
BEGIN:VEVENT
DTSTART;TZID=America/Chicago:20221120T110000
DTEND;TZID=America/Chicago:20221120T120000
DTSTAMP:20260425T064821
CREATED:20220404T183900Z
LAST-MODIFIED:20220815T185803Z
UID:10001672-1668942000-1668945600@www.flcduluth.org
SUMMARY:Worship
DESCRIPTION:
URL:https://www.flcduluth.org/event/worship-4-2022-09-11/2022-11-20/
CATEGORIES:Worship
END:VEVENT
BEGIN:VEVENT
DTSTART;TZID=America/Chicago:20221120T083000
DTEND;TZID=America/Chicago:20221120T093000
DTSTAMP:20260425T064821
CREATED:20220404T183553Z
LAST-MODIFIED:20220404T183553Z
UID:10001639-1668933000-1668936600@www.flcduluth.org
SUMMARY:Worship
DESCRIPTION:
URL:https://www.flcduluth.org/event/worship-3/2022-11-20/
CATEGORIES:Worship
END:VEVENT
BEGIN:VEVENT
DTSTART;TZID=America/Chicago:20221113T110000
DTEND;TZID=America/Chicago:20221113T120000
DTSTAMP:20260425T064821
CREATED:20220404T183900Z
LAST-MODIFIED:20220815T185803Z
UID:10001671-1668337200-1668340800@www.flcduluth.org
SUMMARY:Worship
DESCRIPTION:
URL:https://www.flcduluth.org/event/worship-4-2022-09-11/2022-11-13/
CATEGORIES:Worship
END:VEVENT
BEGIN:VEVENT
DTSTART;TZID=America/Chicago:20221113T083000
DTEND;TZID=America/Chicago:20221113T093000
DTSTAMP:20260425T064821
CREATED:20220404T183553Z
LAST-MODIFIED:20220404T183553Z
UID:10001638-1668328200-1668331800@www.flcduluth.org
SUMMARY:Worship
DESCRIPTION:
URL:https://www.flcduluth.org/event/worship-3/2022-11-13/
CATEGORIES:Worship
END:VEVENT
BEGIN:VEVENT
DTSTART;TZID=America/Chicago:20221106T110000
DTEND;TZID=America/Chicago:20221106T120000
DTSTAMP:20260425T064821
CREATED:20220404T183900Z
LAST-MODIFIED:20220815T185803Z
UID:10001670-1667732400-1667736000@www.flcduluth.org
SUMMARY:Worship
DESCRIPTION:
URL:https://www.flcduluth.org/event/worship-4-2022-09-11/2022-11-06/
CATEGORIES:Worship
END:VEVENT
BEGIN:VEVENT
DTSTART;TZID=America/Chicago:20221106T083000
DTEND;TZID=America/Chicago:20221106T093000
DTSTAMP:20260425T064821
CREATED:20220404T183553Z
LAST-MODIFIED:20220404T183553Z
UID:10001637-1667723400-1667727000@www.flcduluth.org
SUMMARY:Worship
DESCRIPTION:
URL:https://www.flcduluth.org/event/worship-3/2022-11-06/
CATEGORIES:Worship
END:VEVENT
BEGIN:VEVENT
DTSTART;TZID=America/Chicago:20221030T110000
DTEND;TZID=America/Chicago:20221030T120000
DTSTAMP:20260425T064821
CREATED:20220404T183900Z
LAST-MODIFIED:20220815T185803Z
UID:10001669-1667127600-1667131200@www.flcduluth.org
SUMMARY:Worship
DESCRIPTION:
URL:https://www.flcduluth.org/event/worship-4-2022-09-11/2022-10-30/
CATEGORIES:Worship
END:VEVENT
BEGIN:VEVENT
DTSTART;TZID=America/Chicago:20221030T083000
DTEND;TZID=America/Chicago:20221030T093000
DTSTAMP:20260425T064821
CREATED:20220404T183553Z
LAST-MODIFIED:20220404T183553Z
UID:10001636-1667118600-1667122200@www.flcduluth.org
SUMMARY:Worship
DESCRIPTION:
URL:https://www.flcduluth.org/event/worship-3/2022-10-30/
CATEGORIES:Worship
END:VEVENT
BEGIN:VEVENT
DTSTART;TZID=America/Chicago:20221023T110000
DTEND;TZID=America/Chicago:20221023T120000
DTSTAMP:20260425T064821
CREATED:20220404T183900Z
LAST-MODIFIED:20220815T185803Z
UID:10001668-1666522800-1666526400@www.flcduluth.org
SUMMARY:Worship
DESCRIPTION:
URL:https://www.flcduluth.org/event/worship-4-2022-09-11/2022-10-23/
CATEGORIES:Worship
END:VEVENT
BEGIN:VEVENT
DTSTART;TZID=America/Chicago:20221023T083000
DTEND;TZID=America/Chicago:20221023T093000
DTSTAMP:20260425T064821
CREATED:20220404T183553Z
LAST-MODIFIED:20220404T183553Z
UID:10001635-1666513800-1666517400@www.flcduluth.org
SUMMARY:Worship
DESCRIPTION:
URL:https://www.flcduluth.org/event/worship-3/2022-10-23/
CATEGORIES:Worship
END:VEVENT
BEGIN:VEVENT
DTSTART;TZID=America/Chicago:20221016T110000
DTEND;TZID=America/Chicago:20221016T120000
DTSTAMP:20260425T064821
CREATED:20220404T183900Z
LAST-MODIFIED:20220815T185803Z
UID:10001667-1665918000-1665921600@www.flcduluth.org
SUMMARY:Worship
DESCRIPTION:
URL:https://www.flcduluth.org/event/worship-4-2022-09-11/2022-10-16/
CATEGORIES:Worship
END:VEVENT
BEGIN:VEVENT
DTSTART;TZID=America/Chicago:20221016T083000
DTEND;TZID=America/Chicago:20221016T093000
DTSTAMP:20260425T064821
CREATED:20220404T183553Z
LAST-MODIFIED:20220404T183553Z
UID:10001634-1665909000-1665912600@www.flcduluth.org
SUMMARY:Worship
DESCRIPTION:
URL:https://www.flcduluth.org/event/worship-3/2022-10-16/
CATEGORIES:Worship
END:VEVENT
BEGIN:VEVENT
DTSTART;TZID=America/Chicago:20221009T110000
DTEND;TZID=America/Chicago:20221009T120000
DTSTAMP:20260425T064821
CREATED:20220404T183900Z
LAST-MODIFIED:20220815T185803Z
UID:10001666-1665313200-1665316800@www.flcduluth.org
SUMMARY:Worship
DESCRIPTION:
URL:https://www.flcduluth.org/event/worship-4-2022-09-11/2022-10-09/
CATEGORIES:Worship
END:VEVENT
BEGIN:VEVENT
DTSTART;TZID=America/Chicago:20221009T083000
DTEND;TZID=America/Chicago:20221009T093000
DTSTAMP:20260425T064821
CREATED:20220404T183553Z
LAST-MODIFIED:20220404T183553Z
UID:10001633-1665304200-1665307800@www.flcduluth.org
SUMMARY:Worship
DESCRIPTION:
URL:https://www.flcduluth.org/event/worship-3/2022-10-09/
CATEGORIES:Worship
END:VEVENT
BEGIN:VEVENT
DTSTART;TZID=America/Chicago:20221002T110000
DTEND;TZID=America/Chicago:20221002T120000
DTSTAMP:20260425T064821
CREATED:20220404T183900Z
LAST-MODIFIED:20220815T185803Z
UID:10001665-1664708400-1664712000@www.flcduluth.org
SUMMARY:Worship
DESCRIPTION:
URL:https://www.flcduluth.org/event/worship-4-2022-09-11/2022-10-02/
CATEGORIES:Worship
END:VEVENT
BEGIN:VEVENT
DTSTART;TZID=America/Chicago:20221002T083000
DTEND;TZID=America/Chicago:20221002T093000
DTSTAMP:20260425T064821
CREATED:20220404T183553Z
LAST-MODIFIED:20220404T183553Z
UID:10001632-1664699400-1664703000@www.flcduluth.org
SUMMARY:Worship
DESCRIPTION:
URL:https://www.flcduluth.org/event/worship-3/2022-10-02/
CATEGORIES:Worship
END:VEVENT
BEGIN:VEVENT
DTSTART;TZID=America/Chicago:20220925T110000
DTEND;TZID=America/Chicago:20220925T120000
DTSTAMP:20260425T064821
CREATED:20220404T183900Z
LAST-MODIFIED:20220815T185803Z
UID:10001664-1664103600-1664107200@www.flcduluth.org
SUMMARY:Worship
DESCRIPTION:
URL:https://www.flcduluth.org/event/worship-4-2022-09-11/2022-09-25/
CATEGORIES:Worship
END:VEVENT
BEGIN:VEVENT
DTSTART;TZID=America/Chicago:20220925T083000
DTEND;TZID=America/Chicago:20220925T093000
DTSTAMP:20260425T064821
CREATED:20220404T183553Z
LAST-MODIFIED:20220404T183553Z
UID:10001631-1664094600-1664098200@www.flcduluth.org
SUMMARY:Worship
DESCRIPTION:
URL:https://www.flcduluth.org/event/worship-3/2022-09-25/
CATEGORIES:Worship
END:VEVENT
BEGIN:VEVENT
DTSTART;TZID=America/Chicago:20220918T110000
DTEND;TZID=America/Chicago:20220918T120000
DTSTAMP:20260425T064821
CREATED:20220404T183900Z
LAST-MODIFIED:20220815T185803Z
UID:10001663-1663498800-1663502400@www.flcduluth.org
SUMMARY:Worship
DESCRIPTION:
URL:https://www.flcduluth.org/event/worship-4-2022-09-11/2022-09-18/
CATEGORIES:Worship
END:VEVENT
BEGIN:VEVENT
DTSTART;TZID=America/Chicago:20220918T083000
DTEND;TZID=America/Chicago:20220918T093000
DTSTAMP:20260425T064821
CREATED:20220404T183553Z
LAST-MODIFIED:20220404T183553Z
UID:10001630-1663489800-1663493400@www.flcduluth.org
SUMMARY:Worship
DESCRIPTION:
URL:https://www.flcduluth.org/event/worship-3/2022-09-18/
CATEGORIES:Worship
END:VEVENT
BEGIN:VEVENT
DTSTART;TZID=America/Chicago:20220911T110000
DTEND;TZID=America/Chicago:20220911T120000
DTSTAMP:20260425T064821
CREATED:20220404T183900Z
LAST-MODIFIED:20220815T185803Z
UID:10001662-1662894000-1662897600@www.flcduluth.org
SUMMARY:Worship
DESCRIPTION:
URL:https://www.flcduluth.org/event/worship-4-2022-09-11/2022-09-11/
CATEGORIES:Worship
END:VEVENT
BEGIN:VEVENT
DTSTART;TZID=America/Chicago:20220911T083000
DTEND;TZID=America/Chicago:20220911T093000
DTSTAMP:20260425T064821
CREATED:20220404T183553Z
LAST-MODIFIED:20220404T183553Z
UID:10001629-1662885000-1662888600@www.flcduluth.org
SUMMARY:Worship
DESCRIPTION:
URL:https://www.flcduluth.org/event/worship-3/2022-09-11/
CATEGORIES:Worship
END:VEVENT
BEGIN:VEVENT
DTSTART;TZID=America/Chicago:20220904T100000
DTEND;TZID=America/Chicago:20220904T110000
DTSTAMP:20260425T064821
CREATED:20220404T183900Z
LAST-MODIFIED:20220815T185634Z
UID:10001658-1662285600-1662289200@www.flcduluth.org
SUMMARY:Worship
DESCRIPTION:
URL:https://www.flcduluth.org/event/worship-4/
CATEGORIES:Worship
END:VEVENT
BEGIN:VEVENT
DTSTART;TZID=America/Chicago:20220904T083000
DTEND;TZID=America/Chicago:20220904T093000
DTSTAMP:20260425T064821
CREATED:20220404T183553Z
LAST-MODIFIED:20220404T183553Z
UID:10001628-1662280200-1662283800@www.flcduluth.org
SUMMARY:Worship
DESCRIPTION:
URL:https://www.flcduluth.org/event/worship-3/2022-09-04/
CATEGORIES:Worship
END:VEVENT
BEGIN:VEVENT
DTSTART;TZID=America/Chicago:20220828T100000
DTEND;TZID=America/Chicago:20220828T110000
DTSTAMP:20260425T064821
CREATED:20220404T183717Z
LAST-MODIFIED:20220615T174032Z
UID:10001651-1661680800-1661684400@www.flcduluth.org
SUMMARY:Worship in Leif Erikson Park
DESCRIPTION:
URL:https://www.flcduluth.org/event/worship-in-leif-erikson-park/2022-08-28/
CATEGORIES:Worship
END:VEVENT
END:VCALENDAR