BEGIN:VCALENDAR
VERSION:2.0
PRODID:-//First Lutheran Church - ECPv6.15.20//NONSGML v1.0//EN
CALSCALE:GREGORIAN
METHOD:PUBLISH
X-WR-CALNAME:First Lutheran Church
X-ORIGINAL-URL:https://www.flcduluth.org
X-WR-CALDESC:Events for First Lutheran Church
REFRESH-INTERVAL;VALUE=DURATION:PT1H
X-Robots-Tag:noindex
X-PUBLISHED-TTL:PT1H
BEGIN:VTIMEZONE
TZID:America/Chicago
BEGIN:DAYLIGHT
TZOFFSETFROM:-0600
TZOFFSETTO:-0500
TZNAME:CDT
DTSTART:20240310T080000
END:DAYLIGHT
BEGIN:STANDARD
TZOFFSETFROM:-0500
TZOFFSETTO:-0600
TZNAME:CST
DTSTART:20241103T070000
END:STANDARD
BEGIN:DAYLIGHT
TZOFFSETFROM:-0600
TZOFFSETTO:-0500
TZNAME:CDT
DTSTART:20250309T080000
END:DAYLIGHT
BEGIN:STANDARD
TZOFFSETFROM:-0500
TZOFFSETTO:-0600
TZNAME:CST
DTSTART:20251102T070000
END:STANDARD
BEGIN:DAYLIGHT
TZOFFSETFROM:-0600
TZOFFSETTO:-0500
TZNAME:CDT
DTSTART:20260308T080000
END:DAYLIGHT
BEGIN:STANDARD
TZOFFSETFROM:-0500
TZOFFSETTO:-0600
TZNAME:CST
DTSTART:20261101T070000
END:STANDARD
END:VTIMEZONE
BEGIN:VEVENT
DTSTART;TZID=America/Chicago:20250420T110000
DTEND;TZID=America/Chicago:20250420T120000
DTSTAMP:20260423T172710
CREATED:20240515T191948Z
LAST-MODIFIED:20250411T173105Z
UID:10006470-1745146800-1745150400@www.flcduluth.org
SUMMARY:Contemporary Worship
DESCRIPTION:
URL:https://www.flcduluth.org/event/worship-15/2025-04-20/
CATEGORIES:Worship
END:VEVENT
BEGIN:VEVENT
DTSTART;TZID=America/Chicago:20250420T083000
DTEND;TZID=America/Chicago:20250420T093000
DTSTAMP:20260423T172710
CREATED:20240515T192107Z
LAST-MODIFIED:20250411T172815Z
UID:10005911-1745137800-1745141400@www.flcduluth.org
SUMMARY:Traditional Worship
DESCRIPTION:
URL:https://www.flcduluth.org/event/worship-16/2025-04-20/
CATEGORIES:Worship
END:VEVENT
BEGIN:VEVENT
DTSTART;TZID=America/Chicago:20250419T190000
DTEND;TZID=America/Chicago:20250419T200000
DTSTAMP:20260423T172710
CREATED:20240319T174402Z
LAST-MODIFIED:20250411T175245Z
UID:10005734-1745089200-1745092800@www.flcduluth.org
SUMMARY:Easter Vigil
DESCRIPTION:
URL:https://www.flcduluth.org/event/easter-vigil-3/
CATEGORIES:Worship
END:VEVENT
BEGIN:VEVENT
DTSTART;TZID=America/Chicago:20250418T120000
DTEND;TZID=America/Chicago:20250418T130000
DTSTAMP:20260423T172710
CREATED:20240319T174225Z
LAST-MODIFIED:20250411T181109Z
UID:10005732-1744977600-1744981200@www.flcduluth.org
SUMMARY:Good Friday Worship Service
DESCRIPTION:
URL:https://www.flcduluth.org/event/good-friday-worship-service/
CATEGORIES:Worship
END:VEVENT
BEGIN:VEVENT
DTSTART;TZID=America/Chicago:20250417T190000
DTEND;TZID=America/Chicago:20250417T200000
DTSTAMP:20260423T172710
CREATED:20240319T174143Z
LAST-MODIFIED:20250411T181145Z
UID:10005731-1744916400-1744920000@www.flcduluth.org
SUMMARY:Maundy Thursday Worship Service
DESCRIPTION:
URL:https://www.flcduluth.org/event/maundy-thursday-worship-service/
CATEGORIES:Worship
END:VEVENT
BEGIN:VEVENT
DTSTART;TZID=America/Chicago:20250413T110000
DTEND;TZID=America/Chicago:20250413T120000
DTSTAMP:20260423T172710
CREATED:20240515T191948Z
LAST-MODIFIED:20250411T173105Z
UID:10006469-1744542000-1744545600@www.flcduluth.org
SUMMARY:Contemporary Worship
DESCRIPTION:
URL:https://www.flcduluth.org/event/worship-15/2025-04-13/
CATEGORIES:Worship
END:VEVENT
BEGIN:VEVENT
DTSTART;TZID=America/Chicago:20250413T083000
DTEND;TZID=America/Chicago:20250413T093000
DTSTAMP:20260423T172710
CREATED:20240515T192107Z
LAST-MODIFIED:20250411T172815Z
UID:10005910-1744533000-1744536600@www.flcduluth.org
SUMMARY:Traditional Worship
DESCRIPTION:
URL:https://www.flcduluth.org/event/worship-16/2025-04-13/
CATEGORIES:Worship
END:VEVENT
BEGIN:VEVENT
DTSTART;TZID=America/Chicago:20250406T110000
DTEND;TZID=America/Chicago:20250406T120000
DTSTAMP:20260423T172710
CREATED:20240515T191948Z
LAST-MODIFIED:20250411T173105Z
UID:10006468-1743937200-1743940800@www.flcduluth.org
SUMMARY:Contemporary Worship
DESCRIPTION:
URL:https://www.flcduluth.org/event/worship-15/2025-04-06/
CATEGORIES:Worship
END:VEVENT
BEGIN:VEVENT
DTSTART;TZID=America/Chicago:20250406T083000
DTEND;TZID=America/Chicago:20250406T093000
DTSTAMP:20260423T172710
CREATED:20240515T192107Z
LAST-MODIFIED:20250411T172815Z
UID:10005909-1743928200-1743931800@www.flcduluth.org
SUMMARY:Traditional Worship
DESCRIPTION:
URL:https://www.flcduluth.org/event/worship-16/2025-04-06/
CATEGORIES:Worship
END:VEVENT
BEGIN:VEVENT
DTSTART;TZID=America/Chicago:20250330T110000
DTEND;TZID=America/Chicago:20250330T120000
DTSTAMP:20260423T172710
CREATED:20240515T191948Z
LAST-MODIFIED:20250411T173105Z
UID:10006467-1743332400-1743336000@www.flcduluth.org
SUMMARY:Contemporary Worship
DESCRIPTION:
URL:https://www.flcduluth.org/event/worship-15/2025-03-30/
CATEGORIES:Worship
END:VEVENT
BEGIN:VEVENT
DTSTART;TZID=America/Chicago:20250330T083000
DTEND;TZID=America/Chicago:20250330T093000
DTSTAMP:20260423T172710
CREATED:20240515T192107Z
LAST-MODIFIED:20250411T172815Z
UID:10005908-1743323400-1743327000@www.flcduluth.org
SUMMARY:Traditional Worship
DESCRIPTION:
URL:https://www.flcduluth.org/event/worship-16/2025-03-30/
CATEGORIES:Worship
END:VEVENT
BEGIN:VEVENT
DTSTART;TZID=America/Chicago:20250323T110000
DTEND;TZID=America/Chicago:20250323T120000
DTSTAMP:20260423T172710
CREATED:20240515T191948Z
LAST-MODIFIED:20250411T173105Z
UID:10006466-1742727600-1742731200@www.flcduluth.org
SUMMARY:Contemporary Worship
DESCRIPTION:
URL:https://www.flcduluth.org/event/worship-15/2025-03-23/
CATEGORIES:Worship
END:VEVENT
BEGIN:VEVENT
DTSTART;TZID=America/Chicago:20250323T083000
DTEND;TZID=America/Chicago:20250323T093000
DTSTAMP:20260423T172710
CREATED:20240515T192107Z
LAST-MODIFIED:20250411T172815Z
UID:10005907-1742718600-1742722200@www.flcduluth.org
SUMMARY:Traditional Worship
DESCRIPTION:
URL:https://www.flcduluth.org/event/worship-16/2025-03-23/
CATEGORIES:Worship
END:VEVENT
BEGIN:VEVENT
DTSTART;TZID=America/Chicago:20250316T110000
DTEND;TZID=America/Chicago:20250316T120000
DTSTAMP:20260423T172710
CREATED:20240515T191948Z
LAST-MODIFIED:20250411T173105Z
UID:10006465-1742122800-1742126400@www.flcduluth.org
SUMMARY:Contemporary Worship
DESCRIPTION:
URL:https://www.flcduluth.org/event/worship-15/2025-03-16/
CATEGORIES:Worship
END:VEVENT
BEGIN:VEVENT
DTSTART;TZID=America/Chicago:20250316T083000
DTEND;TZID=America/Chicago:20250316T093000
DTSTAMP:20260423T172710
CREATED:20240515T192107Z
LAST-MODIFIED:20250411T172815Z
UID:10005906-1742113800-1742117400@www.flcduluth.org
SUMMARY:Traditional Worship
DESCRIPTION:
URL:https://www.flcduluth.org/event/worship-16/2025-03-16/
CATEGORIES:Worship
END:VEVENT
BEGIN:VEVENT
DTSTART;TZID=America/Chicago:20250309T110000
DTEND;TZID=America/Chicago:20250309T120000
DTSTAMP:20260423T172710
CREATED:20240515T191948Z
LAST-MODIFIED:20250411T173105Z
UID:10006464-1741518000-1741521600@www.flcduluth.org
SUMMARY:Contemporary Worship
DESCRIPTION:
URL:https://www.flcduluth.org/event/worship-15/2025-03-09/
CATEGORIES:Worship
END:VEVENT
BEGIN:VEVENT
DTSTART;TZID=America/Chicago:20250309T083000
DTEND;TZID=America/Chicago:20250309T093000
DTSTAMP:20260423T172710
CREATED:20240515T192107Z
LAST-MODIFIED:20250411T172815Z
UID:10005905-1741509000-1741512600@www.flcduluth.org
SUMMARY:Traditional Worship
DESCRIPTION:
URL:https://www.flcduluth.org/event/worship-16/2025-03-09/
CATEGORIES:Worship
END:VEVENT
BEGIN:VEVENT
DTSTART;TZID=America/Chicago:20250302T110000
DTEND;TZID=America/Chicago:20250302T120000
DTSTAMP:20260423T172710
CREATED:20240515T191948Z
LAST-MODIFIED:20250411T173105Z
UID:10006463-1740913200-1740916800@www.flcduluth.org
SUMMARY:Contemporary Worship
DESCRIPTION:
URL:https://www.flcduluth.org/event/worship-15/2025-03-02/
CATEGORIES:Worship
END:VEVENT
BEGIN:VEVENT
DTSTART;TZID=America/Chicago:20250302T083000
DTEND;TZID=America/Chicago:20250302T093000
DTSTAMP:20260423T172710
CREATED:20240515T192107Z
LAST-MODIFIED:20250411T172815Z
UID:10005904-1740904200-1740907800@www.flcduluth.org
SUMMARY:Traditional Worship
DESCRIPTION:
URL:https://www.flcduluth.org/event/worship-16/2025-03-02/
CATEGORIES:Worship
END:VEVENT
BEGIN:VEVENT
DTSTART;TZID=America/Chicago:20250223T110000
DTEND;TZID=America/Chicago:20250223T120000
DTSTAMP:20260423T172710
CREATED:20240515T191948Z
LAST-MODIFIED:20250411T173105Z
UID:10006462-1740308400-1740312000@www.flcduluth.org
SUMMARY:Contemporary Worship
DESCRIPTION:
URL:https://www.flcduluth.org/event/worship-15/2025-02-23/
CATEGORIES:Worship
END:VEVENT
BEGIN:VEVENT
DTSTART;TZID=America/Chicago:20250223T083000
DTEND;TZID=America/Chicago:20250223T093000
DTSTAMP:20260423T172710
CREATED:20240515T192107Z
LAST-MODIFIED:20250411T172815Z
UID:10005903-1740299400-1740303000@www.flcduluth.org
SUMMARY:Traditional Worship
DESCRIPTION:
URL:https://www.flcduluth.org/event/worship-16/2025-02-23/
CATEGORIES:Worship
END:VEVENT
BEGIN:VEVENT
DTSTART;TZID=America/Chicago:20250216T110000
DTEND;TZID=America/Chicago:20250216T120000
DTSTAMP:20260423T172710
CREATED:20240515T191948Z
LAST-MODIFIED:20250411T173105Z
UID:10006461-1739703600-1739707200@www.flcduluth.org
SUMMARY:Contemporary Worship
DESCRIPTION:
URL:https://www.flcduluth.org/event/worship-15/2025-02-16/
CATEGORIES:Worship
END:VEVENT
BEGIN:VEVENT
DTSTART;TZID=America/Chicago:20250216T083000
DTEND;TZID=America/Chicago:20250216T093000
DTSTAMP:20260423T172710
CREATED:20240515T192107Z
LAST-MODIFIED:20250411T172815Z
UID:10005902-1739694600-1739698200@www.flcduluth.org
SUMMARY:Traditional Worship
DESCRIPTION:
URL:https://www.flcduluth.org/event/worship-16/2025-02-16/
CATEGORIES:Worship
END:VEVENT
BEGIN:VEVENT
DTSTART;TZID=America/Chicago:20250209T110000
DTEND;TZID=America/Chicago:20250209T120000
DTSTAMP:20260423T172710
CREATED:20240515T191948Z
LAST-MODIFIED:20250411T173105Z
UID:10006460-1739098800-1739102400@www.flcduluth.org
SUMMARY:Contemporary Worship
DESCRIPTION:
URL:https://www.flcduluth.org/event/worship-15/2025-02-09/
CATEGORIES:Worship
END:VEVENT
BEGIN:VEVENT
DTSTART;TZID=America/Chicago:20250209T083000
DTEND;TZID=America/Chicago:20250209T093000
DTSTAMP:20260423T172710
CREATED:20240515T192107Z
LAST-MODIFIED:20250411T172815Z
UID:10005901-1739089800-1739093400@www.flcduluth.org
SUMMARY:Traditional Worship
DESCRIPTION:
URL:https://www.flcduluth.org/event/worship-16/2025-02-09/
CATEGORIES:Worship
END:VEVENT
BEGIN:VEVENT
DTSTART;TZID=America/Chicago:20250202T110000
DTEND;TZID=America/Chicago:20250202T120000
DTSTAMP:20260423T172710
CREATED:20240515T191948Z
LAST-MODIFIED:20250411T173105Z
UID:10006459-1738494000-1738497600@www.flcduluth.org
SUMMARY:Contemporary Worship
DESCRIPTION:
URL:https://www.flcduluth.org/event/worship-15/2025-02-02/
CATEGORIES:Worship
END:VEVENT
BEGIN:VEVENT
DTSTART;TZID=America/Chicago:20250202T083000
DTEND;TZID=America/Chicago:20250202T093000
DTSTAMP:20260423T172710
CREATED:20240515T192107Z
LAST-MODIFIED:20250411T172815Z
UID:10005900-1738485000-1738488600@www.flcduluth.org
SUMMARY:Traditional Worship
DESCRIPTION:
URL:https://www.flcduluth.org/event/worship-16/2025-02-02/
CATEGORIES:Worship
END:VEVENT
BEGIN:VEVENT
DTSTART;TZID=America/Chicago:20250126T110000
DTEND;TZID=America/Chicago:20250126T120000
DTSTAMP:20260423T172710
CREATED:20240515T191948Z
LAST-MODIFIED:20250411T173105Z
UID:10006458-1737889200-1737892800@www.flcduluth.org
SUMMARY:Contemporary Worship
DESCRIPTION:
URL:https://www.flcduluth.org/event/worship-15/2025-01-26/
CATEGORIES:Worship
END:VEVENT
BEGIN:VEVENT
DTSTART;TZID=America/Chicago:20250126T083000
DTEND;TZID=America/Chicago:20250126T093000
DTSTAMP:20260423T172710
CREATED:20240515T192107Z
LAST-MODIFIED:20250411T172815Z
UID:10005899-1737880200-1737883800@www.flcduluth.org
SUMMARY:Traditional Worship
DESCRIPTION:
URL:https://www.flcduluth.org/event/worship-16/2025-01-26/
CATEGORIES:Worship
END:VEVENT
BEGIN:VEVENT
DTSTART;TZID=America/Chicago:20250119T110000
DTEND;TZID=America/Chicago:20250119T120000
DTSTAMP:20260423T172710
CREATED:20240515T191948Z
LAST-MODIFIED:20250411T173105Z
UID:10006457-1737284400-1737288000@www.flcduluth.org
SUMMARY:Contemporary Worship
DESCRIPTION:
URL:https://www.flcduluth.org/event/worship-15/2025-01-19/
CATEGORIES:Worship
END:VEVENT
END:VCALENDAR