BEGIN:VCALENDAR
VERSION:2.0
PRODID:-//First Lutheran Church - ECPv6.15.20//NONSGML v1.0//EN
CALSCALE:GREGORIAN
METHOD:PUBLISH
X-WR-CALNAME:First Lutheran Church
X-ORIGINAL-URL:https://www.flcduluth.org
X-WR-CALDESC:Events for First Lutheran Church
REFRESH-INTERVAL;VALUE=DURATION:PT1H
X-Robots-Tag:noindex
X-PUBLISHED-TTL:PT1H
BEGIN:VTIMEZONE
TZID:America/Chicago
BEGIN:DAYLIGHT
TZOFFSETFROM:-0600
TZOFFSETTO:-0500
TZNAME:CDT
DTSTART:20230312T080000
END:DAYLIGHT
BEGIN:STANDARD
TZOFFSETFROM:-0500
TZOFFSETTO:-0600
TZNAME:CST
DTSTART:20231105T070000
END:STANDARD
BEGIN:DAYLIGHT
TZOFFSETFROM:-0600
TZOFFSETTO:-0500
TZNAME:CDT
DTSTART:20240310T080000
END:DAYLIGHT
BEGIN:STANDARD
TZOFFSETFROM:-0500
TZOFFSETTO:-0600
TZNAME:CST
DTSTART:20241103T070000
END:STANDARD
BEGIN:DAYLIGHT
TZOFFSETFROM:-0600
TZOFFSETTO:-0500
TZNAME:CDT
DTSTART:20250309T080000
END:DAYLIGHT
BEGIN:STANDARD
TZOFFSETFROM:-0500
TZOFFSETTO:-0600
TZNAME:CST
DTSTART:20251102T070000
END:STANDARD
END:VTIMEZONE
BEGIN:VEVENT
DTSTART;TZID=America/Chicago:20241204T113000
DTEND;TZID=America/Chicago:20241204T130000
DTSTAMP:20260424T112906
CREATED:20230110T220749Z
LAST-MODIFIED:20230110T220749Z
UID:10002833-1733311800-1733317200@www.flcduluth.org
SUMMARY:Al-Anon
DESCRIPTION:
URL:https://www.flcduluth.org/event/al-anon/2024-12-04/
CATEGORIES:Outside Group
END:VEVENT
BEGIN:VEVENT
DTSTART;TZID=America/Chicago:20241204T100000
DTEND;TZID=America/Chicago:20241204T113000
DTSTAMP:20260424T112906
CREATED:20230829T193211Z
LAST-MODIFIED:20230829T193211Z
UID:10004919-1733306400-1733311800@www.flcduluth.org
SUMMARY:Staff Meeting
DESCRIPTION:
URL:https://www.flcduluth.org/event/staff-meeting-3/2024-12-04/
CATEGORIES:Staff
END:VEVENT
BEGIN:VEVENT
DTSTART;TZID=America/Chicago:20241203T063000
DTEND;TZID=America/Chicago:20241203T193000
DTSTAMP:20260424T112906
CREATED:20230110T220428Z
LAST-MODIFIED:20230110T220428Z
UID:10002572-1733207400-1733254200@www.flcduluth.org
SUMMARY:Tai-Chi
DESCRIPTION:
URL:https://www.flcduluth.org/event/tai-chi-3/2024-12-03/
CATEGORIES:Outside Group
END:VEVENT
BEGIN:VEVENT
DTSTART;TZID=America/Chicago:20241202T193000
DTEND;TZID=America/Chicago:20241202T210000
DTSTAMP:20260424T112906
CREATED:20230110T215936Z
LAST-MODIFIED:20230110T215936Z
UID:10002296-1733167800-1733173200@www.flcduluth.org
SUMMARY:Nar-Anon Meeting
DESCRIPTION:
URL:https://www.flcduluth.org/event/nar-anon-meeting/2024-12-02/
CATEGORIES:Outside Group
END:VEVENT
BEGIN:VEVENT
DTSTART;TZID=America/Chicago:20241202T190000
DTEND;TZID=America/Chicago:20241202T203000
DTSTAMP:20260424T112907
CREATED:20230201T213018Z
LAST-MODIFIED:20230201T213018Z
UID:10003990-1733166000-1733171400@www.flcduluth.org
SUMMARY:Ruth Gathering
DESCRIPTION:
URL:https://www.flcduluth.org/event/ruth-gathering-3/2024-12-02/
LOCATION:First Lutheran Church\, 1100 E. Superior St.\, Duluth\, MN\, 55802\, United States
CATEGORIES:Women's Ministry
END:VEVENT
BEGIN:VEVENT
DTSTART;TZID=America/Chicago:20241201T110000
DTEND;TZID=America/Chicago:20241201T120000
DTSTAMP:20260424T112907
CREATED:20240515T191948Z
LAST-MODIFIED:20250411T173105Z
UID:10006450-1733050800-1733054400@www.flcduluth.org
SUMMARY:Contemporary Worship
DESCRIPTION:
URL:https://www.flcduluth.org/event/worship-15/2024-12-01/
CATEGORIES:Worship
END:VEVENT
BEGIN:VEVENT
DTSTART;TZID=America/Chicago:20241201T083000
DTEND;TZID=America/Chicago:20241201T093000
DTSTAMP:20260424T112907
CREATED:20240515T192107Z
LAST-MODIFIED:20250411T172815Z
UID:10005891-1733041800-1733045400@www.flcduluth.org
SUMMARY:Traditional Worship
DESCRIPTION:
URL:https://www.flcduluth.org/event/worship-16/2024-12-01/
CATEGORIES:Worship
END:VEVENT
BEGIN:VEVENT
DTSTART;TZID=America/Chicago:20241130T090000
DTEND;TZID=America/Chicago:20241130T110000
DTSTAMP:20260424T112907
CREATED:20230110T222829Z
LAST-MODIFIED:20230110T223030Z
UID:10003467-1732957200-1732964400@www.flcduluth.org
SUMMARY:AA
DESCRIPTION:
URL:https://www.flcduluth.org/event/aa-3/2024-11-30/
CATEGORIES:Outside Group
END:VEVENT
BEGIN:VEVENT
DTSTART;TZID=America/Chicago:20241127T113000
DTEND;TZID=America/Chicago:20241127T130000
DTSTAMP:20260424T112907
CREATED:20230110T220749Z
LAST-MODIFIED:20230110T220749Z
UID:10002832-1732707000-1732712400@www.flcduluth.org
SUMMARY:Al-Anon
DESCRIPTION:
URL:https://www.flcduluth.org/event/al-anon/2024-11-27/
CATEGORIES:Outside Group
END:VEVENT
BEGIN:VEVENT
DTSTART;TZID=America/Chicago:20241127T100000
DTEND;TZID=America/Chicago:20241127T113000
DTSTAMP:20260424T112907
CREATED:20230829T193211Z
LAST-MODIFIED:20230829T193211Z
UID:10004918-1732701600-1732707000@www.flcduluth.org
SUMMARY:Staff Meeting
DESCRIPTION:
URL:https://www.flcduluth.org/event/staff-meeting-3/2024-11-27/
CATEGORIES:Staff
END:VEVENT
BEGIN:VEVENT
DTSTART;TZID=America/Chicago:20241126T063000
DTEND;TZID=America/Chicago:20241126T193000
DTSTAMP:20260424T112907
CREATED:20230110T220428Z
LAST-MODIFIED:20230110T220428Z
UID:10002571-1732602600-1732649400@www.flcduluth.org
SUMMARY:Tai-Chi
DESCRIPTION:
URL:https://www.flcduluth.org/event/tai-chi-3/2024-11-26/
CATEGORIES:Outside Group
END:VEVENT
BEGIN:VEVENT
DTSTART;TZID=America/Chicago:20241125T193000
DTEND;TZID=America/Chicago:20241125T210000
DTSTAMP:20260424T112907
CREATED:20230110T215936Z
LAST-MODIFIED:20230110T215936Z
UID:10002295-1732563000-1732568400@www.flcduluth.org
SUMMARY:Nar-Anon Meeting
DESCRIPTION:
URL:https://www.flcduluth.org/event/nar-anon-meeting/2024-11-25/
CATEGORIES:Outside Group
END:VEVENT
BEGIN:VEVENT
DTSTART;TZID=America/Chicago:20241124T120000
DTEND;TZID=America/Chicago:20241124T133000
DTSTAMP:20260424T112907
CREATED:20230110T224319Z
LAST-MODIFIED:20230110T224319Z
UID:10003721-1732449600-1732455000@www.flcduluth.org
SUMMARY:Community Meal
DESCRIPTION:
URL:https://www.flcduluth.org/event/community-meal-3/2024-11-24/
END:VEVENT
BEGIN:VEVENT
DTSTART;TZID=America/Chicago:20241124T110000
DTEND;TZID=America/Chicago:20241124T120000
DTSTAMP:20260424T112907
CREATED:20240515T191948Z
LAST-MODIFIED:20250411T173105Z
UID:10006449-1732446000-1732449600@www.flcduluth.org
SUMMARY:Contemporary Worship
DESCRIPTION:
URL:https://www.flcduluth.org/event/worship-15/2024-11-24/
CATEGORIES:Worship
END:VEVENT
BEGIN:VEVENT
DTSTART;TZID=America/Chicago:20241124T083000
DTEND;TZID=America/Chicago:20241124T093000
DTSTAMP:20260424T112907
CREATED:20240515T192107Z
LAST-MODIFIED:20250411T172815Z
UID:10005890-1732437000-1732440600@www.flcduluth.org
SUMMARY:Traditional Worship
DESCRIPTION:
URL:https://www.flcduluth.org/event/worship-16/2024-11-24/
CATEGORIES:Worship
END:VEVENT
BEGIN:VEVENT
DTSTART;TZID=America/Chicago:20241123T090000
DTEND;TZID=America/Chicago:20241123T110000
DTSTAMP:20260424T112907
CREATED:20230110T222829Z
LAST-MODIFIED:20230110T223030Z
UID:10003466-1732352400-1732359600@www.flcduluth.org
SUMMARY:AA
DESCRIPTION:
URL:https://www.flcduluth.org/event/aa-3/2024-11-23/
CATEGORIES:Outside Group
END:VEVENT
BEGIN:VEVENT
DTSTART;TZID=America/Chicago:20241121T183000
DTEND;TZID=America/Chicago:20241121T200000
DTSTAMP:20260424T112907
CREATED:20230110T223406Z
LAST-MODIFIED:20230110T223406Z
UID:10003654-1732213800-1732219200@www.flcduluth.org
SUMMARY:District AA Meeting
DESCRIPTION:
URL:https://www.flcduluth.org/event/district-aa-meeting-4/2024-11-21/
CATEGORIES:Outside Group
END:VEVENT
BEGIN:VEVENT
DTSTART;TZID=America/Chicago:20241121T170000
DTEND;TZID=America/Chicago:20241121T183000
DTSTAMP:20260424T112907
CREATED:20230706T191139Z
LAST-MODIFIED:20230706T191139Z
UID:10004531-1732208400-1732213800@www.flcduluth.org
SUMMARY:Finance Meeting
DESCRIPTION:
URL:https://www.flcduluth.org/event/finance-meeting-8/2024-11-21/
CATEGORIES:Committee Meetings
END:VEVENT
BEGIN:VEVENT
DTSTART;TZID=America/Chicago:20241120T113000
DTEND;TZID=America/Chicago:20241120T130000
DTSTAMP:20260424T112907
CREATED:20230110T220749Z
LAST-MODIFIED:20230110T220749Z
UID:10002831-1732102200-1732107600@www.flcduluth.org
SUMMARY:Al-Anon
DESCRIPTION:
URL:https://www.flcduluth.org/event/al-anon/2024-11-20/
CATEGORIES:Outside Group
END:VEVENT
BEGIN:VEVENT
DTSTART;TZID=America/Chicago:20241120T100000
DTEND;TZID=America/Chicago:20241120T113000
DTSTAMP:20260424T112907
CREATED:20230829T193211Z
LAST-MODIFIED:20230829T193211Z
UID:10004917-1732096800-1732102200@www.flcduluth.org
SUMMARY:Staff Meeting
DESCRIPTION:
URL:https://www.flcduluth.org/event/staff-meeting-3/2024-11-20/
CATEGORIES:Staff
END:VEVENT
BEGIN:VEVENT
DTSTART;TZID=America/Chicago:20241119T063000
DTEND;TZID=America/Chicago:20241119T193000
DTSTAMP:20260424T112907
CREATED:20230110T220428Z
LAST-MODIFIED:20230110T220428Z
UID:10002570-1731997800-1732044600@www.flcduluth.org
SUMMARY:Tai-Chi
DESCRIPTION:
URL:https://www.flcduluth.org/event/tai-chi-3/2024-11-19/
CATEGORIES:Outside Group
END:VEVENT
BEGIN:VEVENT
DTSTART;TZID=America/Chicago:20241118T193000
DTEND;TZID=America/Chicago:20241118T210000
DTSTAMP:20260424T112907
CREATED:20230110T215936Z
LAST-MODIFIED:20230110T215936Z
UID:10002294-1731958200-1731963600@www.flcduluth.org
SUMMARY:Nar-Anon Meeting
DESCRIPTION:
URL:https://www.flcduluth.org/event/nar-anon-meeting/2024-11-18/
CATEGORIES:Outside Group
END:VEVENT
BEGIN:VEVENT
DTSTART;TZID=America/Chicago:20241117T110000
DTEND;TZID=America/Chicago:20241117T120000
DTSTAMP:20260424T112907
CREATED:20240515T191948Z
LAST-MODIFIED:20250411T173105Z
UID:10006448-1731841200-1731844800@www.flcduluth.org
SUMMARY:Contemporary Worship
DESCRIPTION:
URL:https://www.flcduluth.org/event/worship-15/2024-11-17/
CATEGORIES:Worship
END:VEVENT
BEGIN:VEVENT
DTSTART;TZID=America/Chicago:20241117T094500
DTEND;TZID=America/Chicago:20241117T104500
DTSTAMP:20260424T112907
CREATED:20240515T192436Z
LAST-MODIFIED:20250411T173459Z
UID:10005950-1731836700-1731840300@www.flcduluth.org
SUMMARY:Sunday School
DESCRIPTION:
URL:https://www.flcduluth.org/event/sunday-school-8/2024-11-17/
END:VEVENT
BEGIN:VEVENT
DTSTART;TZID=America/Chicago:20241117T083000
DTEND;TZID=America/Chicago:20241117T093000
DTSTAMP:20260424T112907
CREATED:20240515T192107Z
LAST-MODIFIED:20250411T172815Z
UID:10005889-1731832200-1731835800@www.flcduluth.org
SUMMARY:Traditional Worship
DESCRIPTION:
URL:https://www.flcduluth.org/event/worship-16/2024-11-17/
CATEGORIES:Worship
END:VEVENT
BEGIN:VEVENT
DTSTART;TZID=America/Chicago:20241116T090000
DTEND;TZID=America/Chicago:20241116T110000
DTSTAMP:20260424T112907
CREATED:20230110T222829Z
LAST-MODIFIED:20230110T223030Z
UID:10003465-1731747600-1731754800@www.flcduluth.org
SUMMARY:AA
DESCRIPTION:
URL:https://www.flcduluth.org/event/aa-3/2024-11-16/
CATEGORIES:Outside Group
END:VEVENT
BEGIN:VEVENT
DTSTART;TZID=America/Chicago:20241113T113000
DTEND;TZID=America/Chicago:20241113T130000
DTSTAMP:20260424T112907
CREATED:20230110T220749Z
LAST-MODIFIED:20230110T220749Z
UID:10002830-1731497400-1731502800@www.flcduluth.org
SUMMARY:Al-Anon
DESCRIPTION:
URL:https://www.flcduluth.org/event/al-anon/2024-11-13/
CATEGORIES:Outside Group
END:VEVENT
BEGIN:VEVENT
DTSTART;TZID=America/Chicago:20241113T100000
DTEND;TZID=America/Chicago:20241113T113000
DTSTAMP:20260424T112907
CREATED:20230829T193211Z
LAST-MODIFIED:20230829T193211Z
UID:10004916-1731492000-1731497400@www.flcduluth.org
SUMMARY:Staff Meeting
DESCRIPTION:
URL:https://www.flcduluth.org/event/staff-meeting-3/2024-11-13/
CATEGORIES:Staff
END:VEVENT
BEGIN:VEVENT
DTSTART;TZID=America/Chicago:20241112T063000
DTEND;TZID=America/Chicago:20241112T193000
DTSTAMP:20260424T112907
CREATED:20230110T220428Z
LAST-MODIFIED:20230110T220428Z
UID:10002569-1731393000-1731439800@www.flcduluth.org
SUMMARY:Tai-Chi
DESCRIPTION:
URL:https://www.flcduluth.org/event/tai-chi-3/2024-11-12/
CATEGORIES:Outside Group
END:VEVENT
BEGIN:VEVENT
DTSTART;TZID=America/Chicago:20241111T193000
DTEND;TZID=America/Chicago:20241111T210000
DTSTAMP:20260424T112907
CREATED:20230110T215936Z
LAST-MODIFIED:20230110T215936Z
UID:10002293-1731353400-1731358800@www.flcduluth.org
SUMMARY:Nar-Anon Meeting
DESCRIPTION:
URL:https://www.flcduluth.org/event/nar-anon-meeting/2024-11-11/
CATEGORIES:Outside Group
END:VEVENT
END:VCALENDAR