BEGIN:VCALENDAR
VERSION:2.0
PRODID:-//First Lutheran Church - ECPv6.15.20//NONSGML v1.0//EN
CALSCALE:GREGORIAN
METHOD:PUBLISH
X-WR-CALNAME:First Lutheran Church
X-ORIGINAL-URL:https://www.flcduluth.org
X-WR-CALDESC:Events for First Lutheran Church
REFRESH-INTERVAL;VALUE=DURATION:PT1H
X-Robots-Tag:noindex
X-PUBLISHED-TTL:PT1H
BEGIN:VTIMEZONE
TZID:America/Chicago
BEGIN:DAYLIGHT
TZOFFSETFROM:-0600
TZOFFSETTO:-0500
TZNAME:CDT
DTSTART:20230312T080000
END:DAYLIGHT
BEGIN:STANDARD
TZOFFSETFROM:-0500
TZOFFSETTO:-0600
TZNAME:CST
DTSTART:20231105T070000
END:STANDARD
BEGIN:DAYLIGHT
TZOFFSETFROM:-0600
TZOFFSETTO:-0500
TZNAME:CDT
DTSTART:20240310T080000
END:DAYLIGHT
BEGIN:STANDARD
TZOFFSETFROM:-0500
TZOFFSETTO:-0600
TZNAME:CST
DTSTART:20241103T070000
END:STANDARD
BEGIN:DAYLIGHT
TZOFFSETFROM:-0600
TZOFFSETTO:-0500
TZNAME:CDT
DTSTART:20250309T080000
END:DAYLIGHT
BEGIN:STANDARD
TZOFFSETFROM:-0500
TZOFFSETTO:-0600
TZNAME:CST
DTSTART:20251102T070000
END:STANDARD
END:VTIMEZONE
BEGIN:VEVENT
DTSTART;TZID=America/Chicago:20241020T083000
DTEND;TZID=America/Chicago:20241020T093000
DTSTAMP:20260424T095048
CREATED:20240515T192107Z
LAST-MODIFIED:20250411T172815Z
UID:10005885-1729413000-1729416600@www.flcduluth.org
SUMMARY:Traditional Worship
DESCRIPTION:
URL:https://www.flcduluth.org/event/worship-16/2024-10-20/
CATEGORIES:Worship
END:VEVENT
BEGIN:VEVENT
DTSTART;TZID=America/Chicago:20241020T094500
DTEND;TZID=America/Chicago:20241020T104500
DTSTAMP:20260424T095048
CREATED:20240515T192436Z
LAST-MODIFIED:20250411T173459Z
UID:10005949-1729417500-1729421100@www.flcduluth.org
SUMMARY:Sunday School
DESCRIPTION:
URL:https://www.flcduluth.org/event/sunday-school-8/2024-10-20/
END:VEVENT
BEGIN:VEVENT
DTSTART;TZID=America/Chicago:20241020T110000
DTEND;TZID=America/Chicago:20241020T120000
DTSTAMP:20260424T095048
CREATED:20240515T191948Z
LAST-MODIFIED:20250411T173105Z
UID:10006444-1729422000-1729425600@www.flcduluth.org
SUMMARY:Contemporary Worship
DESCRIPTION:
URL:https://www.flcduluth.org/event/worship-15/2024-10-20/
CATEGORIES:Worship
END:VEVENT
BEGIN:VEVENT
DTSTART;TZID=America/Chicago:20241021T193000
DTEND;TZID=America/Chicago:20241021T210000
DTSTAMP:20260424T095048
CREATED:20230110T215936Z
LAST-MODIFIED:20230110T215936Z
UID:10002290-1729539000-1729544400@www.flcduluth.org
SUMMARY:Nar-Anon Meeting
DESCRIPTION:
URL:https://www.flcduluth.org/event/nar-anon-meeting/2024-10-21/
CATEGORIES:Outside Group
END:VEVENT
BEGIN:VEVENT
DTSTART;TZID=America/Chicago:20241022T063000
DTEND;TZID=America/Chicago:20241022T193000
DTSTAMP:20260424T095048
CREATED:20230110T220428Z
LAST-MODIFIED:20230110T220428Z
UID:10002566-1729578600-1729625400@www.flcduluth.org
SUMMARY:Tai-Chi
DESCRIPTION:
URL:https://www.flcduluth.org/event/tai-chi-3/2024-10-22/
CATEGORIES:Outside Group
END:VEVENT
BEGIN:VEVENT
DTSTART;TZID=America/Chicago:20241023T100000
DTEND;TZID=America/Chicago:20241023T113000
DTSTAMP:20260424T095048
CREATED:20230829T193211Z
LAST-MODIFIED:20230829T193211Z
UID:10004913-1729677600-1729683000@www.flcduluth.org
SUMMARY:Staff Meeting
DESCRIPTION:
URL:https://www.flcduluth.org/event/staff-meeting-3/2024-10-23/
CATEGORIES:Staff
END:VEVENT
BEGIN:VEVENT
DTSTART;TZID=America/Chicago:20241023T113000
DTEND;TZID=America/Chicago:20241023T130000
DTSTAMP:20260424T095048
CREATED:20230110T220749Z
LAST-MODIFIED:20230110T220749Z
UID:10002827-1729683000-1729688400@www.flcduluth.org
SUMMARY:Al-Anon
DESCRIPTION:
URL:https://www.flcduluth.org/event/al-anon/2024-10-23/
CATEGORIES:Outside Group
END:VEVENT
BEGIN:VEVENT
DTSTART;TZID=America/Chicago:20241026T090000
DTEND;TZID=America/Chicago:20241026T110000
DTSTAMP:20260424T095048
CREATED:20230110T222829Z
LAST-MODIFIED:20230110T223030Z
UID:10003462-1729933200-1729940400@www.flcduluth.org
SUMMARY:AA
DESCRIPTION:
URL:https://www.flcduluth.org/event/aa-3/2024-10-26/
CATEGORIES:Outside Group
END:VEVENT
BEGIN:VEVENT
DTSTART;TZID=America/Chicago:20241027T083000
DTEND;TZID=America/Chicago:20241027T093000
DTSTAMP:20260424T095048
CREATED:20240515T192107Z
LAST-MODIFIED:20250411T172815Z
UID:10005886-1730017800-1730021400@www.flcduluth.org
SUMMARY:Traditional Worship
DESCRIPTION:
URL:https://www.flcduluth.org/event/worship-16/2024-10-27/
CATEGORIES:Worship
END:VEVENT
BEGIN:VEVENT
DTSTART;TZID=America/Chicago:20241027T110000
DTEND;TZID=America/Chicago:20241027T120000
DTSTAMP:20260424T095048
CREATED:20240515T191948Z
LAST-MODIFIED:20250411T173105Z
UID:10006445-1730026800-1730030400@www.flcduluth.org
SUMMARY:Contemporary Worship
DESCRIPTION:
URL:https://www.flcduluth.org/event/worship-15/2024-10-27/
CATEGORIES:Worship
END:VEVENT
BEGIN:VEVENT
DTSTART;TZID=America/Chicago:20241027T120000
DTEND;TZID=America/Chicago:20241027T133000
DTSTAMP:20260424T095048
CREATED:20230110T224319Z
LAST-MODIFIED:20230110T224319Z
UID:10003720-1730030400-1730035800@www.flcduluth.org
SUMMARY:Community Meal
DESCRIPTION:
URL:https://www.flcduluth.org/event/community-meal-3/2024-10-27/
END:VEVENT
BEGIN:VEVENT
DTSTART;TZID=America/Chicago:20241028T193000
DTEND;TZID=America/Chicago:20241028T210000
DTSTAMP:20260424T095048
CREATED:20230110T215936Z
LAST-MODIFIED:20230110T215936Z
UID:10002291-1730143800-1730149200@www.flcduluth.org
SUMMARY:Nar-Anon Meeting
DESCRIPTION:
URL:https://www.flcduluth.org/event/nar-anon-meeting/2024-10-28/
CATEGORIES:Outside Group
END:VEVENT
BEGIN:VEVENT
DTSTART;TZID=America/Chicago:20241029T063000
DTEND;TZID=America/Chicago:20241029T193000
DTSTAMP:20260424T095048
CREATED:20230110T220428Z
LAST-MODIFIED:20230110T220428Z
UID:10002567-1730183400-1730230200@www.flcduluth.org
SUMMARY:Tai-Chi
DESCRIPTION:
URL:https://www.flcduluth.org/event/tai-chi-3/2024-10-29/
CATEGORIES:Outside Group
END:VEVENT
BEGIN:VEVENT
DTSTART;TZID=America/Chicago:20241030T100000
DTEND;TZID=America/Chicago:20241030T113000
DTSTAMP:20260424T095048
CREATED:20230829T193211Z
LAST-MODIFIED:20230829T193211Z
UID:10004914-1730282400-1730287800@www.flcduluth.org
SUMMARY:Staff Meeting
DESCRIPTION:
URL:https://www.flcduluth.org/event/staff-meeting-3/2024-10-30/
CATEGORIES:Staff
END:VEVENT
BEGIN:VEVENT
DTSTART;TZID=America/Chicago:20241030T113000
DTEND;TZID=America/Chicago:20241030T130000
DTSTAMP:20260424T095048
CREATED:20230110T220749Z
LAST-MODIFIED:20230110T220749Z
UID:10002828-1730287800-1730293200@www.flcduluth.org
SUMMARY:Al-Anon
DESCRIPTION:
URL:https://www.flcduluth.org/event/al-anon/2024-10-30/
CATEGORIES:Outside Group
END:VEVENT
BEGIN:VEVENT
DTSTART;TZID=America/Chicago:20241102T090000
DTEND;TZID=America/Chicago:20241102T110000
DTSTAMP:20260424T095048
CREATED:20230110T222829Z
LAST-MODIFIED:20230110T223030Z
UID:10003463-1730538000-1730545200@www.flcduluth.org
SUMMARY:AA
DESCRIPTION:
URL:https://www.flcduluth.org/event/aa-3/2024-11-02/
CATEGORIES:Outside Group
END:VEVENT
BEGIN:VEVENT
DTSTART;TZID=America/Chicago:20241103T083000
DTEND;TZID=America/Chicago:20241103T093000
DTSTAMP:20260424T095048
CREATED:20240515T192107Z
LAST-MODIFIED:20250411T172815Z
UID:10005887-1730622600-1730626200@www.flcduluth.org
SUMMARY:Traditional Worship
DESCRIPTION:
URL:https://www.flcduluth.org/event/worship-16/2024-11-03/
CATEGORIES:Worship
END:VEVENT
BEGIN:VEVENT
DTSTART;TZID=America/Chicago:20241103T110000
DTEND;TZID=America/Chicago:20241103T120000
DTSTAMP:20260424T095048
CREATED:20240515T191948Z
LAST-MODIFIED:20250411T173105Z
UID:10006446-1730631600-1730635200@www.flcduluth.org
SUMMARY:Contemporary Worship
DESCRIPTION:
URL:https://www.flcduluth.org/event/worship-15/2024-11-03/
CATEGORIES:Worship
END:VEVENT
BEGIN:VEVENT
DTSTART;TZID=America/Chicago:20241104T190000
DTEND;TZID=America/Chicago:20241104T203000
DTSTAMP:20260424T095048
CREATED:20230201T213018Z
LAST-MODIFIED:20230201T213018Z
UID:10003989-1730746800-1730752200@www.flcduluth.org
SUMMARY:Ruth Gathering
DESCRIPTION:
URL:https://www.flcduluth.org/event/ruth-gathering-3/2024-11-04/
LOCATION:First Lutheran Church\, 1100 E. Superior St.\, Duluth\, MN\, 55802\, United States
CATEGORIES:Women's Ministry
END:VEVENT
BEGIN:VEVENT
DTSTART;TZID=America/Chicago:20241104T193000
DTEND;TZID=America/Chicago:20241104T210000
DTSTAMP:20260424T095048
CREATED:20230110T215936Z
LAST-MODIFIED:20230110T215936Z
UID:10002292-1730748600-1730754000@www.flcduluth.org
SUMMARY:Nar-Anon Meeting
DESCRIPTION:
URL:https://www.flcduluth.org/event/nar-anon-meeting/2024-11-04/
CATEGORIES:Outside Group
END:VEVENT
BEGIN:VEVENT
DTSTART;TZID=America/Chicago:20241105T063000
DTEND;TZID=America/Chicago:20241105T193000
DTSTAMP:20260424T095048
CREATED:20230110T220428Z
LAST-MODIFIED:20230110T220428Z
UID:10002568-1730788200-1730835000@www.flcduluth.org
SUMMARY:Tai-Chi
DESCRIPTION:
URL:https://www.flcduluth.org/event/tai-chi-3/2024-11-05/
CATEGORIES:Outside Group
END:VEVENT
BEGIN:VEVENT
DTSTART;TZID=America/Chicago:20241106T100000
DTEND;TZID=America/Chicago:20241106T113000
DTSTAMP:20260424T095048
CREATED:20230829T193211Z
LAST-MODIFIED:20230829T193211Z
UID:10004915-1730887200-1730892600@www.flcduluth.org
SUMMARY:Staff Meeting
DESCRIPTION:
URL:https://www.flcduluth.org/event/staff-meeting-3/2024-11-06/
CATEGORIES:Staff
END:VEVENT
BEGIN:VEVENT
DTSTART;TZID=America/Chicago:20241106T113000
DTEND;TZID=America/Chicago:20241106T130000
DTSTAMP:20260424T095048
CREATED:20230110T220749Z
LAST-MODIFIED:20230110T220749Z
UID:10002829-1730892600-1730898000@www.flcduluth.org
SUMMARY:Al-Anon
DESCRIPTION:
URL:https://www.flcduluth.org/event/al-anon/2024-11-06/
CATEGORIES:Outside Group
END:VEVENT
BEGIN:VEVENT
DTSTART;TZID=America/Chicago:20241107T180000
DTEND;TZID=America/Chicago:20241107T200000
DTSTAMP:20260424T095048
CREATED:20230706T191437Z
LAST-MODIFIED:20230706T191439Z
UID:10004590-1731002400-1731009600@www.flcduluth.org
SUMMARY:Vision Council Meeting
DESCRIPTION:
URL:https://www.flcduluth.org/event/vision-council-meeting-2-2-2/2024-11-07/
CATEGORIES:Committee Meetings
END:VEVENT
BEGIN:VEVENT
DTSTART;TZID=America/Chicago:20241109T090000
DTEND;TZID=America/Chicago:20241109T110000
DTSTAMP:20260424T095048
CREATED:20230110T222829Z
LAST-MODIFIED:20230110T223030Z
UID:10003464-1731142800-1731150000@www.flcduluth.org
SUMMARY:AA
DESCRIPTION:
URL:https://www.flcduluth.org/event/aa-3/2024-11-09/
CATEGORIES:Outside Group
END:VEVENT
BEGIN:VEVENT
DTSTART;TZID=America/Chicago:20241110T083000
DTEND;TZID=America/Chicago:20241110T093000
DTSTAMP:20260424T095048
CREATED:20240515T192107Z
LAST-MODIFIED:20250411T172815Z
UID:10005888-1731227400-1731231000@www.flcduluth.org
SUMMARY:Traditional Worship
DESCRIPTION:
URL:https://www.flcduluth.org/event/worship-16/2024-11-10/
CATEGORIES:Worship
END:VEVENT
BEGIN:VEVENT
DTSTART;TZID=America/Chicago:20241110T110000
DTEND;TZID=America/Chicago:20241110T120000
DTSTAMP:20260424T095048
CREATED:20240515T191948Z
LAST-MODIFIED:20250411T173105Z
UID:10006447-1731236400-1731240000@www.flcduluth.org
SUMMARY:Contemporary Worship
DESCRIPTION:
URL:https://www.flcduluth.org/event/worship-15/2024-11-10/
CATEGORIES:Worship
END:VEVENT
BEGIN:VEVENT
DTSTART;TZID=America/Chicago:20241111T193000
DTEND;TZID=America/Chicago:20241111T210000
DTSTAMP:20260424T095048
CREATED:20230110T215936Z
LAST-MODIFIED:20230110T215936Z
UID:10002293-1731353400-1731358800@www.flcduluth.org
SUMMARY:Nar-Anon Meeting
DESCRIPTION:
URL:https://www.flcduluth.org/event/nar-anon-meeting/2024-11-11/
CATEGORIES:Outside Group
END:VEVENT
BEGIN:VEVENT
DTSTART;TZID=America/Chicago:20241112T063000
DTEND;TZID=America/Chicago:20241112T193000
DTSTAMP:20260424T095048
CREATED:20230110T220428Z
LAST-MODIFIED:20230110T220428Z
UID:10002569-1731393000-1731439800@www.flcduluth.org
SUMMARY:Tai-Chi
DESCRIPTION:
URL:https://www.flcduluth.org/event/tai-chi-3/2024-11-12/
CATEGORIES:Outside Group
END:VEVENT
BEGIN:VEVENT
DTSTART;TZID=America/Chicago:20241113T100000
DTEND;TZID=America/Chicago:20241113T113000
DTSTAMP:20260424T095048
CREATED:20230829T193211Z
LAST-MODIFIED:20230829T193211Z
UID:10004916-1731492000-1731497400@www.flcduluth.org
SUMMARY:Staff Meeting
DESCRIPTION:
URL:https://www.flcduluth.org/event/staff-meeting-3/2024-11-13/
CATEGORIES:Staff
END:VEVENT
END:VCALENDAR