BEGIN:VCALENDAR
VERSION:2.0
PRODID:-//First Lutheran Church - ECPv6.15.20//NONSGML v1.0//EN
CALSCALE:GREGORIAN
METHOD:PUBLISH
X-WR-CALNAME:First Lutheran Church
X-ORIGINAL-URL:https://www.flcduluth.org
X-WR-CALDESC:Events for First Lutheran Church
REFRESH-INTERVAL;VALUE=DURATION:PT1H
X-Robots-Tag:noindex
X-PUBLISHED-TTL:PT1H
BEGIN:VTIMEZONE
TZID:America/Chicago
BEGIN:DAYLIGHT
TZOFFSETFROM:-0600
TZOFFSETTO:-0500
TZNAME:CDT
DTSTART:20240310T080000
END:DAYLIGHT
BEGIN:STANDARD
TZOFFSETFROM:-0500
TZOFFSETTO:-0600
TZNAME:CST
DTSTART:20241103T070000
END:STANDARD
BEGIN:DAYLIGHT
TZOFFSETFROM:-0600
TZOFFSETTO:-0500
TZNAME:CDT
DTSTART:20250309T080000
END:DAYLIGHT
BEGIN:STANDARD
TZOFFSETFROM:-0500
TZOFFSETTO:-0600
TZNAME:CST
DTSTART:20251102T070000
END:STANDARD
BEGIN:DAYLIGHT
TZOFFSETFROM:-0600
TZOFFSETTO:-0500
TZNAME:CDT
DTSTART:20260308T080000
END:DAYLIGHT
BEGIN:STANDARD
TZOFFSETFROM:-0500
TZOFFSETTO:-0600
TZNAME:CST
DTSTART:20261101T070000
END:STANDARD
END:VTIMEZONE
BEGIN:VEVENT
DTSTART;TZID=America/Chicago:20250621T080000
DTEND;TZID=America/Chicago:20250621T120000
DTSTAMP:20260423T162222
CREATED:20240515T194755Z
LAST-MODIFIED:20250411T173347Z
UID:10006416-1750492800-1750507200@www.flcduluth.org
SUMMARY:Grandma's Marathon Cheering Group
DESCRIPTION:
URL:https://www.flcduluth.org/event/grandmas-marathon-cheering-group/
END:VEVENT
BEGIN:VEVENT
DTSTART;TZID=America/Chicago:20250621T090000
DTEND;TZID=America/Chicago:20250621T110000
DTSTAMP:20260423T162222
CREATED:20230110T222829Z
LAST-MODIFIED:20230110T223030Z
UID:10003496-1750496400-1750503600@www.flcduluth.org
SUMMARY:AA
DESCRIPTION:
URL:https://www.flcduluth.org/event/aa-3/2025-06-21/
CATEGORIES:Outside Group
END:VEVENT
BEGIN:VEVENT
DTSTART;TZID=America/Chicago:20250622T083000
DTEND;TZID=America/Chicago:20250622T093000
DTSTAMP:20260423T162222
CREATED:20240515T192107Z
LAST-MODIFIED:20250411T172815Z
UID:10005920-1750581000-1750584600@www.flcduluth.org
SUMMARY:Traditional Worship
DESCRIPTION:
URL:https://www.flcduluth.org/event/worship-16/2025-06-22/
CATEGORIES:Worship
END:VEVENT
BEGIN:VEVENT
DTSTART;TZID=America/Chicago:20250622T110000
DTEND;TZID=America/Chicago:20250622T120000
DTSTAMP:20260423T162222
CREATED:20240515T191948Z
LAST-MODIFIED:20250411T173105Z
UID:10006479-1750590000-1750593600@www.flcduluth.org
SUMMARY:Contemporary Worship
DESCRIPTION:
URL:https://www.flcduluth.org/event/worship-15/2025-06-22/
CATEGORIES:Worship
END:VEVENT
BEGIN:VEVENT
DTSTART;TZID=America/Chicago:20250623T193000
DTEND;TZID=America/Chicago:20250623T210000
DTSTAMP:20260423T162222
CREATED:20230110T215936Z
LAST-MODIFIED:20230110T215936Z
UID:10002325-1750707000-1750712400@www.flcduluth.org
SUMMARY:Nar-Anon Meeting
DESCRIPTION:
URL:https://www.flcduluth.org/event/nar-anon-meeting/2025-06-23/
CATEGORIES:Outside Group
END:VEVENT
BEGIN:VEVENT
DTSTART;TZID=America/Chicago:20250624T063000
DTEND;TZID=America/Chicago:20250624T193000
DTSTAMP:20260423T162222
CREATED:20230110T220428Z
LAST-MODIFIED:20230110T220428Z
UID:10002601-1750746600-1750793400@www.flcduluth.org
SUMMARY:Tai-Chi
DESCRIPTION:
URL:https://www.flcduluth.org/event/tai-chi-3/2025-06-24/
CATEGORIES:Outside Group
END:VEVENT
BEGIN:VEVENT
DTSTART;TZID=America/Chicago:20250625T100000
DTEND;TZID=America/Chicago:20250625T113000
DTSTAMP:20260423T162222
CREATED:20230829T193211Z
LAST-MODIFIED:20230829T193211Z
UID:10004948-1750845600-1750851000@www.flcduluth.org
SUMMARY:Staff Meeting
DESCRIPTION:
URL:https://www.flcduluth.org/event/staff-meeting-3/2025-06-25/
CATEGORIES:Staff
END:VEVENT
BEGIN:VEVENT
DTSTART;TZID=America/Chicago:20250625T113000
DTEND;TZID=America/Chicago:20250625T130000
DTSTAMP:20260423T162222
CREATED:20230110T220749Z
LAST-MODIFIED:20230110T220749Z
UID:10002862-1750851000-1750856400@www.flcduluth.org
SUMMARY:Al-Anon
DESCRIPTION:
URL:https://www.flcduluth.org/event/al-anon/2025-06-25/
CATEGORIES:Outside Group
END:VEVENT
BEGIN:VEVENT
DTSTART;TZID=America/Chicago:20250628T090000
DTEND;TZID=America/Chicago:20250628T110000
DTSTAMP:20260423T162222
CREATED:20230110T222829Z
LAST-MODIFIED:20230110T223030Z
UID:10003497-1751101200-1751108400@www.flcduluth.org
SUMMARY:AA
DESCRIPTION:
URL:https://www.flcduluth.org/event/aa-3/2025-06-28/
CATEGORIES:Outside Group
END:VEVENT
BEGIN:VEVENT
DTSTART;TZID=America/Chicago:20250629T083000
DTEND;TZID=America/Chicago:20250629T093000
DTSTAMP:20260423T162222
CREATED:20240515T192107Z
LAST-MODIFIED:20250411T172815Z
UID:10005921-1751185800-1751189400@www.flcduluth.org
SUMMARY:Traditional Worship
DESCRIPTION:
URL:https://www.flcduluth.org/event/worship-16/2025-06-29/
CATEGORIES:Worship
END:VEVENT
BEGIN:VEVENT
DTSTART;TZID=America/Chicago:20250629T110000
DTEND;TZID=America/Chicago:20250629T120000
DTSTAMP:20260423T162222
CREATED:20240515T191948Z
LAST-MODIFIED:20250411T173105Z
UID:10006480-1751194800-1751198400@www.flcduluth.org
SUMMARY:Contemporary Worship
DESCRIPTION:
URL:https://www.flcduluth.org/event/worship-15/2025-06-29/
CATEGORIES:Worship
END:VEVENT
BEGIN:VEVENT
DTSTART;TZID=America/Chicago:20250629T120000
DTEND;TZID=America/Chicago:20250629T133000
DTSTAMP:20260423T162222
CREATED:20230110T224319Z
LAST-MODIFIED:20230110T224319Z
UID:10003728-1751198400-1751203800@www.flcduluth.org
SUMMARY:Community Meal
DESCRIPTION:
URL:https://www.flcduluth.org/event/community-meal-3/2025-06-29/
END:VEVENT
BEGIN:VEVENT
DTSTART;TZID=America/Chicago:20250630T193000
DTEND;TZID=America/Chicago:20250630T210000
DTSTAMP:20260423T162222
CREATED:20230110T215936Z
LAST-MODIFIED:20230110T215936Z
UID:10002326-1751311800-1751317200@www.flcduluth.org
SUMMARY:Nar-Anon Meeting
DESCRIPTION:
URL:https://www.flcduluth.org/event/nar-anon-meeting/2025-06-30/
CATEGORIES:Outside Group
END:VEVENT
BEGIN:VEVENT
DTSTART;TZID=America/Chicago:20250701T063000
DTEND;TZID=America/Chicago:20250701T193000
DTSTAMP:20260423T162222
CREATED:20230110T220428Z
LAST-MODIFIED:20230110T220428Z
UID:10002602-1751351400-1751398200@www.flcduluth.org
SUMMARY:Tai-Chi
DESCRIPTION:
URL:https://www.flcduluth.org/event/tai-chi-3/2025-07-01/
CATEGORIES:Outside Group
END:VEVENT
BEGIN:VEVENT
DTSTART;TZID=America/Chicago:20250702T100000
DTEND;TZID=America/Chicago:20250702T113000
DTSTAMP:20260423T162222
CREATED:20230829T193211Z
LAST-MODIFIED:20230829T193211Z
UID:10004949-1751450400-1751455800@www.flcduluth.org
SUMMARY:Staff Meeting
DESCRIPTION:
URL:https://www.flcduluth.org/event/staff-meeting-3/2025-07-02/
CATEGORIES:Staff
END:VEVENT
BEGIN:VEVENT
DTSTART;TZID=America/Chicago:20250702T113000
DTEND;TZID=America/Chicago:20250702T130000
DTSTAMP:20260423T162222
CREATED:20230110T220749Z
LAST-MODIFIED:20230110T220749Z
UID:10002863-1751455800-1751461200@www.flcduluth.org
SUMMARY:Al-Anon
DESCRIPTION:
URL:https://www.flcduluth.org/event/al-anon/2025-07-02/
CATEGORIES:Outside Group
END:VEVENT
BEGIN:VEVENT
DTSTART;TZID=America/Chicago:20250703T180000
DTEND;TZID=America/Chicago:20250703T200000
DTSTAMP:20260423T162222
CREATED:20230706T191437Z
LAST-MODIFIED:20230706T191439Z
UID:10004598-1751565600-1751572800@www.flcduluth.org
SUMMARY:Vision Council Meeting
DESCRIPTION:
URL:https://www.flcduluth.org/event/vision-council-meeting-2-2-2/2025-07-03/
CATEGORIES:Committee Meetings
END:VEVENT
BEGIN:VEVENT
DTSTART;TZID=America/Chicago:20250705T090000
DTEND;TZID=America/Chicago:20250705T110000
DTSTAMP:20260423T162222
CREATED:20230110T222829Z
LAST-MODIFIED:20230110T223030Z
UID:10003498-1751706000-1751713200@www.flcduluth.org
SUMMARY:AA
DESCRIPTION:
URL:https://www.flcduluth.org/event/aa-3/2025-07-05/
CATEGORIES:Outside Group
END:VEVENT
BEGIN:VEVENT
DTSTART;TZID=America/Chicago:20250706T083000
DTEND;TZID=America/Chicago:20250706T093000
DTSTAMP:20260423T162222
CREATED:20240515T192107Z
LAST-MODIFIED:20250411T172815Z
UID:10005922-1751790600-1751794200@www.flcduluth.org
SUMMARY:Traditional Worship
DESCRIPTION:
URL:https://www.flcduluth.org/event/worship-16/2025-07-06/
CATEGORIES:Worship
END:VEVENT
BEGIN:VEVENT
DTSTART;TZID=America/Chicago:20250706T110000
DTEND;TZID=America/Chicago:20250706T120000
DTSTAMP:20260423T162222
CREATED:20240515T191948Z
LAST-MODIFIED:20250411T173105Z
UID:10006481-1751799600-1751803200@www.flcduluth.org
SUMMARY:Contemporary Worship
DESCRIPTION:
URL:https://www.flcduluth.org/event/worship-15/2025-07-06/
CATEGORIES:Worship
END:VEVENT
BEGIN:VEVENT
DTSTART;TZID=America/Chicago:20250707T190000
DTEND;TZID=America/Chicago:20250707T203000
DTSTAMP:20260423T162222
CREATED:20230201T213018Z
LAST-MODIFIED:20230201T213018Z
UID:10003997-1751914800-1751920200@www.flcduluth.org
SUMMARY:Ruth Gathering
DESCRIPTION:
URL:https://www.flcduluth.org/event/ruth-gathering-3/2025-07-07/
LOCATION:First Lutheran Church\, 1100 E. Superior St.\, Duluth\, MN\, 55802\, United States
CATEGORIES:Women's Ministry
END:VEVENT
BEGIN:VEVENT
DTSTART;TZID=America/Chicago:20250707T193000
DTEND;TZID=America/Chicago:20250707T210000
DTSTAMP:20260423T162222
CREATED:20230110T215936Z
LAST-MODIFIED:20230110T215936Z
UID:10002327-1751916600-1751922000@www.flcduluth.org
SUMMARY:Nar-Anon Meeting
DESCRIPTION:
URL:https://www.flcduluth.org/event/nar-anon-meeting/2025-07-07/
CATEGORIES:Outside Group
END:VEVENT
BEGIN:VEVENT
DTSTART;TZID=America/Chicago:20250708T063000
DTEND;TZID=America/Chicago:20250708T193000
DTSTAMP:20260423T162222
CREATED:20230110T220428Z
LAST-MODIFIED:20230110T220428Z
UID:10002603-1751956200-1752003000@www.flcduluth.org
SUMMARY:Tai-Chi
DESCRIPTION:
URL:https://www.flcduluth.org/event/tai-chi-3/2025-07-08/
CATEGORIES:Outside Group
END:VEVENT
BEGIN:VEVENT
DTSTART;TZID=America/Chicago:20250709T100000
DTEND;TZID=America/Chicago:20250709T113000
DTSTAMP:20260423T162222
CREATED:20230829T193211Z
LAST-MODIFIED:20230829T193211Z
UID:10004950-1752055200-1752060600@www.flcduluth.org
SUMMARY:Staff Meeting
DESCRIPTION:
URL:https://www.flcduluth.org/event/staff-meeting-3/2025-07-09/
CATEGORIES:Staff
END:VEVENT
BEGIN:VEVENT
DTSTART;TZID=America/Chicago:20250709T113000
DTEND;TZID=America/Chicago:20250709T130000
DTSTAMP:20260423T162222
CREATED:20230110T220749Z
LAST-MODIFIED:20230110T220749Z
UID:10002864-1752060600-1752066000@www.flcduluth.org
SUMMARY:Al-Anon
DESCRIPTION:
URL:https://www.flcduluth.org/event/al-anon/2025-07-09/
CATEGORIES:Outside Group
END:VEVENT
BEGIN:VEVENT
DTSTART;TZID=America/Chicago:20250712T090000
DTEND;TZID=America/Chicago:20250712T110000
DTSTAMP:20260423T162222
CREATED:20230110T222829Z
LAST-MODIFIED:20230110T223030Z
UID:10003499-1752310800-1752318000@www.flcduluth.org
SUMMARY:AA
DESCRIPTION:
URL:https://www.flcduluth.org/event/aa-3/2025-07-12/
CATEGORIES:Outside Group
END:VEVENT
BEGIN:VEVENT
DTSTART;TZID=America/Chicago:20250713T083000
DTEND;TZID=America/Chicago:20250713T093000
DTSTAMP:20260423T162222
CREATED:20240515T192107Z
LAST-MODIFIED:20250411T172815Z
UID:10005923-1752395400-1752399000@www.flcduluth.org
SUMMARY:Traditional Worship
DESCRIPTION:
URL:https://www.flcduluth.org/event/worship-16/2025-07-13/
CATEGORIES:Worship
END:VEVENT
BEGIN:VEVENT
DTSTART;TZID=America/Chicago:20250713T110000
DTEND;TZID=America/Chicago:20250713T120000
DTSTAMP:20260423T162222
CREATED:20240515T191948Z
LAST-MODIFIED:20250411T173105Z
UID:10006482-1752404400-1752408000@www.flcduluth.org
SUMMARY:Contemporary Worship
DESCRIPTION:
URL:https://www.flcduluth.org/event/worship-15/2025-07-13/
CATEGORIES:Worship
END:VEVENT
BEGIN:VEVENT
DTSTART;TZID=America/Chicago:20250714T193000
DTEND;TZID=America/Chicago:20250714T210000
DTSTAMP:20260423T162222
CREATED:20230110T215936Z
LAST-MODIFIED:20230110T215936Z
UID:10002328-1752521400-1752526800@www.flcduluth.org
SUMMARY:Nar-Anon Meeting
DESCRIPTION:
URL:https://www.flcduluth.org/event/nar-anon-meeting/2025-07-14/
CATEGORIES:Outside Group
END:VEVENT
BEGIN:VEVENT
DTSTART;TZID=America/Chicago:20250715T063000
DTEND;TZID=America/Chicago:20250715T193000
DTSTAMP:20260423T162222
CREATED:20230110T220428Z
LAST-MODIFIED:20230110T220428Z
UID:10002604-1752561000-1752607800@www.flcduluth.org
SUMMARY:Tai-Chi
DESCRIPTION:
URL:https://www.flcduluth.org/event/tai-chi-3/2025-07-15/
CATEGORIES:Outside Group
END:VEVENT
END:VCALENDAR