BEGIN:VCALENDAR
VERSION:2.0
PRODID:-//First Lutheran Church - ECPv6.15.20//NONSGML v1.0//EN
CALSCALE:GREGORIAN
METHOD:PUBLISH
X-WR-CALNAME:First Lutheran Church
X-ORIGINAL-URL:https://www.flcduluth.org
X-WR-CALDESC:Events for First Lutheran Church
REFRESH-INTERVAL;VALUE=DURATION:PT1H
X-Robots-Tag:noindex
X-PUBLISHED-TTL:PT1H
BEGIN:VTIMEZONE
TZID:America/Chicago
BEGIN:DAYLIGHT
TZOFFSETFROM:-0600
TZOFFSETTO:-0500
TZNAME:CDT
DTSTART:20250309T080000
END:DAYLIGHT
BEGIN:STANDARD
TZOFFSETFROM:-0500
TZOFFSETTO:-0600
TZNAME:CST
DTSTART:20251102T070000
END:STANDARD
BEGIN:DAYLIGHT
TZOFFSETFROM:-0600
TZOFFSETTO:-0500
TZNAME:CDT
DTSTART:20260308T080000
END:DAYLIGHT
BEGIN:STANDARD
TZOFFSETFROM:-0500
TZOFFSETTO:-0600
TZNAME:CST
DTSTART:20261101T070000
END:STANDARD
BEGIN:DAYLIGHT
TZOFFSETFROM:-0600
TZOFFSETTO:-0500
TZNAME:CDT
DTSTART:20270314T080000
END:DAYLIGHT
BEGIN:STANDARD
TZOFFSETFROM:-0500
TZOFFSETTO:-0600
TZNAME:CST
DTSTART:20271107T070000
END:STANDARD
END:VTIMEZONE
BEGIN:VEVENT
DTSTART;TZID=America/Chicago:20260301T083000
DTEND;TZID=America/Chicago:20260301T093000
DTSTAMP:20260423T064004
CREATED:20260204T184311Z
LAST-MODIFIED:20260204T184311Z
UID:10007401-1772353800-1772357400@www.flcduluth.org
SUMMARY:Worship Service
DESCRIPTION:
URL:https://www.flcduluth.org/event/worship-service-3/2026-03-01/
END:VEVENT
BEGIN:VEVENT
DTSTART;TZID=America/Chicago:20260301T100000
DTEND;TZID=America/Chicago:20260301T110000
DTSTAMP:20260423T064004
CREATED:20260204T184346Z
LAST-MODIFIED:20260204T184418Z
UID:10007432-1772359200-1772362800@www.flcduluth.org
SUMMARY:Worship Service
DESCRIPTION:
URL:https://www.flcduluth.org/event/worship-service-4/2026-03-01/
END:VEVENT
BEGIN:VEVENT
DTSTART;TZID=America/Chicago:20260301T153000
DTEND;TZID=America/Chicago:20260301T173000
DTSTAMP:20260423T064004
CREATED:20260204T184607Z
LAST-MODIFIED:20260204T184607Z
UID:10007452-1772379000-1772386200@www.flcduluth.org
SUMMARY:OWL
DESCRIPTION:
URL:https://www.flcduluth.org/event/owl/2026-03-01/
END:VEVENT
BEGIN:VEVENT
DTSTART;TZID=America/Chicago:20260301T173000
DTEND;TZID=America/Chicago:20260301T200000
DTSTAMP:20260423T064004
CREATED:20260204T184658Z
LAST-MODIFIED:20260204T184658Z
UID:10007466-1772386200-1772395200@www.flcduluth.org
SUMMARY:Middle School Gathering
DESCRIPTION:
URL:https://www.flcduluth.org/event/middle-school-gathering/2026-03-01/
END:VEVENT
BEGIN:VEVENT
DTSTART;TZID=America/Chicago:20260301T173000
DTEND;TZID=America/Chicago:20260301T200000
DTSTAMP:20260423T064004
CREATED:20260204T184745Z
LAST-MODIFIED:20260204T184745Z
UID:10007480-1772386200-1772395200@www.flcduluth.org
SUMMARY:Confirmation
DESCRIPTION:
URL:https://www.flcduluth.org/event/confirmation/2026-03-01/
END:VEVENT
BEGIN:VEVENT
DTSTART;TZID=America/Chicago:20260302T170000
DTEND;TZID=America/Chicago:20260302T210000
DTSTAMP:20260423T064004
CREATED:20260204T185537Z
LAST-MODIFIED:20260204T185537Z
UID:10007515-1772470800-1772485200@www.flcduluth.org
SUMMARY:Arrowhead Chorale
DESCRIPTION:
URL:https://www.flcduluth.org/event/arrowhead-chorale-14/
END:VEVENT
BEGIN:VEVENT
DTSTART;TZID=America/Chicago:20260302T190000
DTEND;TZID=America/Chicago:20260302T203000
DTSTAMP:20260423T064004
CREATED:20230201T213018Z
LAST-MODIFIED:20230201T213018Z
UID:10004005-1772478000-1772483400@www.flcduluth.org
SUMMARY:Ruth Gathering
DESCRIPTION:
URL:https://www.flcduluth.org/event/ruth-gathering-3/2026-03-02/
LOCATION:First Lutheran Church\, 1100 E. Superior St.\, Duluth\, MN\, 55802\, United States
CATEGORIES:Women's Ministry
END:VEVENT
BEGIN:VEVENT
DTSTART;TZID=America/Chicago:20260302T193000
DTEND;TZID=America/Chicago:20260302T210000
DTSTAMP:20260423T064004
CREATED:20230110T215936Z
LAST-MODIFIED:20230110T215936Z
UID:10002361-1772479800-1772485200@www.flcduluth.org
SUMMARY:Nar-Anon Meeting
DESCRIPTION:
URL:https://www.flcduluth.org/event/nar-anon-meeting/2026-03-02/
CATEGORIES:Outside Group
END:VEVENT
BEGIN:VEVENT
DTSTART;TZID=America/Chicago:20260303T063000
DTEND;TZID=America/Chicago:20260303T193000
DTSTAMP:20260423T064004
CREATED:20230110T220428Z
LAST-MODIFIED:20230110T220428Z
UID:10002637-1772519400-1772566200@www.flcduluth.org
SUMMARY:Tai-Chi
DESCRIPTION:
URL:https://www.flcduluth.org/event/tai-chi-3/2026-03-03/
CATEGORIES:Outside Group
END:VEVENT
BEGIN:VEVENT
DTSTART;TZID=America/Chicago:20260303T170000
DTEND;TZID=America/Chicago:20260303T210000
DTSTAMP:20260423T064004
CREATED:20260204T185049Z
LAST-MODIFIED:20260204T185049Z
UID:10007501-1772557200-1772571600@www.flcduluth.org
SUMMARY:Arrowhead Chorale
DESCRIPTION:
URL:https://www.flcduluth.org/event/arrowhead-chorale-13/2026-03-03/
END:VEVENT
BEGIN:VEVENT
DTSTART;TZID=America/Chicago:20260304T100000
DTEND;TZID=America/Chicago:20260304T113000
DTSTAMP:20260423T064004
CREATED:20230829T193211Z
LAST-MODIFIED:20230829T193211Z
UID:10004984-1772618400-1772623800@www.flcduluth.org
SUMMARY:Staff Meeting
DESCRIPTION:
URL:https://www.flcduluth.org/event/staff-meeting-3/2026-03-04/
CATEGORIES:Staff
END:VEVENT
BEGIN:VEVENT
DTSTART;TZID=America/Chicago:20260304T113000
DTEND;TZID=America/Chicago:20260304T130000
DTSTAMP:20260423T064004
CREATED:20230110T220749Z
LAST-MODIFIED:20230110T220749Z
UID:10002898-1772623800-1772629200@www.flcduluth.org
SUMMARY:Al-Anon
DESCRIPTION:
URL:https://www.flcduluth.org/event/al-anon/2026-03-04/
CATEGORIES:Outside Group
END:VEVENT
BEGIN:VEVENT
DTSTART;TZID=America/Chicago:20260304T170000
DTEND;TZID=America/Chicago:20260304T210000
DTSTAMP:20260423T064004
CREATED:20260204T184019Z
LAST-MODIFIED:20260204T184019Z
UID:10007138-1772643600-1772658000@www.flcduluth.org
SUMMARY:Community Event
DESCRIPTION:
URL:https://www.flcduluth.org/event/community-event/2026-03-04/
END:VEVENT
BEGIN:VEVENT
DTSTART;TZID=America/Chicago:20260304T174500
DTEND;TZID=America/Chicago:20260304T190000
DTSTAMP:20260423T064004
CREATED:20260204T183502Z
LAST-MODIFIED:20260204T183529Z
UID:10006523-1772646300-1772650800@www.flcduluth.org
SUMMARY:Handbells
DESCRIPTION:
URL:https://www.flcduluth.org/event/handbells-2/2026-03-04/
CATEGORIES:Music Rehearsal
END:VEVENT
BEGIN:VEVENT
DTSTART;TZID=America/Chicago:20260304T180000
DTEND;TZID=America/Chicago:20260304T190000
DTSTAMP:20260423T064004
CREATED:20260204T185416Z
LAST-MODIFIED:20260204T185439Z
UID:10007511-1772647200-1772650800@www.flcduluth.org
SUMMARY:Lenten Midweek Service
DESCRIPTION:
URL:https://www.flcduluth.org/event/lenten-midweek-service/2026-03-04/
END:VEVENT
BEGIN:VEVENT
DTSTART;TZID=America/Chicago:20260304T192000
DTEND;TZID=America/Chicago:20260304T211500
DTSTAMP:20260423T064004
CREATED:20260204T183637Z
LAST-MODIFIED:20260204T183637Z
UID:10006784-1772652000-1772658900@www.flcduluth.org
SUMMARY:Choir Rehearsal
DESCRIPTION:
URL:https://www.flcduluth.org/event/choir-rehearsal/2026-03-04/
END:VEVENT
BEGIN:VEVENT
DTSTART;TZID=America/Chicago:20260305T073000
DTEND;TZID=America/Chicago:20260305T090000
DTSTAMP:20260423T064004
CREATED:20260204T183751Z
LAST-MODIFIED:20260204T183751Z
UID:10006801-1772695800-1772701200@www.flcduluth.org
SUMMARY:Men's Group
DESCRIPTION:
URL:https://www.flcduluth.org/event/mens-group-4/2026-03-05/
END:VEVENT
BEGIN:VEVENT
DTSTART;TZID=America/Chicago:20260305T090000
DTEND;TZID=America/Chicago:20260305T113000
DTSTAMP:20260423T064004
CREATED:20260204T183825Z
LAST-MODIFIED:20260204T183825Z
UID:10007059-1772701200-1772710200@www.flcduluth.org
SUMMARY:Quilters Gathering
DESCRIPTION:
URL:https://www.flcduluth.org/event/quilters-gathering/2026-03-05/
END:VEVENT
BEGIN:VEVENT
DTSTART;TZID=America/Chicago:20260305T170000
DTEND;TZID=America/Chicago:20260305T210000
DTSTAMP:20260423T064004
CREATED:20260204T185614Z
LAST-MODIFIED:20260204T185614Z
UID:10007516-1772730000-1772744400@www.flcduluth.org
SUMMARY:Arrowhead Chorale
DESCRIPTION:
URL:https://www.flcduluth.org/event/arrowhead-chorale-15/
END:VEVENT
BEGIN:VEVENT
DTSTART;TZID=America/Chicago:20260305T180000
DTEND;TZID=America/Chicago:20260305T200000
DTSTAMP:20260423T064004
CREATED:20230706T191437Z
LAST-MODIFIED:20230706T191439Z
UID:10004606-1772733600-1772740800@www.flcduluth.org
SUMMARY:Vision Council Meeting
DESCRIPTION:
URL:https://www.flcduluth.org/event/vision-council-meeting-2-2-2/2026-03-05/
CATEGORIES:Committee Meetings
END:VEVENT
BEGIN:VEVENT
DTSTART;TZID=America/Chicago:20260306T093000
DTEND;TZID=America/Chicago:20260306T110000
DTSTAMP:20260423T064004
CREATED:20260204T183927Z
LAST-MODIFIED:20260204T183927Z
UID:10007122-1772789400-1772794800@www.flcduluth.org
SUMMARY:Bible Study
DESCRIPTION:
URL:https://www.flcduluth.org/event/bible-study/2026-03-06/
END:VEVENT
BEGIN:VEVENT
DTSTART;TZID=America/Chicago:20260306T170000
DTEND;TZID=America/Chicago:20260306T210000
DTSTAMP:20260423T064004
CREATED:20260204T185643Z
LAST-MODIFIED:20260204T185643Z
UID:10007517-1772816400-1772830800@www.flcduluth.org
SUMMARY:Arrowhead Chorale
DESCRIPTION:
URL:https://www.flcduluth.org/event/arrowhead-chorale-16/
END:VEVENT
BEGIN:VEVENT
DTSTART;TZID=America/Chicago:20260307T090000
DTEND;TZID=America/Chicago:20260307T110000
DTSTAMP:20260423T064004
CREATED:20230110T222829Z
LAST-MODIFIED:20230110T223030Z
UID:10003533-1772874000-1772881200@www.flcduluth.org
SUMMARY:AA
DESCRIPTION:
URL:https://www.flcduluth.org/event/aa-3/2026-03-07/
CATEGORIES:Outside Group
END:VEVENT
BEGIN:VEVENT
DTSTART;TZID=America/Chicago:20260307T190000
DTEND;TZID=America/Chicago:20260307T210000
DTSTAMP:20260423T064004
CREATED:20260204T185728Z
LAST-MODIFIED:20260204T185728Z
UID:10007518-1772910000-1772917200@www.flcduluth.org
SUMMARY:Arrowhead Chorale Concert
DESCRIPTION:
URL:https://www.flcduluth.org/event/arrowhead-chorale-concert-5/
END:VEVENT
BEGIN:VEVENT
DTSTART;TZID=America/Chicago:20260308T083000
DTEND;TZID=America/Chicago:20260308T093000
DTSTAMP:20260423T064004
CREATED:20260204T184311Z
LAST-MODIFIED:20260204T184311Z
UID:10007402-1772958600-1772962200@www.flcduluth.org
SUMMARY:Worship Service
DESCRIPTION:
URL:https://www.flcduluth.org/event/worship-service-3/2026-03-08/
END:VEVENT
BEGIN:VEVENT
DTSTART;TZID=America/Chicago:20260308T093000
DTEND;TZID=America/Chicago:20260308T103000
DTSTAMP:20260423T064004
CREATED:20260204T185914Z
LAST-MODIFIED:20260204T185914Z
UID:10007520-1772962200-1772965800@www.flcduluth.org
SUMMARY:Adult Forum
DESCRIPTION:
URL:https://www.flcduluth.org/event/adult-forum/
END:VEVENT
BEGIN:VEVENT
DTSTART;TZID=America/Chicago:20260308T100000
DTEND;TZID=America/Chicago:20260308T110000
DTSTAMP:20260423T064004
CREATED:20260204T184346Z
LAST-MODIFIED:20260204T184418Z
UID:10007433-1772964000-1772967600@www.flcduluth.org
SUMMARY:Worship Service
DESCRIPTION:
URL:https://www.flcduluth.org/event/worship-service-4/2026-03-08/
END:VEVENT
BEGIN:VEVENT
DTSTART;TZID=America/Chicago:20260308T150000
DTEND;TZID=America/Chicago:20260308T170000
DTSTAMP:20260423T064004
CREATED:20260204T185754Z
LAST-MODIFIED:20260204T185754Z
UID:10007519-1772982000-1772989200@www.flcduluth.org
SUMMARY:Arrowhead Chorale Concert
DESCRIPTION:
URL:https://www.flcduluth.org/event/arrowhead-chorale-concert-6/
END:VEVENT
BEGIN:VEVENT
DTSTART;TZID=America/Chicago:20260308T153000
DTEND;TZID=America/Chicago:20260308T173000
DTSTAMP:20260423T064004
CREATED:20260204T184607Z
LAST-MODIFIED:20260204T184607Z
UID:10007453-1772983800-1772991000@www.flcduluth.org
SUMMARY:OWL
DESCRIPTION:
URL:https://www.flcduluth.org/event/owl/2026-03-08/
END:VEVENT
BEGIN:VEVENT
DTSTART;TZID=America/Chicago:20260308T173000
DTEND;TZID=America/Chicago:20260308T200000
DTSTAMP:20260423T064004
CREATED:20260204T184658Z
LAST-MODIFIED:20260204T184658Z
UID:10007467-1772991000-1773000000@www.flcduluth.org
SUMMARY:Middle School Gathering
DESCRIPTION:
URL:https://www.flcduluth.org/event/middle-school-gathering/2026-03-08/
END:VEVENT
END:VCALENDAR