BEGIN:VCALENDAR
VERSION:2.0
PRODID:-//First Lutheran Church - ECPv6.15.20//NONSGML v1.0//EN
CALSCALE:GREGORIAN
METHOD:PUBLISH
X-WR-CALNAME:First Lutheran Church
X-ORIGINAL-URL:https://www.flcduluth.org
X-WR-CALDESC:Events for First Lutheran Church
REFRESH-INTERVAL;VALUE=DURATION:PT1H
X-Robots-Tag:noindex
X-PUBLISHED-TTL:PT1H
BEGIN:VTIMEZONE
TZID:America/Chicago
BEGIN:DAYLIGHT
TZOFFSETFROM:-0600
TZOFFSETTO:-0500
TZNAME:CDT
DTSTART:20260308T080000
END:DAYLIGHT
BEGIN:STANDARD
TZOFFSETFROM:-0500
TZOFFSETTO:-0600
TZNAME:CST
DTSTART:20261101T070000
END:STANDARD
BEGIN:DAYLIGHT
TZOFFSETFROM:-0600
TZOFFSETTO:-0500
TZNAME:CDT
DTSTART:20270314T080000
END:DAYLIGHT
BEGIN:STANDARD
TZOFFSETFROM:-0500
TZOFFSETTO:-0600
TZNAME:CST
DTSTART:20271107T070000
END:STANDARD
BEGIN:DAYLIGHT
TZOFFSETFROM:-0600
TZOFFSETTO:-0500
TZNAME:CDT
DTSTART:20280312T080000
END:DAYLIGHT
BEGIN:STANDARD
TZOFFSETFROM:-0500
TZOFFSETTO:-0600
TZNAME:CST
DTSTART:20281105T070000
END:STANDARD
END:VTIMEZONE
BEGIN:VEVENT
DTSTART;TZID=America/Chicago:20270510T193000
DTEND;TZID=America/Chicago:20270510T210000
DTSTAMP:20260424T052115
CREATED:20230110T215936Z
LAST-MODIFIED:20230110T215936Z
UID:10002423-1809977400-1809982800@www.flcduluth.org
SUMMARY:Nar-Anon Meeting
DESCRIPTION:
URL:https://www.flcduluth.org/event/nar-anon-meeting/2027-05-10/
CATEGORIES:Outside Group
END:VEVENT
BEGIN:VEVENT
DTSTART;TZID=America/Chicago:20270511T063000
DTEND;TZID=America/Chicago:20270511T193000
DTSTAMP:20260424T052115
CREATED:20230110T220428Z
LAST-MODIFIED:20230110T220428Z
UID:10002699-1810017000-1810063800@www.flcduluth.org
SUMMARY:Tai-Chi
DESCRIPTION:
URL:https://www.flcduluth.org/event/tai-chi-3/2027-05-11/
CATEGORIES:Outside Group
END:VEVENT
BEGIN:VEVENT
DTSTART;TZID=America/Chicago:20270512T100000
DTEND;TZID=America/Chicago:20270512T113000
DTSTAMP:20260424T052115
CREATED:20230829T193211Z
LAST-MODIFIED:20230829T193211Z
UID:10005046-1810116000-1810121400@www.flcduluth.org
SUMMARY:Staff Meeting
DESCRIPTION:
URL:https://www.flcduluth.org/event/staff-meeting-3/2027-05-12/
CATEGORIES:Staff
END:VEVENT
BEGIN:VEVENT
DTSTART;TZID=America/Chicago:20270512T113000
DTEND;TZID=America/Chicago:20270512T130000
DTSTAMP:20260424T052115
CREATED:20230110T220749Z
LAST-MODIFIED:20230110T220749Z
UID:10002960-1810121400-1810126800@www.flcduluth.org
SUMMARY:Al-Anon
DESCRIPTION:
URL:https://www.flcduluth.org/event/al-anon/2027-05-12/
CATEGORIES:Outside Group
END:VEVENT
BEGIN:VEVENT
DTSTART;TZID=America/Chicago:20270512T170000
DTEND;TZID=America/Chicago:20270512T210000
DTSTAMP:20260424T052115
CREATED:20260204T184019Z
LAST-MODIFIED:20260204T184019Z
UID:10007200-1810141200-1810155600@www.flcduluth.org
SUMMARY:Community Event
DESCRIPTION:
URL:https://www.flcduluth.org/event/community-event/2027-05-12/
END:VEVENT
BEGIN:VEVENT
DTSTART;TZID=America/Chicago:20270513T073000
DTEND;TZID=America/Chicago:20270513T090000
DTSTAMP:20260424T052115
CREATED:20260204T183751Z
LAST-MODIFIED:20260204T183751Z
UID:10006863-1810193400-1810198800@www.flcduluth.org
SUMMARY:Men's Group
DESCRIPTION:
URL:https://www.flcduluth.org/event/mens-group-4/2027-05-13/
END:VEVENT
BEGIN:VEVENT
DTSTART;TZID=America/Chicago:20270515T090000
DTEND;TZID=America/Chicago:20270515T110000
DTSTAMP:20260424T052115
CREATED:20230110T222829Z
LAST-MODIFIED:20230110T223030Z
UID:10003595-1810371600-1810378800@www.flcduluth.org
SUMMARY:AA
DESCRIPTION:
URL:https://www.flcduluth.org/event/aa-3/2027-05-15/
CATEGORIES:Outside Group
END:VEVENT
BEGIN:VEVENT
DTSTART;TZID=America/Chicago:20270517T193000
DTEND;TZID=America/Chicago:20270517T210000
DTSTAMP:20260424T052115
CREATED:20230110T215936Z
LAST-MODIFIED:20230110T215936Z
UID:10002424-1810582200-1810587600@www.flcduluth.org
SUMMARY:Nar-Anon Meeting
DESCRIPTION:
URL:https://www.flcduluth.org/event/nar-anon-meeting/2027-05-17/
CATEGORIES:Outside Group
END:VEVENT
BEGIN:VEVENT
DTSTART;TZID=America/Chicago:20270518T063000
DTEND;TZID=America/Chicago:20270518T193000
DTSTAMP:20260424T052115
CREATED:20230110T220428Z
LAST-MODIFIED:20230110T220428Z
UID:10002700-1810621800-1810668600@www.flcduluth.org
SUMMARY:Tai-Chi
DESCRIPTION:
URL:https://www.flcduluth.org/event/tai-chi-3/2027-05-18/
CATEGORIES:Outside Group
END:VEVENT
BEGIN:VEVENT
DTSTART;TZID=America/Chicago:20270519T100000
DTEND;TZID=America/Chicago:20270519T113000
DTSTAMP:20260424T052115
CREATED:20230829T193211Z
LAST-MODIFIED:20230829T193211Z
UID:10005047-1810720800-1810726200@www.flcduluth.org
SUMMARY:Staff Meeting
DESCRIPTION:
URL:https://www.flcduluth.org/event/staff-meeting-3/2027-05-19/
CATEGORIES:Staff
END:VEVENT
BEGIN:VEVENT
DTSTART;TZID=America/Chicago:20270519T113000
DTEND;TZID=America/Chicago:20270519T130000
DTSTAMP:20260424T052115
CREATED:20230110T220749Z
LAST-MODIFIED:20230110T220749Z
UID:10002961-1810726200-1810731600@www.flcduluth.org
SUMMARY:Al-Anon
DESCRIPTION:
URL:https://www.flcduluth.org/event/al-anon/2027-05-19/
CATEGORIES:Outside Group
END:VEVENT
BEGIN:VEVENT
DTSTART;TZID=America/Chicago:20270519T170000
DTEND;TZID=America/Chicago:20270519T210000
DTSTAMP:20260424T052115
CREATED:20260204T184019Z
LAST-MODIFIED:20260204T184019Z
UID:10007201-1810746000-1810760400@www.flcduluth.org
SUMMARY:Community Event
DESCRIPTION:
URL:https://www.flcduluth.org/event/community-event/2027-05-19/
END:VEVENT
BEGIN:VEVENT
DTSTART;TZID=America/Chicago:20270520T073000
DTEND;TZID=America/Chicago:20270520T090000
DTSTAMP:20260424T052115
CREATED:20260204T183751Z
LAST-MODIFIED:20260204T183751Z
UID:10006864-1810798200-1810803600@www.flcduluth.org
SUMMARY:Men's Group
DESCRIPTION:
URL:https://www.flcduluth.org/event/mens-group-4/2027-05-20/
END:VEVENT
BEGIN:VEVENT
DTSTART;TZID=America/Chicago:20270520T170000
DTEND;TZID=America/Chicago:20270520T183000
DTSTAMP:20260424T052115
CREATED:20230706T191139Z
LAST-MODIFIED:20230706T191139Z
UID:10004561-1810832400-1810837800@www.flcduluth.org
SUMMARY:Finance Meeting
DESCRIPTION:
URL:https://www.flcduluth.org/event/finance-meeting-8/2027-05-20/
CATEGORIES:Committee Meetings
END:VEVENT
BEGIN:VEVENT
DTSTART;TZID=America/Chicago:20270520T183000
DTEND;TZID=America/Chicago:20270520T200000
DTSTAMP:20260424T052115
CREATED:20230110T223406Z
LAST-MODIFIED:20230110T223406Z
UID:10003684-1810837800-1810843200@www.flcduluth.org
SUMMARY:District AA Meeting
DESCRIPTION:
URL:https://www.flcduluth.org/event/district-aa-meeting-4/2027-05-20/
CATEGORIES:Outside Group
END:VEVENT
BEGIN:VEVENT
DTSTART;TZID=America/Chicago:20270522T090000
DTEND;TZID=America/Chicago:20270522T110000
DTSTAMP:20260424T052115
CREATED:20230110T222829Z
LAST-MODIFIED:20230110T223030Z
UID:10003596-1810976400-1810983600@www.flcduluth.org
SUMMARY:AA
DESCRIPTION:
URL:https://www.flcduluth.org/event/aa-3/2027-05-22/
CATEGORIES:Outside Group
END:VEVENT
BEGIN:VEVENT
DTSTART;TZID=America/Chicago:20270524T193000
DTEND;TZID=America/Chicago:20270524T210000
DTSTAMP:20260424T052115
CREATED:20230110T215936Z
LAST-MODIFIED:20230110T215936Z
UID:10002425-1811187000-1811192400@www.flcduluth.org
SUMMARY:Nar-Anon Meeting
DESCRIPTION:
URL:https://www.flcduluth.org/event/nar-anon-meeting/2027-05-24/
CATEGORIES:Outside Group
END:VEVENT
BEGIN:VEVENT
DTSTART;TZID=America/Chicago:20270525T063000
DTEND;TZID=America/Chicago:20270525T193000
DTSTAMP:20260424T052115
CREATED:20230110T220428Z
LAST-MODIFIED:20230110T220428Z
UID:10002701-1811226600-1811273400@www.flcduluth.org
SUMMARY:Tai-Chi
DESCRIPTION:
URL:https://www.flcduluth.org/event/tai-chi-3/2027-05-25/
CATEGORIES:Outside Group
END:VEVENT
BEGIN:VEVENT
DTSTART;TZID=America/Chicago:20270526T100000
DTEND;TZID=America/Chicago:20270526T113000
DTSTAMP:20260424T052115
CREATED:20230829T193211Z
LAST-MODIFIED:20230829T193211Z
UID:10005048-1811325600-1811331000@www.flcduluth.org
SUMMARY:Staff Meeting
DESCRIPTION:
URL:https://www.flcduluth.org/event/staff-meeting-3/2027-05-26/
CATEGORIES:Staff
END:VEVENT
BEGIN:VEVENT
DTSTART;TZID=America/Chicago:20270526T113000
DTEND;TZID=America/Chicago:20270526T130000
DTSTAMP:20260424T052115
CREATED:20230110T220749Z
LAST-MODIFIED:20230110T220749Z
UID:10002962-1811331000-1811336400@www.flcduluth.org
SUMMARY:Al-Anon
DESCRIPTION:
URL:https://www.flcduluth.org/event/al-anon/2027-05-26/
CATEGORIES:Outside Group
END:VEVENT
BEGIN:VEVENT
DTSTART;TZID=America/Chicago:20270526T170000
DTEND;TZID=America/Chicago:20270526T210000
DTSTAMP:20260424T052115
CREATED:20260204T184019Z
LAST-MODIFIED:20260204T184019Z
UID:10007202-1811350800-1811365200@www.flcduluth.org
SUMMARY:Community Event
DESCRIPTION:
URL:https://www.flcduluth.org/event/community-event/2027-05-26/
END:VEVENT
BEGIN:VEVENT
DTSTART;TZID=America/Chicago:20270527T073000
DTEND;TZID=America/Chicago:20270527T090000
DTSTAMP:20260424T052115
CREATED:20260204T183751Z
LAST-MODIFIED:20260204T183751Z
UID:10006865-1811403000-1811408400@www.flcduluth.org
SUMMARY:Men's Group
DESCRIPTION:
URL:https://www.flcduluth.org/event/mens-group-4/2027-05-27/
END:VEVENT
BEGIN:VEVENT
DTSTART;TZID=America/Chicago:20270529T090000
DTEND;TZID=America/Chicago:20270529T110000
DTSTAMP:20260424T052115
CREATED:20230110T222829Z
LAST-MODIFIED:20230110T223030Z
UID:10003597-1811581200-1811588400@www.flcduluth.org
SUMMARY:AA
DESCRIPTION:
URL:https://www.flcduluth.org/event/aa-3/2027-05-29/
CATEGORIES:Outside Group
END:VEVENT
BEGIN:VEVENT
DTSTART;TZID=America/Chicago:20270530T120000
DTEND;TZID=America/Chicago:20270530T133000
DTSTAMP:20260424T052115
CREATED:20230110T224319Z
LAST-MODIFIED:20230110T224319Z
UID:10003751-1811678400-1811683800@www.flcduluth.org
SUMMARY:Community Meal
DESCRIPTION:
URL:https://www.flcduluth.org/event/community-meal-3/2027-05-30/
END:VEVENT
BEGIN:VEVENT
DTSTART;TZID=America/Chicago:20270531T193000
DTEND;TZID=America/Chicago:20270531T210000
DTSTAMP:20260424T052115
CREATED:20230110T215936Z
LAST-MODIFIED:20230110T215936Z
UID:10002426-1811791800-1811797200@www.flcduluth.org
SUMMARY:Nar-Anon Meeting
DESCRIPTION:
URL:https://www.flcduluth.org/event/nar-anon-meeting/2027-05-31/
CATEGORIES:Outside Group
END:VEVENT
BEGIN:VEVENT
DTSTART;TZID=America/Chicago:20270601T063000
DTEND;TZID=America/Chicago:20270601T193000
DTSTAMP:20260424T052115
CREATED:20230110T220428Z
LAST-MODIFIED:20230110T220428Z
UID:10002702-1811831400-1811878200@www.flcduluth.org
SUMMARY:Tai-Chi
DESCRIPTION:
URL:https://www.flcduluth.org/event/tai-chi-3/2027-06-01/
CATEGORIES:Outside Group
END:VEVENT
BEGIN:VEVENT
DTSTART;TZID=America/Chicago:20270602T100000
DTEND;TZID=America/Chicago:20270602T113000
DTSTAMP:20260424T052115
CREATED:20230829T193211Z
LAST-MODIFIED:20230829T193211Z
UID:10005049-1811930400-1811935800@www.flcduluth.org
SUMMARY:Staff Meeting
DESCRIPTION:
URL:https://www.flcduluth.org/event/staff-meeting-3/2027-06-02/
CATEGORIES:Staff
END:VEVENT
BEGIN:VEVENT
DTSTART;TZID=America/Chicago:20270602T113000
DTEND;TZID=America/Chicago:20270602T130000
DTSTAMP:20260424T052115
CREATED:20230110T220749Z
LAST-MODIFIED:20230110T220749Z
UID:10002963-1811935800-1811941200@www.flcduluth.org
SUMMARY:Al-Anon
DESCRIPTION:
URL:https://www.flcduluth.org/event/al-anon/2027-06-02/
CATEGORIES:Outside Group
END:VEVENT
BEGIN:VEVENT
DTSTART;TZID=America/Chicago:20270602T170000
DTEND;TZID=America/Chicago:20270602T210000
DTSTAMP:20260424T052115
CREATED:20260204T184019Z
LAST-MODIFIED:20260204T184019Z
UID:10007203-1811955600-1811970000@www.flcduluth.org
SUMMARY:Community Event
DESCRIPTION:
URL:https://www.flcduluth.org/event/community-event/2027-06-02/
END:VEVENT
BEGIN:VEVENT
DTSTART;TZID=America/Chicago:20270603T073000
DTEND;TZID=America/Chicago:20270603T090000
DTSTAMP:20260424T052116
CREATED:20260204T183751Z
LAST-MODIFIED:20260204T183751Z
UID:10006866-1812007800-1812013200@www.flcduluth.org
SUMMARY:Men's Group
DESCRIPTION:
URL:https://www.flcduluth.org/event/mens-group-4/2027-06-03/
END:VEVENT
END:VCALENDAR