BEGIN:VCALENDAR
VERSION:2.0
PRODID:-//First Lutheran Church - ECPv6.15.20//NONSGML v1.0//EN
CALSCALE:GREGORIAN
METHOD:PUBLISH
X-ORIGINAL-URL:https://www.flcduluth.org
X-WR-CALDESC:Events for First Lutheran Church
REFRESH-INTERVAL;VALUE=DURATION:PT1H
X-Robots-Tag:noindex
X-PUBLISHED-TTL:PT1H
BEGIN:VTIMEZONE
TZID:America/Chicago
BEGIN:DAYLIGHT
TZOFFSETFROM:-0600
TZOFFSETTO:-0500
TZNAME:CDT
DTSTART:20220313T080000
END:DAYLIGHT
BEGIN:STANDARD
TZOFFSETFROM:-0500
TZOFFSETTO:-0600
TZNAME:CST
DTSTART:20221106T070000
END:STANDARD
BEGIN:DAYLIGHT
TZOFFSETFROM:-0600
TZOFFSETTO:-0500
TZNAME:CDT
DTSTART:20230312T080000
END:DAYLIGHT
BEGIN:STANDARD
TZOFFSETFROM:-0500
TZOFFSETTO:-0600
TZNAME:CST
DTSTART:20231105T070000
END:STANDARD
BEGIN:DAYLIGHT
TZOFFSETFROM:-0600
TZOFFSETTO:-0500
TZNAME:CDT
DTSTART:20240310T080000
END:DAYLIGHT
BEGIN:STANDARD
TZOFFSETFROM:-0500
TZOFFSETTO:-0600
TZNAME:CST
DTSTART:20241103T070000
END:STANDARD
END:VTIMEZONE
BEGIN:VEVENT
DTSTART;TZID=America/Chicago:20231023T193000
DTEND;TZID=America/Chicago:20231023T210000
DTSTAMP:20260425T064819
CREATED:20230110T215936Z
LAST-MODIFIED:20230110T215936Z
UID:10002238-1698089400-1698094800@www.flcduluth.org
SUMMARY:Nar-Anon Meeting
DESCRIPTION:
URL:https://www.flcduluth.org/event/nar-anon-meeting/2023-10-23/
CATEGORIES:Outside Group
END:VEVENT
BEGIN:VEVENT
DTSTART;TZID=America/Chicago:20231024T063000
DTEND;TZID=America/Chicago:20231024T193000
DTSTAMP:20260425T064819
CREATED:20230110T220428Z
LAST-MODIFIED:20230110T220428Z
UID:10002514-1698129000-1698175800@www.flcduluth.org
SUMMARY:Tai-Chi
DESCRIPTION:
URL:https://www.flcduluth.org/event/tai-chi-3/2023-10-24/
CATEGORIES:Outside Group
END:VEVENT
BEGIN:VEVENT
DTSTART;TZID=America/Chicago:20231024T180000
DTEND;TZID=America/Chicago:20231024T200000
DTSTAMP:20260425T064819
CREATED:20230620T182230Z
LAST-MODIFIED:20230620T182230Z
UID:10004381-1698170400-1698177600@www.flcduluth.org
SUMMARY:Arrowhead Chorale
DESCRIPTION:
URL:https://www.flcduluth.org/event/arrowhead-chorale-11/2023-10-24/
CATEGORIES:Outside Group
END:VEVENT
BEGIN:VEVENT
DTSTART;TZID=America/Chicago:20231025T100000
DTEND;TZID=America/Chicago:20231025T113000
DTSTAMP:20260425T064819
CREATED:20230829T193211Z
LAST-MODIFIED:20230829T193211Z
UID:10004861-1698228000-1698233400@www.flcduluth.org
SUMMARY:Staff Meeting
DESCRIPTION:
URL:https://www.flcduluth.org/event/staff-meeting-3/2023-10-25/
CATEGORIES:Staff
END:VEVENT
BEGIN:VEVENT
DTSTART;TZID=America/Chicago:20231025T113000
DTEND;TZID=America/Chicago:20231025T130000
DTSTAMP:20260425T064819
CREATED:20230110T220749Z
LAST-MODIFIED:20230110T220749Z
UID:10002775-1698233400-1698238800@www.flcduluth.org
SUMMARY:Al-Anon
DESCRIPTION:
URL:https://www.flcduluth.org/event/al-anon/2023-10-25/
CATEGORIES:Outside Group
END:VEVENT
BEGIN:VEVENT
DTSTART;TZID=America/Chicago:20231025T174500
DTEND;TZID=America/Chicago:20231025T190000
DTSTAMP:20260425T064819
CREATED:20230810T182835Z
LAST-MODIFIED:20240515T191229Z
UID:10004785-1698255900-1698260400@www.flcduluth.org
SUMMARY:Handbell Choir
DESCRIPTION:
URL:https://www.flcduluth.org/event/handbell-choir/2023-10-25/
CATEGORIES:Music Rehearsal
END:VEVENT
BEGIN:VEVENT
DTSTART;TZID=America/Chicago:20231025T191500
DTEND;TZID=America/Chicago:20231025T201500
DTSTAMP:20260425T064819
CREATED:20230810T182600Z
LAST-MODIFIED:20240515T191343Z
UID:10004653-1698261300-1698264900@www.flcduluth.org
SUMMARY:Soli Deo Gloria Choir
DESCRIPTION:
URL:https://www.flcduluth.org/event/soli-deo-gloria-choir/2023-10-25/
CATEGORIES:Music Rehearsal
END:VEVENT
BEGIN:VEVENT
DTSTART;TZID=America/Chicago:20231025T202000
DTEND;TZID=America/Chicago:20231025T210000
DTSTAMP:20260425T064819
CREATED:20230810T182721Z
LAST-MODIFIED:20240515T191459Z
UID:10004721-1698265200-1698267600@www.flcduluth.org
SUMMARY:Chamber Choir
DESCRIPTION:
URL:https://www.flcduluth.org/event/chamber-choir/2023-10-25/
CATEGORIES:Music Rehearsal
END:VEVENT
BEGIN:VEVENT
DTSTART;TZID=America/Chicago:20231026T073000
DTEND;TZID=America/Chicago:20231026T100000
DTSTAMP:20260425T064819
CREATED:20230110T220915Z
LAST-MODIFIED:20230620T184328Z
UID:10004415-1698305400-1698314400@www.flcduluth.org
SUMMARY:Men's Group
DESCRIPTION:
URL:https://www.flcduluth.org/event/mens-group-3/2023-10-26/
CATEGORIES:Men's Ministry
END:VEVENT
BEGIN:VEVENT
DTSTART;TZID=America/Chicago:20231028T090000
DTEND;TZID=America/Chicago:20231028T110000
DTSTAMP:20260425T064819
CREATED:20230110T222829Z
LAST-MODIFIED:20230110T223030Z
UID:10003410-1698483600-1698490800@www.flcduluth.org
SUMMARY:AA
DESCRIPTION:
URL:https://www.flcduluth.org/event/aa-3/2023-10-28/
CATEGORIES:Outside Group
END:VEVENT
BEGIN:VEVENT
DTSTART;TZID=America/Chicago:20231029T083000
DTEND;TZID=America/Chicago:20231029T090000
DTSTAMP:20260425T064819
CREATED:20230526T163854Z
LAST-MODIFIED:20230526T163854Z
UID:10004282-1698568200-1698570000@www.flcduluth.org
SUMMARY:Worship
DESCRIPTION:
URL:https://www.flcduluth.org/event/worship-8/2023-10-29/
CATEGORIES:Worship
END:VEVENT
BEGIN:VEVENT
DTSTART;TZID=America/Chicago:20231029T110000
DTEND;TZID=America/Chicago:20231029T120000
DTSTAMP:20260425T064819
CREATED:20230620T185936Z
LAST-MODIFIED:20230620T185936Z
UID:10004432-1698577200-1698580800@www.flcduluth.org
SUMMARY:Worship
DESCRIPTION:
URL:https://www.flcduluth.org/event/worship-9/2023-10-29/
CATEGORIES:Worship
END:VEVENT
BEGIN:VEVENT
DTSTART;TZID=America/Chicago:20231029T120000
DTEND;TZID=America/Chicago:20231029T133000
DTSTAMP:20260425T064819
CREATED:20230110T224319Z
LAST-MODIFIED:20230110T224319Z
UID:10003708-1698580800-1698586200@www.flcduluth.org
SUMMARY:Community Meal
DESCRIPTION:
URL:https://www.flcduluth.org/event/community-meal-3/2023-10-29/
END:VEVENT
BEGIN:VEVENT
DTSTART;TZID=America/Chicago:20231030T193000
DTEND;TZID=America/Chicago:20231030T210000
DTSTAMP:20260425T064819
CREATED:20230110T215936Z
LAST-MODIFIED:20230110T215936Z
UID:10002239-1698694200-1698699600@www.flcduluth.org
SUMMARY:Nar-Anon Meeting
DESCRIPTION:
URL:https://www.flcduluth.org/event/nar-anon-meeting/2023-10-30/
CATEGORIES:Outside Group
END:VEVENT
BEGIN:VEVENT
DTSTART;TZID=America/Chicago:20231031T063000
DTEND;TZID=America/Chicago:20231031T193000
DTSTAMP:20260425T064819
CREATED:20230110T220428Z
LAST-MODIFIED:20230110T220428Z
UID:10002515-1698733800-1698780600@www.flcduluth.org
SUMMARY:Tai-Chi
DESCRIPTION:
URL:https://www.flcduluth.org/event/tai-chi-3/2023-10-31/
CATEGORIES:Outside Group
END:VEVENT
BEGIN:VEVENT
DTSTART;TZID=America/Chicago:20231031T180000
DTEND;TZID=America/Chicago:20231031T200000
DTSTAMP:20260425T064819
CREATED:20230620T182230Z
LAST-MODIFIED:20230620T182230Z
UID:10004382-1698775200-1698782400@www.flcduluth.org
SUMMARY:Arrowhead Chorale
DESCRIPTION:
URL:https://www.flcduluth.org/event/arrowhead-chorale-11/2023-10-31/
CATEGORIES:Outside Group
END:VEVENT
BEGIN:VEVENT
DTSTART;TZID=America/Chicago:20231101T100000
DTEND;TZID=America/Chicago:20231101T113000
DTSTAMP:20260425T064819
CREATED:20230829T193211Z
LAST-MODIFIED:20230829T193211Z
UID:10004862-1698832800-1698838200@www.flcduluth.org
SUMMARY:Staff Meeting
DESCRIPTION:
URL:https://www.flcduluth.org/event/staff-meeting-3/2023-11-01/
CATEGORIES:Staff
END:VEVENT
BEGIN:VEVENT
DTSTART;TZID=America/Chicago:20231101T113000
DTEND;TZID=America/Chicago:20231101T130000
DTSTAMP:20260425T064819
CREATED:20230110T220749Z
LAST-MODIFIED:20230110T220749Z
UID:10002776-1698838200-1698843600@www.flcduluth.org
SUMMARY:Al-Anon
DESCRIPTION:
URL:https://www.flcduluth.org/event/al-anon/2023-11-01/
CATEGORIES:Outside Group
END:VEVENT
BEGIN:VEVENT
DTSTART;TZID=America/Chicago:20231101T174500
DTEND;TZID=America/Chicago:20231101T190000
DTSTAMP:20260425T064819
CREATED:20230810T182835Z
LAST-MODIFIED:20240515T191229Z
UID:10004786-1698860700-1698865200@www.flcduluth.org
SUMMARY:Handbell Choir
DESCRIPTION:
URL:https://www.flcduluth.org/event/handbell-choir/2023-11-01/
CATEGORIES:Music Rehearsal
END:VEVENT
BEGIN:VEVENT
DTSTART;TZID=America/Chicago:20231101T191500
DTEND;TZID=America/Chicago:20231101T201500
DTSTAMP:20260425T064819
CREATED:20230810T182600Z
LAST-MODIFIED:20240515T191343Z
UID:10004654-1698866100-1698869700@www.flcduluth.org
SUMMARY:Soli Deo Gloria Choir
DESCRIPTION:
URL:https://www.flcduluth.org/event/soli-deo-gloria-choir/2023-11-01/
CATEGORIES:Music Rehearsal
END:VEVENT
BEGIN:VEVENT
DTSTART;TZID=America/Chicago:20231101T202000
DTEND;TZID=America/Chicago:20231101T210000
DTSTAMP:20260425T064819
CREATED:20230810T182721Z
LAST-MODIFIED:20240515T191459Z
UID:10004722-1698870000-1698872400@www.flcduluth.org
SUMMARY:Chamber Choir
DESCRIPTION:
URL:https://www.flcduluth.org/event/chamber-choir/2023-11-01/
CATEGORIES:Music Rehearsal
END:VEVENT
BEGIN:VEVENT
DTSTART;TZID=America/Chicago:20231102T073000
DTEND;TZID=America/Chicago:20231102T100000
DTSTAMP:20260425T064819
CREATED:20230110T220915Z
LAST-MODIFIED:20230620T184328Z
UID:10004416-1698910200-1698919200@www.flcduluth.org
SUMMARY:Men's Group
DESCRIPTION:
URL:https://www.flcduluth.org/event/mens-group-3/2023-11-02/
CATEGORIES:Men's Ministry
END:VEVENT
BEGIN:VEVENT
DTSTART;TZID=America/Chicago:20231102T180000
DTEND;TZID=America/Chicago:20231102T200000
DTSTAMP:20260425T064819
CREATED:20230706T191437Z
LAST-MODIFIED:20230706T191439Z
UID:10004578-1698948000-1698955200@www.flcduluth.org
SUMMARY:Vision Council Meeting
DESCRIPTION:
URL:https://www.flcduluth.org/event/vision-council-meeting-2-2-2/2023-11-02/
CATEGORIES:Committee Meetings
END:VEVENT
BEGIN:VEVENT
DTSTART;TZID=America/Chicago:20231104T090000
DTEND;TZID=America/Chicago:20231104T110000
DTSTAMP:20260425T064819
CREATED:20230110T222829Z
LAST-MODIFIED:20230110T223030Z
UID:10003411-1699088400-1699095600@www.flcduluth.org
SUMMARY:AA
DESCRIPTION:
URL:https://www.flcduluth.org/event/aa-3/2023-11-04/
CATEGORIES:Outside Group
END:VEVENT
BEGIN:VEVENT
DTSTART;TZID=America/Chicago:20231105T083000
DTEND;TZID=America/Chicago:20231105T090000
DTSTAMP:20260425T064819
CREATED:20230526T163854Z
LAST-MODIFIED:20230526T163854Z
UID:10004283-1699173000-1699174800@www.flcduluth.org
SUMMARY:Worship
DESCRIPTION:
URL:https://www.flcduluth.org/event/worship-8/2023-11-05/
CATEGORIES:Worship
END:VEVENT
BEGIN:VEVENT
DTSTART;TZID=America/Chicago:20231105T110000
DTEND;TZID=America/Chicago:20231105T120000
DTSTAMP:20260425T064819
CREATED:20230620T185936Z
LAST-MODIFIED:20230620T185936Z
UID:10004433-1699182000-1699185600@www.flcduluth.org
SUMMARY:Worship
DESCRIPTION:
URL:https://www.flcduluth.org/event/worship-9/2023-11-05/
CATEGORIES:Worship
END:VEVENT
BEGIN:VEVENT
DTSTART;TZID=America/Chicago:20231105T153000
DTEND;TZID=America/Chicago:20231105T170000
DTSTAMP:20260425T064819
CREATED:20230829T193521Z
LAST-MODIFIED:20230829T193521Z
UID:10005116-1699198200-1699203600@www.flcduluth.org
SUMMARY:Flukes
DESCRIPTION:
URL:https://www.flcduluth.org/event/flukes-5/2023-11-05/
CATEGORIES:Music Rehearsal
END:VEVENT
BEGIN:VEVENT
DTSTART;TZID=America/Chicago:20231106T190000
DTEND;TZID=America/Chicago:20231106T203000
DTSTAMP:20260425T064819
CREATED:20230201T213018Z
LAST-MODIFIED:20230201T213018Z
UID:10003977-1699297200-1699302600@www.flcduluth.org
SUMMARY:Ruth Gathering
DESCRIPTION:
URL:https://www.flcduluth.org/event/ruth-gathering-3/2023-11-06/
LOCATION:First Lutheran Church\, 1100 E. Superior St.\, Duluth\, MN\, 55802\, United States
CATEGORIES:Women's Ministry
END:VEVENT
BEGIN:VEVENT
DTSTART;TZID=America/Chicago:20231106T193000
DTEND;TZID=America/Chicago:20231106T210000
DTSTAMP:20260425T064819
CREATED:20230110T215936Z
LAST-MODIFIED:20230110T215936Z
UID:10002240-1699299000-1699304400@www.flcduluth.org
SUMMARY:Nar-Anon Meeting
DESCRIPTION:
URL:https://www.flcduluth.org/event/nar-anon-meeting/2023-11-06/
CATEGORIES:Outside Group
END:VEVENT
BEGIN:VEVENT
DTSTART;TZID=America/Chicago:20231107T063000
DTEND;TZID=America/Chicago:20231107T193000
DTSTAMP:20260425T064819
CREATED:20230110T220428Z
LAST-MODIFIED:20230110T220428Z
UID:10002516-1699338600-1699385400@www.flcduluth.org
SUMMARY:Tai-Chi
DESCRIPTION:
URL:https://www.flcduluth.org/event/tai-chi-3/2023-11-07/
CATEGORIES:Outside Group
END:VEVENT
END:VCALENDAR