BEGIN:VCALENDAR
VERSION:2.0
PRODID:-//First Lutheran Church - ECPv6.15.20//NONSGML v1.0//EN
CALSCALE:GREGORIAN
METHOD:PUBLISH
X-ORIGINAL-URL:https://www.flcduluth.org
X-WR-CALDESC:Events for First Lutheran Church
REFRESH-INTERVAL;VALUE=DURATION:PT1H
X-Robots-Tag:noindex
X-PUBLISHED-TTL:PT1H
BEGIN:VTIMEZONE
TZID:America/Chicago
BEGIN:DAYLIGHT
TZOFFSETFROM:-0600
TZOFFSETTO:-0500
TZNAME:CDT
DTSTART:20250309T080000
END:DAYLIGHT
BEGIN:STANDARD
TZOFFSETFROM:-0500
TZOFFSETTO:-0600
TZNAME:CST
DTSTART:20251102T070000
END:STANDARD
BEGIN:DAYLIGHT
TZOFFSETFROM:-0600
TZOFFSETTO:-0500
TZNAME:CDT
DTSTART:20260308T080000
END:DAYLIGHT
BEGIN:STANDARD
TZOFFSETFROM:-0500
TZOFFSETTO:-0600
TZNAME:CST
DTSTART:20261101T070000
END:STANDARD
BEGIN:DAYLIGHT
TZOFFSETFROM:-0600
TZOFFSETTO:-0500
TZNAME:CDT
DTSTART:20270314T080000
END:DAYLIGHT
BEGIN:STANDARD
TZOFFSETFROM:-0500
TZOFFSETTO:-0600
TZNAME:CST
DTSTART:20271107T070000
END:STANDARD
END:VTIMEZONE
BEGIN:VEVENT
DTSTART;TZID=America/Chicago:20261012T193000
DTEND;TZID=America/Chicago:20261012T210000
DTSTAMP:20260423T171527
CREATED:20230110T215936Z
LAST-MODIFIED:20230110T215936Z
UID:10002393-1791833400-1791838800@www.flcduluth.org
SUMMARY:Nar-Anon Meeting
DESCRIPTION:
URL:https://www.flcduluth.org/event/nar-anon-meeting/2026-10-12/
CATEGORIES:Outside Group
END:VEVENT
BEGIN:VEVENT
DTSTART;TZID=America/Chicago:20261013T063000
DTEND;TZID=America/Chicago:20261013T193000
DTSTAMP:20260423T171527
CREATED:20230110T220428Z
LAST-MODIFIED:20230110T220428Z
UID:10002669-1791873000-1791919800@www.flcduluth.org
SUMMARY:Tai-Chi
DESCRIPTION:
URL:https://www.flcduluth.org/event/tai-chi-3/2026-10-13/
CATEGORIES:Outside Group
END:VEVENT
BEGIN:VEVENT
DTSTART;TZID=America/Chicago:20261014T100000
DTEND;TZID=America/Chicago:20261014T113000
DTSTAMP:20260423T171527
CREATED:20230829T193211Z
LAST-MODIFIED:20230829T193211Z
UID:10005016-1791972000-1791977400@www.flcduluth.org
SUMMARY:Staff Meeting
DESCRIPTION:
URL:https://www.flcduluth.org/event/staff-meeting-3/2026-10-14/
CATEGORIES:Staff
END:VEVENT
BEGIN:VEVENT
DTSTART;TZID=America/Chicago:20261014T113000
DTEND;TZID=America/Chicago:20261014T130000
DTSTAMP:20260423T171527
CREATED:20230110T220749Z
LAST-MODIFIED:20230110T220749Z
UID:10002930-1791977400-1791982800@www.flcduluth.org
SUMMARY:Al-Anon
DESCRIPTION:
URL:https://www.flcduluth.org/event/al-anon/2026-10-14/
CATEGORIES:Outside Group
END:VEVENT
BEGIN:VEVENT
DTSTART;TZID=America/Chicago:20261014T170000
DTEND;TZID=America/Chicago:20261014T210000
DTSTAMP:20260423T171527
CREATED:20260204T184019Z
LAST-MODIFIED:20260204T184019Z
UID:10007170-1791997200-1792011600@www.flcduluth.org
SUMMARY:Community Event
DESCRIPTION:
URL:https://www.flcduluth.org/event/community-event/2026-10-14/
END:VEVENT
BEGIN:VEVENT
DTSTART;TZID=America/Chicago:20261015T073000
DTEND;TZID=America/Chicago:20261015T090000
DTSTAMP:20260423T171527
CREATED:20260204T183751Z
LAST-MODIFIED:20260204T183751Z
UID:10006833-1792049400-1792054800@www.flcduluth.org
SUMMARY:Men's Group
DESCRIPTION:
URL:https://www.flcduluth.org/event/mens-group-4/2026-10-15/
END:VEVENT
BEGIN:VEVENT
DTSTART;TZID=America/Chicago:20261015T170000
DTEND;TZID=America/Chicago:20261015T183000
DTSTAMP:20260423T171527
CREATED:20230706T191139Z
LAST-MODIFIED:20230706T191139Z
UID:10004554-1792083600-1792089000@www.flcduluth.org
SUMMARY:Finance Meeting
DESCRIPTION:
URL:https://www.flcduluth.org/event/finance-meeting-8/2026-10-15/
CATEGORIES:Committee Meetings
END:VEVENT
BEGIN:VEVENT
DTSTART;TZID=America/Chicago:20261015T183000
DTEND;TZID=America/Chicago:20261015T200000
DTSTAMP:20260423T171527
CREATED:20230110T223406Z
LAST-MODIFIED:20230110T223406Z
UID:10003677-1792089000-1792094400@www.flcduluth.org
SUMMARY:District AA Meeting
DESCRIPTION:
URL:https://www.flcduluth.org/event/district-aa-meeting-4/2026-10-15/
CATEGORIES:Outside Group
END:VEVENT
BEGIN:VEVENT
DTSTART;TZID=America/Chicago:20261017T090000
DTEND;TZID=America/Chicago:20261017T110000
DTSTAMP:20260423T171527
CREATED:20230110T222829Z
LAST-MODIFIED:20230110T223030Z
UID:10003565-1792227600-1792234800@www.flcduluth.org
SUMMARY:AA
DESCRIPTION:
URL:https://www.flcduluth.org/event/aa-3/2026-10-17/
CATEGORIES:Outside Group
END:VEVENT
BEGIN:VEVENT
DTSTART;TZID=America/Chicago:20261019T193000
DTEND;TZID=America/Chicago:20261019T210000
DTSTAMP:20260423T171527
CREATED:20230110T215936Z
LAST-MODIFIED:20230110T215936Z
UID:10002394-1792438200-1792443600@www.flcduluth.org
SUMMARY:Nar-Anon Meeting
DESCRIPTION:
URL:https://www.flcduluth.org/event/nar-anon-meeting/2026-10-19/
CATEGORIES:Outside Group
END:VEVENT
BEGIN:VEVENT
DTSTART;TZID=America/Chicago:20261020T063000
DTEND;TZID=America/Chicago:20261020T193000
DTSTAMP:20260423T171527
CREATED:20230110T220428Z
LAST-MODIFIED:20230110T220428Z
UID:10002670-1792477800-1792524600@www.flcduluth.org
SUMMARY:Tai-Chi
DESCRIPTION:
URL:https://www.flcduluth.org/event/tai-chi-3/2026-10-20/
CATEGORIES:Outside Group
END:VEVENT
BEGIN:VEVENT
DTSTART;TZID=America/Chicago:20261021T100000
DTEND;TZID=America/Chicago:20261021T113000
DTSTAMP:20260423T171527
CREATED:20230829T193211Z
LAST-MODIFIED:20230829T193211Z
UID:10005017-1792576800-1792582200@www.flcduluth.org
SUMMARY:Staff Meeting
DESCRIPTION:
URL:https://www.flcduluth.org/event/staff-meeting-3/2026-10-21/
CATEGORIES:Staff
END:VEVENT
BEGIN:VEVENT
DTSTART;TZID=America/Chicago:20261021T113000
DTEND;TZID=America/Chicago:20261021T130000
DTSTAMP:20260423T171528
CREATED:20230110T220749Z
LAST-MODIFIED:20230110T220749Z
UID:10002931-1792582200-1792587600@www.flcduluth.org
SUMMARY:Al-Anon
DESCRIPTION:
URL:https://www.flcduluth.org/event/al-anon/2026-10-21/
CATEGORIES:Outside Group
END:VEVENT
BEGIN:VEVENT
DTSTART;TZID=America/Chicago:20261021T170000
DTEND;TZID=America/Chicago:20261021T210000
DTSTAMP:20260423T171528
CREATED:20260204T184019Z
LAST-MODIFIED:20260204T184019Z
UID:10007171-1792602000-1792616400@www.flcduluth.org
SUMMARY:Community Event
DESCRIPTION:
URL:https://www.flcduluth.org/event/community-event/2026-10-21/
END:VEVENT
BEGIN:VEVENT
DTSTART;TZID=America/Chicago:20261022T073000
DTEND;TZID=America/Chicago:20261022T090000
DTSTAMP:20260423T171528
CREATED:20260204T183751Z
LAST-MODIFIED:20260204T183751Z
UID:10006834-1792654200-1792659600@www.flcduluth.org
SUMMARY:Men's Group
DESCRIPTION:
URL:https://www.flcduluth.org/event/mens-group-4/2026-10-22/
END:VEVENT
BEGIN:VEVENT
DTSTART;TZID=America/Chicago:20261024T090000
DTEND;TZID=America/Chicago:20261024T110000
DTSTAMP:20260423T171528
CREATED:20230110T222829Z
LAST-MODIFIED:20230110T223030Z
UID:10003566-1792832400-1792839600@www.flcduluth.org
SUMMARY:AA
DESCRIPTION:
URL:https://www.flcduluth.org/event/aa-3/2026-10-24/
CATEGORIES:Outside Group
END:VEVENT
BEGIN:VEVENT
DTSTART;TZID=America/Chicago:20261025T120000
DTEND;TZID=America/Chicago:20261025T133000
DTSTAMP:20260423T171528
CREATED:20230110T224319Z
LAST-MODIFIED:20230110T224319Z
UID:10003744-1792929600-1792935000@www.flcduluth.org
SUMMARY:Community Meal
DESCRIPTION:
URL:https://www.flcduluth.org/event/community-meal-3/2026-10-25/
END:VEVENT
BEGIN:VEVENT
DTSTART;TZID=America/Chicago:20261026T193000
DTEND;TZID=America/Chicago:20261026T210000
DTSTAMP:20260423T171528
CREATED:20230110T215936Z
LAST-MODIFIED:20230110T215936Z
UID:10002395-1793043000-1793048400@www.flcduluth.org
SUMMARY:Nar-Anon Meeting
DESCRIPTION:
URL:https://www.flcduluth.org/event/nar-anon-meeting/2026-10-26/
CATEGORIES:Outside Group
END:VEVENT
BEGIN:VEVENT
DTSTART;TZID=America/Chicago:20261027T063000
DTEND;TZID=America/Chicago:20261027T193000
DTSTAMP:20260423T171528
CREATED:20230110T220428Z
LAST-MODIFIED:20230110T220428Z
UID:10002671-1793082600-1793129400@www.flcduluth.org
SUMMARY:Tai-Chi
DESCRIPTION:
URL:https://www.flcduluth.org/event/tai-chi-3/2026-10-27/
CATEGORIES:Outside Group
END:VEVENT
BEGIN:VEVENT
DTSTART;TZID=America/Chicago:20261028T100000
DTEND;TZID=America/Chicago:20261028T113000
DTSTAMP:20260423T171528
CREATED:20230829T193211Z
LAST-MODIFIED:20230829T193211Z
UID:10005018-1793181600-1793187000@www.flcduluth.org
SUMMARY:Staff Meeting
DESCRIPTION:
URL:https://www.flcduluth.org/event/staff-meeting-3/2026-10-28/
CATEGORIES:Staff
END:VEVENT
BEGIN:VEVENT
DTSTART;TZID=America/Chicago:20261028T113000
DTEND;TZID=America/Chicago:20261028T130000
DTSTAMP:20260423T171528
CREATED:20230110T220749Z
LAST-MODIFIED:20230110T220749Z
UID:10002932-1793187000-1793192400@www.flcduluth.org
SUMMARY:Al-Anon
DESCRIPTION:
URL:https://www.flcduluth.org/event/al-anon/2026-10-28/
CATEGORIES:Outside Group
END:VEVENT
BEGIN:VEVENT
DTSTART;TZID=America/Chicago:20261028T170000
DTEND;TZID=America/Chicago:20261028T210000
DTSTAMP:20260423T171528
CREATED:20260204T184019Z
LAST-MODIFIED:20260204T184019Z
UID:10007172-1793206800-1793221200@www.flcduluth.org
SUMMARY:Community Event
DESCRIPTION:
URL:https://www.flcduluth.org/event/community-event/2026-10-28/
END:VEVENT
BEGIN:VEVENT
DTSTART;TZID=America/Chicago:20261029T073000
DTEND;TZID=America/Chicago:20261029T090000
DTSTAMP:20260423T171528
CREATED:20260204T183751Z
LAST-MODIFIED:20260204T183751Z
UID:10006835-1793259000-1793264400@www.flcduluth.org
SUMMARY:Men's Group
DESCRIPTION:
URL:https://www.flcduluth.org/event/mens-group-4/2026-10-29/
END:VEVENT
BEGIN:VEVENT
DTSTART;TZID=America/Chicago:20261031T090000
DTEND;TZID=America/Chicago:20261031T110000
DTSTAMP:20260423T171528
CREATED:20230110T222829Z
LAST-MODIFIED:20230110T223030Z
UID:10003567-1793437200-1793444400@www.flcduluth.org
SUMMARY:AA
DESCRIPTION:
URL:https://www.flcduluth.org/event/aa-3/2026-10-31/
CATEGORIES:Outside Group
END:VEVENT
BEGIN:VEVENT
DTSTART;TZID=America/Chicago:20261102T190000
DTEND;TZID=America/Chicago:20261102T203000
DTSTAMP:20260423T171528
CREATED:20230201T213018Z
LAST-MODIFIED:20230201T213018Z
UID:10004013-1793646000-1793651400@www.flcduluth.org
SUMMARY:Ruth Gathering
DESCRIPTION:
URL:https://www.flcduluth.org/event/ruth-gathering-3/2026-11-02/
LOCATION:First Lutheran Church\, 1100 E. Superior St.\, Duluth\, MN\, 55802\, United States
CATEGORIES:Women's Ministry
END:VEVENT
BEGIN:VEVENT
DTSTART;TZID=America/Chicago:20261102T193000
DTEND;TZID=America/Chicago:20261102T210000
DTSTAMP:20260423T171528
CREATED:20230110T215936Z
LAST-MODIFIED:20230110T215936Z
UID:10002396-1793647800-1793653200@www.flcduluth.org
SUMMARY:Nar-Anon Meeting
DESCRIPTION:
URL:https://www.flcduluth.org/event/nar-anon-meeting/2026-11-02/
CATEGORIES:Outside Group
END:VEVENT
BEGIN:VEVENT
DTSTART;TZID=America/Chicago:20261103T063000
DTEND;TZID=America/Chicago:20261103T193000
DTSTAMP:20260423T171528
CREATED:20230110T220428Z
LAST-MODIFIED:20230110T220428Z
UID:10002672-1793687400-1793734200@www.flcduluth.org
SUMMARY:Tai-Chi
DESCRIPTION:
URL:https://www.flcduluth.org/event/tai-chi-3/2026-11-03/
CATEGORIES:Outside Group
END:VEVENT
BEGIN:VEVENT
DTSTART;TZID=America/Chicago:20261104T100000
DTEND;TZID=America/Chicago:20261104T113000
DTSTAMP:20260423T171528
CREATED:20230829T193211Z
LAST-MODIFIED:20230829T193211Z
UID:10005019-1793786400-1793791800@www.flcduluth.org
SUMMARY:Staff Meeting
DESCRIPTION:
URL:https://www.flcduluth.org/event/staff-meeting-3/2026-11-04/
CATEGORIES:Staff
END:VEVENT
BEGIN:VEVENT
DTSTART;TZID=America/Chicago:20261104T113000
DTEND;TZID=America/Chicago:20261104T130000
DTSTAMP:20260423T171528
CREATED:20230110T220749Z
LAST-MODIFIED:20230110T220749Z
UID:10002933-1793791800-1793797200@www.flcduluth.org
SUMMARY:Al-Anon
DESCRIPTION:
URL:https://www.flcduluth.org/event/al-anon/2026-11-04/
CATEGORIES:Outside Group
END:VEVENT
BEGIN:VEVENT
DTSTART;TZID=America/Chicago:20261104T170000
DTEND;TZID=America/Chicago:20261104T210000
DTSTAMP:20260423T171528
CREATED:20260204T184019Z
LAST-MODIFIED:20260204T184019Z
UID:10007173-1793811600-1793826000@www.flcduluth.org
SUMMARY:Community Event
DESCRIPTION:
URL:https://www.flcduluth.org/event/community-event/2026-11-04/
END:VEVENT
END:VCALENDAR