BEGIN:VCALENDAR
VERSION:2.0
PRODID:-//First Lutheran Church - ECPv6.15.20//NONSGML v1.0//EN
CALSCALE:GREGORIAN
METHOD:PUBLISH
X-ORIGINAL-URL:https://www.flcduluth.org
X-WR-CALDESC:Events for First Lutheran Church
REFRESH-INTERVAL;VALUE=DURATION:PT1H
X-Robots-Tag:noindex
X-PUBLISHED-TTL:PT1H
BEGIN:VTIMEZONE
TZID:America/Chicago
BEGIN:DAYLIGHT
TZOFFSETFROM:-0600
TZOFFSETTO:-0500
TZNAME:CDT
DTSTART:20260308T080000
END:DAYLIGHT
BEGIN:STANDARD
TZOFFSETFROM:-0500
TZOFFSETTO:-0600
TZNAME:CST
DTSTART:20261101T070000
END:STANDARD
BEGIN:DAYLIGHT
TZOFFSETFROM:-0600
TZOFFSETTO:-0500
TZNAME:CDT
DTSTART:20270314T080000
END:DAYLIGHT
BEGIN:STANDARD
TZOFFSETFROM:-0500
TZOFFSETTO:-0600
TZNAME:CST
DTSTART:20271107T070000
END:STANDARD
BEGIN:DAYLIGHT
TZOFFSETFROM:-0600
TZOFFSETTO:-0500
TZNAME:CDT
DTSTART:20280312T080000
END:DAYLIGHT
BEGIN:STANDARD
TZOFFSETFROM:-0500
TZOFFSETTO:-0600
TZNAME:CST
DTSTART:20281105T070000
END:STANDARD
END:VTIMEZONE
BEGIN:VEVENT
DTSTART;TZID=America/Chicago:20270605T090000
DTEND;TZID=America/Chicago:20270605T110000
DTSTAMP:20260424T053021
CREATED:20230110T222829Z
LAST-MODIFIED:20230110T223030Z
UID:10003598-1812186000-1812193200@www.flcduluth.org
SUMMARY:AA
DESCRIPTION:
URL:https://www.flcduluth.org/event/aa-3/2027-06-05/
CATEGORIES:Outside Group
END:VEVENT
BEGIN:VEVENT
DTSTART;TZID=America/Chicago:20270607T190000
DTEND;TZID=America/Chicago:20270607T203000
DTSTAMP:20260424T053021
CREATED:20230201T213018Z
LAST-MODIFIED:20230201T213018Z
UID:10004020-1812394800-1812400200@www.flcduluth.org
SUMMARY:Ruth Gathering
DESCRIPTION:
URL:https://www.flcduluth.org/event/ruth-gathering-3/2027-06-07/
LOCATION:First Lutheran Church\, 1100 E. Superior St.\, Duluth\, MN\, 55802\, United States
CATEGORIES:Women's Ministry
END:VEVENT
BEGIN:VEVENT
DTSTART;TZID=America/Chicago:20270607T193000
DTEND;TZID=America/Chicago:20270607T210000
DTSTAMP:20260424T053021
CREATED:20230110T215936Z
LAST-MODIFIED:20230110T215936Z
UID:10002427-1812396600-1812402000@www.flcduluth.org
SUMMARY:Nar-Anon Meeting
DESCRIPTION:
URL:https://www.flcduluth.org/event/nar-anon-meeting/2027-06-07/
CATEGORIES:Outside Group
END:VEVENT
BEGIN:VEVENT
DTSTART;TZID=America/Chicago:20270608T063000
DTEND;TZID=America/Chicago:20270608T193000
DTSTAMP:20260424T053021
CREATED:20230110T220428Z
LAST-MODIFIED:20230110T220428Z
UID:10002703-1812436200-1812483000@www.flcduluth.org
SUMMARY:Tai-Chi
DESCRIPTION:
URL:https://www.flcduluth.org/event/tai-chi-3/2027-06-08/
CATEGORIES:Outside Group
END:VEVENT
BEGIN:VEVENT
DTSTART;TZID=America/Chicago:20270609T100000
DTEND;TZID=America/Chicago:20270609T113000
DTSTAMP:20260424T053021
CREATED:20230829T193211Z
LAST-MODIFIED:20230829T193211Z
UID:10005050-1812535200-1812540600@www.flcduluth.org
SUMMARY:Staff Meeting
DESCRIPTION:
URL:https://www.flcduluth.org/event/staff-meeting-3/2027-06-09/
CATEGORIES:Staff
END:VEVENT
BEGIN:VEVENT
DTSTART;TZID=America/Chicago:20270609T113000
DTEND;TZID=America/Chicago:20270609T130000
DTSTAMP:20260424T053021
CREATED:20230110T220749Z
LAST-MODIFIED:20230110T220749Z
UID:10002964-1812540600-1812546000@www.flcduluth.org
SUMMARY:Al-Anon
DESCRIPTION:
URL:https://www.flcduluth.org/event/al-anon/2027-06-09/
CATEGORIES:Outside Group
END:VEVENT
BEGIN:VEVENT
DTSTART;TZID=America/Chicago:20270609T170000
DTEND;TZID=America/Chicago:20270609T210000
DTSTAMP:20260424T053021
CREATED:20260204T184019Z
LAST-MODIFIED:20260204T184019Z
UID:10007204-1812560400-1812574800@www.flcduluth.org
SUMMARY:Community Event
DESCRIPTION:
URL:https://www.flcduluth.org/event/community-event/2027-06-09/
END:VEVENT
BEGIN:VEVENT
DTSTART;TZID=America/Chicago:20270610T073000
DTEND;TZID=America/Chicago:20270610T090000
DTSTAMP:20260424T053021
CREATED:20260204T183751Z
LAST-MODIFIED:20260204T183751Z
UID:10006867-1812612600-1812618000@www.flcduluth.org
SUMMARY:Men's Group
DESCRIPTION:
URL:https://www.flcduluth.org/event/mens-group-4/2027-06-10/
END:VEVENT
BEGIN:VEVENT
DTSTART;TZID=America/Chicago:20270612T090000
DTEND;TZID=America/Chicago:20270612T110000
DTSTAMP:20260424T053021
CREATED:20230110T222829Z
LAST-MODIFIED:20230110T223030Z
UID:10003599-1812790800-1812798000@www.flcduluth.org
SUMMARY:AA
DESCRIPTION:
URL:https://www.flcduluth.org/event/aa-3/2027-06-12/
CATEGORIES:Outside Group
END:VEVENT
BEGIN:VEVENT
DTSTART;TZID=America/Chicago:20270614T193000
DTEND;TZID=America/Chicago:20270614T210000
DTSTAMP:20260424T053021
CREATED:20230110T215936Z
LAST-MODIFIED:20230110T215936Z
UID:10002428-1813001400-1813006800@www.flcduluth.org
SUMMARY:Nar-Anon Meeting
DESCRIPTION:
URL:https://www.flcduluth.org/event/nar-anon-meeting/2027-06-14/
CATEGORIES:Outside Group
END:VEVENT
BEGIN:VEVENT
DTSTART;TZID=America/Chicago:20270615T063000
DTEND;TZID=America/Chicago:20270615T193000
DTSTAMP:20260424T053021
CREATED:20230110T220428Z
LAST-MODIFIED:20230110T220428Z
UID:10002704-1813041000-1813087800@www.flcduluth.org
SUMMARY:Tai-Chi
DESCRIPTION:
URL:https://www.flcduluth.org/event/tai-chi-3/2027-06-15/
CATEGORIES:Outside Group
END:VEVENT
BEGIN:VEVENT
DTSTART;TZID=America/Chicago:20270616T100000
DTEND;TZID=America/Chicago:20270616T113000
DTSTAMP:20260424T053021
CREATED:20230829T193211Z
LAST-MODIFIED:20230829T193211Z
UID:10005051-1813140000-1813145400@www.flcduluth.org
SUMMARY:Staff Meeting
DESCRIPTION:
URL:https://www.flcduluth.org/event/staff-meeting-3/2027-06-16/
CATEGORIES:Staff
END:VEVENT
BEGIN:VEVENT
DTSTART;TZID=America/Chicago:20270616T113000
DTEND;TZID=America/Chicago:20270616T130000
DTSTAMP:20260424T053021
CREATED:20230110T220749Z
LAST-MODIFIED:20230110T220749Z
UID:10002965-1813145400-1813150800@www.flcduluth.org
SUMMARY:Al-Anon
DESCRIPTION:
URL:https://www.flcduluth.org/event/al-anon/2027-06-16/
CATEGORIES:Outside Group
END:VEVENT
BEGIN:VEVENT
DTSTART;TZID=America/Chicago:20270616T170000
DTEND;TZID=America/Chicago:20270616T210000
DTSTAMP:20260424T053021
CREATED:20260204T184019Z
LAST-MODIFIED:20260204T184019Z
UID:10007205-1813165200-1813179600@www.flcduluth.org
SUMMARY:Community Event
DESCRIPTION:
URL:https://www.flcduluth.org/event/community-event/2027-06-16/
END:VEVENT
BEGIN:VEVENT
DTSTART;TZID=America/Chicago:20270617T073000
DTEND;TZID=America/Chicago:20270617T090000
DTSTAMP:20260424T053021
CREATED:20260204T183751Z
LAST-MODIFIED:20260204T183751Z
UID:10006868-1813217400-1813222800@www.flcduluth.org
SUMMARY:Men's Group
DESCRIPTION:
URL:https://www.flcduluth.org/event/mens-group-4/2027-06-17/
END:VEVENT
BEGIN:VEVENT
DTSTART;TZID=America/Chicago:20270617T170000
DTEND;TZID=America/Chicago:20270617T183000
DTSTAMP:20260424T053021
CREATED:20230706T191139Z
LAST-MODIFIED:20230706T191139Z
UID:10004562-1813251600-1813257000@www.flcduluth.org
SUMMARY:Finance Meeting
DESCRIPTION:
URL:https://www.flcduluth.org/event/finance-meeting-8/2027-06-17/
CATEGORIES:Committee Meetings
END:VEVENT
BEGIN:VEVENT
DTSTART;TZID=America/Chicago:20270617T183000
DTEND;TZID=America/Chicago:20270617T200000
DTSTAMP:20260424T053021
CREATED:20230110T223406Z
LAST-MODIFIED:20230110T223406Z
UID:10003685-1813257000-1813262400@www.flcduluth.org
SUMMARY:District AA Meeting
DESCRIPTION:
URL:https://www.flcduluth.org/event/district-aa-meeting-4/2027-06-17/
CATEGORIES:Outside Group
END:VEVENT
BEGIN:VEVENT
DTSTART;TZID=America/Chicago:20270619T090000
DTEND;TZID=America/Chicago:20270619T110000
DTSTAMP:20260424T053021
CREATED:20230110T222829Z
LAST-MODIFIED:20230110T223030Z
UID:10003600-1813395600-1813402800@www.flcduluth.org
SUMMARY:AA
DESCRIPTION:
URL:https://www.flcduluth.org/event/aa-3/2027-06-19/
CATEGORIES:Outside Group
END:VEVENT
BEGIN:VEVENT
DTSTART;TZID=America/Chicago:20270621T193000
DTEND;TZID=America/Chicago:20270621T210000
DTSTAMP:20260424T053021
CREATED:20230110T215936Z
LAST-MODIFIED:20230110T215936Z
UID:10002429-1813606200-1813611600@www.flcduluth.org
SUMMARY:Nar-Anon Meeting
DESCRIPTION:
URL:https://www.flcduluth.org/event/nar-anon-meeting/2027-06-21/
CATEGORIES:Outside Group
END:VEVENT
BEGIN:VEVENT
DTSTART;TZID=America/Chicago:20270622T063000
DTEND;TZID=America/Chicago:20270622T193000
DTSTAMP:20260424T053021
CREATED:20230110T220428Z
LAST-MODIFIED:20230110T220428Z
UID:10002705-1813645800-1813692600@www.flcduluth.org
SUMMARY:Tai-Chi
DESCRIPTION:
URL:https://www.flcduluth.org/event/tai-chi-3/2027-06-22/
CATEGORIES:Outside Group
END:VEVENT
BEGIN:VEVENT
DTSTART;TZID=America/Chicago:20270623T100000
DTEND;TZID=America/Chicago:20270623T113000
DTSTAMP:20260424T053021
CREATED:20230829T193211Z
LAST-MODIFIED:20230829T193211Z
UID:10005052-1813744800-1813750200@www.flcduluth.org
SUMMARY:Staff Meeting
DESCRIPTION:
URL:https://www.flcduluth.org/event/staff-meeting-3/2027-06-23/
CATEGORIES:Staff
END:VEVENT
BEGIN:VEVENT
DTSTART;TZID=America/Chicago:20270623T113000
DTEND;TZID=America/Chicago:20270623T130000
DTSTAMP:20260424T053021
CREATED:20230110T220749Z
LAST-MODIFIED:20230110T220749Z
UID:10002966-1813750200-1813755600@www.flcduluth.org
SUMMARY:Al-Anon
DESCRIPTION:
URL:https://www.flcduluth.org/event/al-anon/2027-06-23/
CATEGORIES:Outside Group
END:VEVENT
BEGIN:VEVENT
DTSTART;TZID=America/Chicago:20270623T170000
DTEND;TZID=America/Chicago:20270623T210000
DTSTAMP:20260424T053021
CREATED:20260204T184019Z
LAST-MODIFIED:20260204T184019Z
UID:10007206-1813770000-1813784400@www.flcduluth.org
SUMMARY:Community Event
DESCRIPTION:
URL:https://www.flcduluth.org/event/community-event/2027-06-23/
END:VEVENT
BEGIN:VEVENT
DTSTART;TZID=America/Chicago:20270624T073000
DTEND;TZID=America/Chicago:20270624T090000
DTSTAMP:20260424T053021
CREATED:20260204T183751Z
LAST-MODIFIED:20260204T183751Z
UID:10006869-1813822200-1813827600@www.flcduluth.org
SUMMARY:Men's Group
DESCRIPTION:
URL:https://www.flcduluth.org/event/mens-group-4/2027-06-24/
END:VEVENT
BEGIN:VEVENT
DTSTART;TZID=America/Chicago:20270626T090000
DTEND;TZID=America/Chicago:20270626T110000
DTSTAMP:20260424T053021
CREATED:20230110T222829Z
LAST-MODIFIED:20230110T223030Z
UID:10003601-1814000400-1814007600@www.flcduluth.org
SUMMARY:AA
DESCRIPTION:
URL:https://www.flcduluth.org/event/aa-3/2027-06-26/
CATEGORIES:Outside Group
END:VEVENT
BEGIN:VEVENT
DTSTART;TZID=America/Chicago:20270627T120000
DTEND;TZID=America/Chicago:20270627T133000
DTSTAMP:20260424T053021
CREATED:20230110T224319Z
LAST-MODIFIED:20230110T224319Z
UID:10003752-1814097600-1814103000@www.flcduluth.org
SUMMARY:Community Meal
DESCRIPTION:
URL:https://www.flcduluth.org/event/community-meal-3/2027-06-27/
END:VEVENT
BEGIN:VEVENT
DTSTART;TZID=America/Chicago:20270628T193000
DTEND;TZID=America/Chicago:20270628T210000
DTSTAMP:20260424T053021
CREATED:20230110T215936Z
LAST-MODIFIED:20230110T215936Z
UID:10002430-1814211000-1814216400@www.flcduluth.org
SUMMARY:Nar-Anon Meeting
DESCRIPTION:
URL:https://www.flcduluth.org/event/nar-anon-meeting/2027-06-28/
CATEGORIES:Outside Group
END:VEVENT
BEGIN:VEVENT
DTSTART;TZID=America/Chicago:20270629T063000
DTEND;TZID=America/Chicago:20270629T193000
DTSTAMP:20260424T053021
CREATED:20230110T220428Z
LAST-MODIFIED:20230110T220428Z
UID:10002706-1814250600-1814297400@www.flcduluth.org
SUMMARY:Tai-Chi
DESCRIPTION:
URL:https://www.flcduluth.org/event/tai-chi-3/2027-06-29/
CATEGORIES:Outside Group
END:VEVENT
BEGIN:VEVENT
DTSTART;TZID=America/Chicago:20270630T100000
DTEND;TZID=America/Chicago:20270630T113000
DTSTAMP:20260424T053021
CREATED:20230829T193211Z
LAST-MODIFIED:20230829T193211Z
UID:10005053-1814349600-1814355000@www.flcduluth.org
SUMMARY:Staff Meeting
DESCRIPTION:
URL:https://www.flcduluth.org/event/staff-meeting-3/2027-06-30/
CATEGORIES:Staff
END:VEVENT
BEGIN:VEVENT
DTSTART;TZID=America/Chicago:20270630T113000
DTEND;TZID=America/Chicago:20270630T130000
DTSTAMP:20260424T053021
CREATED:20230110T220749Z
LAST-MODIFIED:20230110T220749Z
UID:10002967-1814355000-1814360400@www.flcduluth.org
SUMMARY:Al-Anon
DESCRIPTION:
URL:https://www.flcduluth.org/event/al-anon/2027-06-30/
CATEGORIES:Outside Group
END:VEVENT
END:VCALENDAR