BEGIN:VCALENDAR
VERSION:2.0
PRODID:-//First Lutheran Church - ECPv6.15.20//NONSGML v1.0//EN
CALSCALE:GREGORIAN
METHOD:PUBLISH
X-ORIGINAL-URL:https://www.flcduluth.org
X-WR-CALDESC:Events for First Lutheran Church
REFRESH-INTERVAL;VALUE=DURATION:PT1H
X-Robots-Tag:noindex
X-PUBLISHED-TTL:PT1H
BEGIN:VTIMEZONE
TZID:America/Chicago
BEGIN:DAYLIGHT
TZOFFSETFROM:-0600
TZOFFSETTO:-0500
TZNAME:CDT
DTSTART:20270314T080000
END:DAYLIGHT
BEGIN:STANDARD
TZOFFSETFROM:-0500
TZOFFSETTO:-0600
TZNAME:CST
DTSTART:20271107T070000
END:STANDARD
BEGIN:DAYLIGHT
TZOFFSETFROM:-0600
TZOFFSETTO:-0500
TZNAME:CDT
DTSTART:20280312T080000
END:DAYLIGHT
BEGIN:STANDARD
TZOFFSETFROM:-0500
TZOFFSETTO:-0600
TZNAME:CST
DTSTART:20281105T070000
END:STANDARD
BEGIN:DAYLIGHT
TZOFFSETFROM:-0600
TZOFFSETTO:-0500
TZNAME:CDT
DTSTART:20290311T080000
END:DAYLIGHT
BEGIN:STANDARD
TZOFFSETFROM:-0500
TZOFFSETTO:-0600
TZNAME:CST
DTSTART:20291104T070000
END:STANDARD
END:VTIMEZONE
BEGIN:VEVENT
DTSTART;TZID=America/Chicago:20280419T100000
DTEND;TZID=America/Chicago:20280419T113000
DTSTAMP:20260425T064816
CREATED:20230829T193211Z
LAST-MODIFIED:20230829T193211Z
UID:10005095-1839751200-1839756600@www.flcduluth.org
SUMMARY:Staff Meeting
DESCRIPTION:
URL:https://www.flcduluth.org/event/staff-meeting-3/2028-04-19/
CATEGORIES:Staff
END:VEVENT
BEGIN:VEVENT
DTSTART;TZID=America/Chicago:20280419T170000
DTEND;TZID=America/Chicago:20280419T210000
DTSTAMP:20260425T064817
CREATED:20260204T184019Z
LAST-MODIFIED:20260204T184019Z
UID:10007249-1839776400-1839790800@www.flcduluth.org
SUMMARY:Community Event
DESCRIPTION:
URL:https://www.flcduluth.org/event/community-event/2028-04-19/
END:VEVENT
BEGIN:VEVENT
DTSTART;TZID=America/Chicago:20280420T073000
DTEND;TZID=America/Chicago:20280420T090000
DTSTAMP:20260425T064817
CREATED:20260204T183751Z
LAST-MODIFIED:20260204T183751Z
UID:10006912-1839828600-1839834000@www.flcduluth.org
SUMMARY:Men's Group
DESCRIPTION:
URL:https://www.flcduluth.org/event/mens-group-4/2028-04-20/
END:VEVENT
BEGIN:VEVENT
DTSTART;TZID=America/Chicago:20280420T170000
DTEND;TZID=America/Chicago:20280420T183000
DTSTAMP:20260425T064817
CREATED:20230706T191139Z
LAST-MODIFIED:20230706T191139Z
UID:10004572-1839862800-1839868200@www.flcduluth.org
SUMMARY:Finance Meeting
DESCRIPTION:
URL:https://www.flcduluth.org/event/finance-meeting-8/2028-04-20/
CATEGORIES:Committee Meetings
END:VEVENT
BEGIN:VEVENT
DTSTART;TZID=America/Chicago:20280426T100000
DTEND;TZID=America/Chicago:20280426T113000
DTSTAMP:20260425T064817
CREATED:20230829T193211Z
LAST-MODIFIED:20230829T193211Z
UID:10005096-1840356000-1840361400@www.flcduluth.org
SUMMARY:Staff Meeting
DESCRIPTION:
URL:https://www.flcduluth.org/event/staff-meeting-3/2028-04-26/
CATEGORIES:Staff
END:VEVENT
BEGIN:VEVENT
DTSTART;TZID=America/Chicago:20280426T170000
DTEND;TZID=America/Chicago:20280426T210000
DTSTAMP:20260425T064817
CREATED:20260204T184019Z
LAST-MODIFIED:20260204T184019Z
UID:10007250-1840381200-1840395600@www.flcduluth.org
SUMMARY:Community Event
DESCRIPTION:
URL:https://www.flcduluth.org/event/community-event/2028-04-26/
END:VEVENT
BEGIN:VEVENT
DTSTART;TZID=America/Chicago:20280427T073000
DTEND;TZID=America/Chicago:20280427T090000
DTSTAMP:20260425T064817
CREATED:20260204T183751Z
LAST-MODIFIED:20260204T183751Z
UID:10006913-1840433400-1840438800@www.flcduluth.org
SUMMARY:Men's Group
DESCRIPTION:
URL:https://www.flcduluth.org/event/mens-group-4/2028-04-27/
END:VEVENT
BEGIN:VEVENT
DTSTART;TZID=America/Chicago:20280503T100000
DTEND;TZID=America/Chicago:20280503T113000
DTSTAMP:20260425T064817
CREATED:20230829T193211Z
LAST-MODIFIED:20230829T193211Z
UID:10005097-1840960800-1840966200@www.flcduluth.org
SUMMARY:Staff Meeting
DESCRIPTION:
URL:https://www.flcduluth.org/event/staff-meeting-3/2028-05-03/
CATEGORIES:Staff
END:VEVENT
BEGIN:VEVENT
DTSTART;TZID=America/Chicago:20280503T170000
DTEND;TZID=America/Chicago:20280503T210000
DTSTAMP:20260425T064817
CREATED:20260204T184019Z
LAST-MODIFIED:20260204T184019Z
UID:10007251-1840986000-1841000400@www.flcduluth.org
SUMMARY:Community Event
DESCRIPTION:
URL:https://www.flcduluth.org/event/community-event/2028-05-03/
END:VEVENT
BEGIN:VEVENT
DTSTART;TZID=America/Chicago:20280504T073000
DTEND;TZID=America/Chicago:20280504T090000
DTSTAMP:20260425T064817
CREATED:20260204T183751Z
LAST-MODIFIED:20260204T183751Z
UID:10006914-1841038200-1841043600@www.flcduluth.org
SUMMARY:Men's Group
DESCRIPTION:
URL:https://www.flcduluth.org/event/mens-group-4/2028-05-04/
END:VEVENT
BEGIN:VEVENT
DTSTART;TZID=America/Chicago:20280504T090000
DTEND;TZID=America/Chicago:20280504T113000
DTSTAMP:20260425T064817
CREATED:20260204T183825Z
LAST-MODIFIED:20260204T183825Z
UID:10007085-1841043600-1841052600@www.flcduluth.org
SUMMARY:Quilters Gathering
DESCRIPTION:
URL:https://www.flcduluth.org/event/quilters-gathering/2028-05-04/
END:VEVENT
BEGIN:VEVENT
DTSTART;TZID=America/Chicago:20280504T180000
DTEND;TZID=America/Chicago:20280504T200000
DTSTAMP:20260425T064817
CREATED:20230706T191437Z
LAST-MODIFIED:20230706T191439Z
UID:10004632-1841076000-1841083200@www.flcduluth.org
SUMMARY:Vision Council Meeting
DESCRIPTION:
URL:https://www.flcduluth.org/event/vision-council-meeting-2-2-2/2028-05-04/
CATEGORIES:Committee Meetings
END:VEVENT
BEGIN:VEVENT
DTSTART;TZID=America/Chicago:20280510T100000
DTEND;TZID=America/Chicago:20280510T113000
DTSTAMP:20260425T064817
CREATED:20230829T193211Z
LAST-MODIFIED:20230829T193211Z
UID:10005098-1841565600-1841571000@www.flcduluth.org
SUMMARY:Staff Meeting
DESCRIPTION:
URL:https://www.flcduluth.org/event/staff-meeting-3/2028-05-10/
CATEGORIES:Staff
END:VEVENT
BEGIN:VEVENT
DTSTART;TZID=America/Chicago:20280510T170000
DTEND;TZID=America/Chicago:20280510T210000
DTSTAMP:20260425T064817
CREATED:20260204T184019Z
LAST-MODIFIED:20260204T184019Z
UID:10007252-1841590800-1841605200@www.flcduluth.org
SUMMARY:Community Event
DESCRIPTION:
URL:https://www.flcduluth.org/event/community-event/2028-05-10/
END:VEVENT
BEGIN:VEVENT
DTSTART;TZID=America/Chicago:20280511T073000
DTEND;TZID=America/Chicago:20280511T090000
DTSTAMP:20260425T064817
CREATED:20260204T183751Z
LAST-MODIFIED:20260204T183751Z
UID:10006915-1841643000-1841648400@www.flcduluth.org
SUMMARY:Men's Group
DESCRIPTION:
URL:https://www.flcduluth.org/event/mens-group-4/2028-05-11/
END:VEVENT
BEGIN:VEVENT
DTSTART;TZID=America/Chicago:20280517T100000
DTEND;TZID=America/Chicago:20280517T113000
DTSTAMP:20260425T064817
CREATED:20230829T193211Z
LAST-MODIFIED:20230829T193211Z
UID:10005099-1842170400-1842175800@www.flcduluth.org
SUMMARY:Staff Meeting
DESCRIPTION:
URL:https://www.flcduluth.org/event/staff-meeting-3/2028-05-17/
CATEGORIES:Staff
END:VEVENT
BEGIN:VEVENT
DTSTART;TZID=America/Chicago:20280517T170000
DTEND;TZID=America/Chicago:20280517T210000
DTSTAMP:20260425T064817
CREATED:20260204T184019Z
LAST-MODIFIED:20260204T184019Z
UID:10007253-1842195600-1842210000@www.flcduluth.org
SUMMARY:Community Event
DESCRIPTION:
URL:https://www.flcduluth.org/event/community-event/2028-05-17/
END:VEVENT
BEGIN:VEVENT
DTSTART;TZID=America/Chicago:20280518T073000
DTEND;TZID=America/Chicago:20280518T090000
DTSTAMP:20260425T064817
CREATED:20260204T183751Z
LAST-MODIFIED:20260204T183751Z
UID:10006916-1842247800-1842253200@www.flcduluth.org
SUMMARY:Men's Group
DESCRIPTION:
URL:https://www.flcduluth.org/event/mens-group-4/2028-05-18/
END:VEVENT
BEGIN:VEVENT
DTSTART;TZID=America/Chicago:20280518T170000
DTEND;TZID=America/Chicago:20280518T183000
DTSTAMP:20260425T064817
CREATED:20230706T191139Z
LAST-MODIFIED:20230706T191139Z
UID:10004573-1842282000-1842287400@www.flcduluth.org
SUMMARY:Finance Meeting
DESCRIPTION:
URL:https://www.flcduluth.org/event/finance-meeting-8/2028-05-18/
CATEGORIES:Committee Meetings
END:VEVENT
BEGIN:VEVENT
DTSTART;TZID=America/Chicago:20280524T100000
DTEND;TZID=America/Chicago:20280524T113000
DTSTAMP:20260425T064817
CREATED:20230829T193211Z
LAST-MODIFIED:20230829T193211Z
UID:10005100-1842775200-1842780600@www.flcduluth.org
SUMMARY:Staff Meeting
DESCRIPTION:
URL:https://www.flcduluth.org/event/staff-meeting-3/2028-05-24/
CATEGORIES:Staff
END:VEVENT
BEGIN:VEVENT
DTSTART;TZID=America/Chicago:20280524T170000
DTEND;TZID=America/Chicago:20280524T210000
DTSTAMP:20260425T064817
CREATED:20260204T184019Z
LAST-MODIFIED:20260204T184019Z
UID:10007254-1842800400-1842814800@www.flcduluth.org
SUMMARY:Community Event
DESCRIPTION:
URL:https://www.flcduluth.org/event/community-event/2028-05-24/
END:VEVENT
BEGIN:VEVENT
DTSTART;TZID=America/Chicago:20280525T073000
DTEND;TZID=America/Chicago:20280525T090000
DTSTAMP:20260425T064817
CREATED:20260204T183751Z
LAST-MODIFIED:20260204T183751Z
UID:10006917-1842852600-1842858000@www.flcduluth.org
SUMMARY:Men's Group
DESCRIPTION:
URL:https://www.flcduluth.org/event/mens-group-4/2028-05-25/
END:VEVENT
BEGIN:VEVENT
DTSTART;TZID=America/Chicago:20280531T100000
DTEND;TZID=America/Chicago:20280531T113000
DTSTAMP:20260425T064817
CREATED:20230829T193211Z
LAST-MODIFIED:20230829T193211Z
UID:10005101-1843380000-1843385400@www.flcduluth.org
SUMMARY:Staff Meeting
DESCRIPTION:
URL:https://www.flcduluth.org/event/staff-meeting-3/2028-05-31/
CATEGORIES:Staff
END:VEVENT
BEGIN:VEVENT
DTSTART;TZID=America/Chicago:20280531T170000
DTEND;TZID=America/Chicago:20280531T210000
DTSTAMP:20260425T064817
CREATED:20260204T184019Z
LAST-MODIFIED:20260204T184019Z
UID:10007255-1843405200-1843419600@www.flcduluth.org
SUMMARY:Community Event
DESCRIPTION:
URL:https://www.flcduluth.org/event/community-event/2028-05-31/
END:VEVENT
BEGIN:VEVENT
DTSTART;TZID=America/Chicago:20280601T073000
DTEND;TZID=America/Chicago:20280601T090000
DTSTAMP:20260425T064817
CREATED:20260204T183751Z
LAST-MODIFIED:20260204T183751Z
UID:10006918-1843457400-1843462800@www.flcduluth.org
SUMMARY:Men's Group
DESCRIPTION:
URL:https://www.flcduluth.org/event/mens-group-4/2028-06-01/
END:VEVENT
BEGIN:VEVENT
DTSTART;TZID=America/Chicago:20280601T090000
DTEND;TZID=America/Chicago:20280601T113000
DTSTAMP:20260425T064817
CREATED:20260204T183825Z
LAST-MODIFIED:20260204T183825Z
UID:10007086-1843462800-1843471800@www.flcduluth.org
SUMMARY:Quilters Gathering
DESCRIPTION:
URL:https://www.flcduluth.org/event/quilters-gathering/2028-06-01/
END:VEVENT
BEGIN:VEVENT
DTSTART;TZID=America/Chicago:20280601T180000
DTEND;TZID=America/Chicago:20280601T200000
DTSTAMP:20260425T064817
CREATED:20230706T191437Z
LAST-MODIFIED:20230706T191439Z
UID:10004633-1843495200-1843502400@www.flcduluth.org
SUMMARY:Vision Council Meeting
DESCRIPTION:
URL:https://www.flcduluth.org/event/vision-council-meeting-2-2-2/2028-06-01/
CATEGORIES:Committee Meetings
END:VEVENT
BEGIN:VEVENT
DTSTART;TZID=America/Chicago:20280607T100000
DTEND;TZID=America/Chicago:20280607T113000
DTSTAMP:20260425T064817
CREATED:20230829T193211Z
LAST-MODIFIED:20230829T193211Z
UID:10005102-1843984800-1843990200@www.flcduluth.org
SUMMARY:Staff Meeting
DESCRIPTION:
URL:https://www.flcduluth.org/event/staff-meeting-3/2028-06-07/
CATEGORIES:Staff
END:VEVENT
BEGIN:VEVENT
DTSTART;TZID=America/Chicago:20280607T170000
DTEND;TZID=America/Chicago:20280607T210000
DTSTAMP:20260425T064817
CREATED:20260204T184019Z
LAST-MODIFIED:20260204T184019Z
UID:10007256-1844010000-1844024400@www.flcduluth.org
SUMMARY:Community Event
DESCRIPTION:
URL:https://www.flcduluth.org/event/community-event/2028-06-07/
END:VEVENT
BEGIN:VEVENT
DTSTART;TZID=America/Chicago:20280608T073000
DTEND;TZID=America/Chicago:20280608T090000
DTSTAMP:20260425T064817
CREATED:20260204T183751Z
LAST-MODIFIED:20260204T183751Z
UID:10006919-1844062200-1844067600@www.flcduluth.org
SUMMARY:Men's Group
DESCRIPTION:
URL:https://www.flcduluth.org/event/mens-group-4/2028-06-08/
END:VEVENT
END:VCALENDAR