BEGIN:VCALENDAR
VERSION:2.0
PRODID:-//First Lutheran Church - ECPv6.15.20//NONSGML v1.0//EN
CALSCALE:GREGORIAN
METHOD:PUBLISH
X-ORIGINAL-URL:https://www.flcduluth.org
X-WR-CALDESC:Events for First Lutheran Church
REFRESH-INTERVAL;VALUE=DURATION:PT1H
X-Robots-Tag:noindex
X-PUBLISHED-TTL:PT1H
BEGIN:VTIMEZONE
TZID:America/Chicago
BEGIN:DAYLIGHT
TZOFFSETFROM:-0600
TZOFFSETTO:-0500
TZNAME:CDT
DTSTART:20270314T080000
END:DAYLIGHT
BEGIN:STANDARD
TZOFFSETFROM:-0500
TZOFFSETTO:-0600
TZNAME:CST
DTSTART:20271107T070000
END:STANDARD
BEGIN:DAYLIGHT
TZOFFSETFROM:-0600
TZOFFSETTO:-0500
TZNAME:CDT
DTSTART:20280312T080000
END:DAYLIGHT
BEGIN:STANDARD
TZOFFSETFROM:-0500
TZOFFSETTO:-0600
TZNAME:CST
DTSTART:20281105T070000
END:STANDARD
BEGIN:DAYLIGHT
TZOFFSETFROM:-0600
TZOFFSETTO:-0500
TZNAME:CDT
DTSTART:20290311T080000
END:DAYLIGHT
BEGIN:STANDARD
TZOFFSETFROM:-0500
TZOFFSETTO:-0600
TZNAME:CST
DTSTART:20291104T070000
END:STANDARD
END:VTIMEZONE
BEGIN:VEVENT
DTSTART;TZID=America/Chicago:20280830T170000
DTEND;TZID=America/Chicago:20280830T210000
DTSTAMP:20260425T064802
CREATED:20260204T184019Z
LAST-MODIFIED:20260204T184019Z
UID:10007268-1851267600-1851282000@www.flcduluth.org
SUMMARY:Community Event
DESCRIPTION:
URL:https://www.flcduluth.org/event/community-event/2028-08-30/
END:VEVENT
BEGIN:VEVENT
DTSTART;TZID=America/Chicago:20280831T073000
DTEND;TZID=America/Chicago:20280831T090000
DTSTAMP:20260425T064802
CREATED:20260204T183751Z
LAST-MODIFIED:20260204T183751Z
UID:10006931-1851319800-1851325200@www.flcduluth.org
SUMMARY:Men's Group
DESCRIPTION:
URL:https://www.flcduluth.org/event/mens-group-4/2028-08-31/
END:VEVENT
BEGIN:VEVENT
DTSTART;TZID=America/Chicago:20280906T170000
DTEND;TZID=America/Chicago:20280906T210000
DTSTAMP:20260425T064802
CREATED:20260204T184019Z
LAST-MODIFIED:20260204T184019Z
UID:10007269-1851872400-1851886800@www.flcduluth.org
SUMMARY:Community Event
DESCRIPTION:
URL:https://www.flcduluth.org/event/community-event/2028-09-06/
END:VEVENT
BEGIN:VEVENT
DTSTART;TZID=America/Chicago:20280907T073000
DTEND;TZID=America/Chicago:20280907T090000
DTSTAMP:20260425T064802
CREATED:20260204T183751Z
LAST-MODIFIED:20260204T183751Z
UID:10006932-1851924600-1851930000@www.flcduluth.org
SUMMARY:Men's Group
DESCRIPTION:
URL:https://www.flcduluth.org/event/mens-group-4/2028-09-07/
END:VEVENT
BEGIN:VEVENT
DTSTART;TZID=America/Chicago:20280907T090000
DTEND;TZID=America/Chicago:20280907T113000
DTSTAMP:20260425T064802
CREATED:20260204T183825Z
LAST-MODIFIED:20260204T183825Z
UID:10007089-1851930000-1851939000@www.flcduluth.org
SUMMARY:Quilters Gathering
DESCRIPTION:
URL:https://www.flcduluth.org/event/quilters-gathering/2028-09-07/
END:VEVENT
BEGIN:VEVENT
DTSTART;TZID=America/Chicago:20280907T180000
DTEND;TZID=America/Chicago:20280907T200000
DTSTAMP:20260425T064802
CREATED:20230706T191437Z
LAST-MODIFIED:20230706T191439Z
UID:10006491-1851962400-1851969600@www.flcduluth.org
SUMMARY:Vision Council Meeting
DESCRIPTION:
URL:https://www.flcduluth.org/event/vision-council-meeting-2-2-2/2028-09-07/
CATEGORIES:Committee Meetings
END:VEVENT
BEGIN:VEVENT
DTSTART;TZID=America/Chicago:20280913T170000
DTEND;TZID=America/Chicago:20280913T210000
DTSTAMP:20260425T064802
CREATED:20260204T184019Z
LAST-MODIFIED:20260204T184019Z
UID:10007270-1852477200-1852491600@www.flcduluth.org
SUMMARY:Community Event
DESCRIPTION:
URL:https://www.flcduluth.org/event/community-event/2028-09-13/
END:VEVENT
BEGIN:VEVENT
DTSTART;TZID=America/Chicago:20280914T073000
DTEND;TZID=America/Chicago:20280914T090000
DTSTAMP:20260425T064802
CREATED:20260204T183751Z
LAST-MODIFIED:20260204T183751Z
UID:10006933-1852529400-1852534800@www.flcduluth.org
SUMMARY:Men's Group
DESCRIPTION:
URL:https://www.flcduluth.org/event/mens-group-4/2028-09-14/
END:VEVENT
BEGIN:VEVENT
DTSTART;TZID=America/Chicago:20280920T170000
DTEND;TZID=America/Chicago:20280920T210000
DTSTAMP:20260425T064802
CREATED:20260204T184019Z
LAST-MODIFIED:20260204T184019Z
UID:10007271-1853082000-1853096400@www.flcduluth.org
SUMMARY:Community Event
DESCRIPTION:
URL:https://www.flcduluth.org/event/community-event/2028-09-20/
END:VEVENT
BEGIN:VEVENT
DTSTART;TZID=America/Chicago:20280921T073000
DTEND;TZID=America/Chicago:20280921T090000
DTSTAMP:20260425T064802
CREATED:20260204T183751Z
LAST-MODIFIED:20260204T183751Z
UID:10006934-1853134200-1853139600@www.flcduluth.org
SUMMARY:Men's Group
DESCRIPTION:
URL:https://www.flcduluth.org/event/mens-group-4/2028-09-21/
END:VEVENT
BEGIN:VEVENT
DTSTART;TZID=America/Chicago:20280927T170000
DTEND;TZID=America/Chicago:20280927T210000
DTSTAMP:20260425T064802
CREATED:20260204T184019Z
LAST-MODIFIED:20260204T184019Z
UID:10007272-1853686800-1853701200@www.flcduluth.org
SUMMARY:Community Event
DESCRIPTION:
URL:https://www.flcduluth.org/event/community-event/2028-09-27/
END:VEVENT
BEGIN:VEVENT
DTSTART;TZID=America/Chicago:20280928T073000
DTEND;TZID=America/Chicago:20280928T090000
DTSTAMP:20260425T064802
CREATED:20260204T183751Z
LAST-MODIFIED:20260204T183751Z
UID:10006935-1853739000-1853744400@www.flcduluth.org
SUMMARY:Men's Group
DESCRIPTION:
URL:https://www.flcduluth.org/event/mens-group-4/2028-09-28/
END:VEVENT
BEGIN:VEVENT
DTSTART;TZID=America/Chicago:20281004T170000
DTEND;TZID=America/Chicago:20281004T210000
DTSTAMP:20260425T064802
CREATED:20260204T184019Z
LAST-MODIFIED:20260204T184019Z
UID:10007273-1854291600-1854306000@www.flcduluth.org
SUMMARY:Community Event
DESCRIPTION:
URL:https://www.flcduluth.org/event/community-event/2028-10-04/
END:VEVENT
BEGIN:VEVENT
DTSTART;TZID=America/Chicago:20281005T073000
DTEND;TZID=America/Chicago:20281005T090000
DTSTAMP:20260425T064802
CREATED:20260204T183751Z
LAST-MODIFIED:20260204T183751Z
UID:10006936-1854343800-1854349200@www.flcduluth.org
SUMMARY:Men's Group
DESCRIPTION:
URL:https://www.flcduluth.org/event/mens-group-4/2028-10-05/
END:VEVENT
BEGIN:VEVENT
DTSTART;TZID=America/Chicago:20281005T090000
DTEND;TZID=America/Chicago:20281005T113000
DTSTAMP:20260425T064802
CREATED:20260204T183825Z
LAST-MODIFIED:20260204T183825Z
UID:10007090-1854349200-1854358200@www.flcduluth.org
SUMMARY:Quilters Gathering
DESCRIPTION:
URL:https://www.flcduluth.org/event/quilters-gathering/2028-10-05/
END:VEVENT
BEGIN:VEVENT
DTSTART;TZID=America/Chicago:20281005T180000
DTEND;TZID=America/Chicago:20281005T200000
DTSTAMP:20260425T064802
CREATED:20230706T191437Z
LAST-MODIFIED:20230706T191439Z
UID:10006492-1854381600-1854388800@www.flcduluth.org
SUMMARY:Vision Council Meeting
DESCRIPTION:
URL:https://www.flcduluth.org/event/vision-council-meeting-2-2-2/2028-10-05/
CATEGORIES:Committee Meetings
END:VEVENT
BEGIN:VEVENT
DTSTART;TZID=America/Chicago:20281011T170000
DTEND;TZID=America/Chicago:20281011T210000
DTSTAMP:20260425T064802
CREATED:20260204T184019Z
LAST-MODIFIED:20260204T184019Z
UID:10007274-1854896400-1854910800@www.flcduluth.org
SUMMARY:Community Event
DESCRIPTION:
URL:https://www.flcduluth.org/event/community-event/2028-10-11/
END:VEVENT
BEGIN:VEVENT
DTSTART;TZID=America/Chicago:20281012T073000
DTEND;TZID=America/Chicago:20281012T090000
DTSTAMP:20260425T064802
CREATED:20260204T183751Z
LAST-MODIFIED:20260204T183751Z
UID:10006937-1854948600-1854954000@www.flcduluth.org
SUMMARY:Men's Group
DESCRIPTION:
URL:https://www.flcduluth.org/event/mens-group-4/2028-10-12/
END:VEVENT
BEGIN:VEVENT
DTSTART;TZID=America/Chicago:20281018T170000
DTEND;TZID=America/Chicago:20281018T210000
DTSTAMP:20260425T064802
CREATED:20260204T184019Z
LAST-MODIFIED:20260204T184019Z
UID:10007275-1855501200-1855515600@www.flcduluth.org
SUMMARY:Community Event
DESCRIPTION:
URL:https://www.flcduluth.org/event/community-event/2028-10-18/
END:VEVENT
BEGIN:VEVENT
DTSTART;TZID=America/Chicago:20281019T073000
DTEND;TZID=America/Chicago:20281019T090000
DTSTAMP:20260425T064802
CREATED:20260204T183751Z
LAST-MODIFIED:20260204T183751Z
UID:10006938-1855553400-1855558800@www.flcduluth.org
SUMMARY:Men's Group
DESCRIPTION:
URL:https://www.flcduluth.org/event/mens-group-4/2028-10-19/
END:VEVENT
BEGIN:VEVENT
DTSTART;TZID=America/Chicago:20281025T170000
DTEND;TZID=America/Chicago:20281025T210000
DTSTAMP:20260425T064802
CREATED:20260204T184019Z
LAST-MODIFIED:20260204T184019Z
UID:10007276-1856106000-1856120400@www.flcduluth.org
SUMMARY:Community Event
DESCRIPTION:
URL:https://www.flcduluth.org/event/community-event/2028-10-25/
END:VEVENT
BEGIN:VEVENT
DTSTART;TZID=America/Chicago:20281026T073000
DTEND;TZID=America/Chicago:20281026T090000
DTSTAMP:20260425T064802
CREATED:20260204T183751Z
LAST-MODIFIED:20260204T183751Z
UID:10006939-1856158200-1856163600@www.flcduluth.org
SUMMARY:Men's Group
DESCRIPTION:
URL:https://www.flcduluth.org/event/mens-group-4/2028-10-26/
END:VEVENT
BEGIN:VEVENT
DTSTART;TZID=America/Chicago:20281101T170000
DTEND;TZID=America/Chicago:20281101T210000
DTSTAMP:20260425T064802
CREATED:20260204T184019Z
LAST-MODIFIED:20260204T184019Z
UID:10007277-1856710800-1856725200@www.flcduluth.org
SUMMARY:Community Event
DESCRIPTION:
URL:https://www.flcduluth.org/event/community-event/2028-11-01/
END:VEVENT
BEGIN:VEVENT
DTSTART;TZID=America/Chicago:20281102T073000
DTEND;TZID=America/Chicago:20281102T090000
DTSTAMP:20260425T064802
CREATED:20260204T183751Z
LAST-MODIFIED:20260204T183751Z
UID:10006940-1856763000-1856768400@www.flcduluth.org
SUMMARY:Men's Group
DESCRIPTION:
URL:https://www.flcduluth.org/event/mens-group-4/2028-11-02/
END:VEVENT
BEGIN:VEVENT
DTSTART;TZID=America/Chicago:20281102T090000
DTEND;TZID=America/Chicago:20281102T113000
DTSTAMP:20260425T064802
CREATED:20260204T183825Z
LAST-MODIFIED:20260204T183825Z
UID:10007091-1856768400-1856777400@www.flcduluth.org
SUMMARY:Quilters Gathering
DESCRIPTION:
URL:https://www.flcduluth.org/event/quilters-gathering/2028-11-02/
END:VEVENT
BEGIN:VEVENT
DTSTART;TZID=America/Chicago:20281102T180000
DTEND;TZID=America/Chicago:20281102T200000
DTSTAMP:20260425T064802
CREATED:20230706T191437Z
LAST-MODIFIED:20230706T191439Z
UID:10006493-1856800800-1856808000@www.flcduluth.org
SUMMARY:Vision Council Meeting
DESCRIPTION:
URL:https://www.flcduluth.org/event/vision-council-meeting-2-2-2/2028-11-02/
CATEGORIES:Committee Meetings
END:VEVENT
BEGIN:VEVENT
DTSTART;TZID=America/Chicago:20281108T170000
DTEND;TZID=America/Chicago:20281108T210000
DTSTAMP:20260425T064802
CREATED:20260204T184019Z
LAST-MODIFIED:20260204T184019Z
UID:10007278-1857315600-1857330000@www.flcduluth.org
SUMMARY:Community Event
DESCRIPTION:
URL:https://www.flcduluth.org/event/community-event/2028-11-08/
END:VEVENT
BEGIN:VEVENT
DTSTART;TZID=America/Chicago:20281109T073000
DTEND;TZID=America/Chicago:20281109T090000
DTSTAMP:20260425T064802
CREATED:20260204T183751Z
LAST-MODIFIED:20260204T183751Z
UID:10006941-1857367800-1857373200@www.flcduluth.org
SUMMARY:Men's Group
DESCRIPTION:
URL:https://www.flcduluth.org/event/mens-group-4/2028-11-09/
END:VEVENT
BEGIN:VEVENT
DTSTART;TZID=America/Chicago:20281115T170000
DTEND;TZID=America/Chicago:20281115T210000
DTSTAMP:20260425T064802
CREATED:20260204T184019Z
LAST-MODIFIED:20260204T184019Z
UID:10007279-1857920400-1857934800@www.flcduluth.org
SUMMARY:Community Event
DESCRIPTION:
URL:https://www.flcduluth.org/event/community-event/2028-11-15/
END:VEVENT
BEGIN:VEVENT
DTSTART;TZID=America/Chicago:20281116T073000
DTEND;TZID=America/Chicago:20281116T090000
DTSTAMP:20260425T064802
CREATED:20260204T183751Z
LAST-MODIFIED:20260204T183751Z
UID:10006942-1857972600-1857978000@www.flcduluth.org
SUMMARY:Men's Group
DESCRIPTION:
URL:https://www.flcduluth.org/event/mens-group-4/2028-11-16/
END:VEVENT
END:VCALENDAR