BEGIN:VCALENDAR
VERSION:2.0
PRODID:-//First Lutheran Church - ECPv6.15.20//NONSGML v1.0//EN
CALSCALE:GREGORIAN
METHOD:PUBLISH
X-WR-CALNAME:First Lutheran Church
X-ORIGINAL-URL:https://www.flcduluth.org
X-WR-CALDESC:Events for First Lutheran Church
REFRESH-INTERVAL;VALUE=DURATION:PT1H
X-Robots-Tag:noindex
X-PUBLISHED-TTL:PT1H
BEGIN:VTIMEZONE
TZID:America/Chicago
BEGIN:DAYLIGHT
TZOFFSETFROM:-0600
TZOFFSETTO:-0500
TZNAME:CDT
DTSTART:20270314T080000
END:DAYLIGHT
BEGIN:STANDARD
TZOFFSETFROM:-0500
TZOFFSETTO:-0600
TZNAME:CST
DTSTART:20271107T070000
END:STANDARD
BEGIN:DAYLIGHT
TZOFFSETFROM:-0600
TZOFFSETTO:-0500
TZNAME:CDT
DTSTART:20280312T080000
END:DAYLIGHT
BEGIN:STANDARD
TZOFFSETFROM:-0500
TZOFFSETTO:-0600
TZNAME:CST
DTSTART:20281105T070000
END:STANDARD
BEGIN:DAYLIGHT
TZOFFSETFROM:-0600
TZOFFSETTO:-0500
TZNAME:CDT
DTSTART:20290311T080000
END:DAYLIGHT
BEGIN:STANDARD
TZOFFSETFROM:-0500
TZOFFSETTO:-0600
TZNAME:CST
DTSTART:20291104T070000
END:STANDARD
END:VTIMEZONE
BEGIN:VEVENT
DTSTART;TZID=America/Chicago:20280726T170000
DTEND;TZID=America/Chicago:20280726T210000
DTSTAMP:20260425T052153
CREATED:20260204T184019Z
LAST-MODIFIED:20260204T184019Z
UID:10007263-1848243600-1848258000@www.flcduluth.org
SUMMARY:Community Event
DESCRIPTION:
URL:https://www.flcduluth.org/event/community-event/2028-07-26/
END:VEVENT
BEGIN:VEVENT
DTSTART;TZID=America/Chicago:20280727T073000
DTEND;TZID=America/Chicago:20280727T090000
DTSTAMP:20260425T052153
CREATED:20260204T183751Z
LAST-MODIFIED:20260204T183751Z
UID:10006926-1848295800-1848301200@www.flcduluth.org
SUMMARY:Men's Group
DESCRIPTION:
URL:https://www.flcduluth.org/event/mens-group-4/2028-07-27/
END:VEVENT
BEGIN:VEVENT
DTSTART;TZID=America/Chicago:20280802T100000
DTEND;TZID=America/Chicago:20280802T113000
DTSTAMP:20260425T052153
CREATED:20230829T193211Z
LAST-MODIFIED:20230829T193211Z
UID:10005110-1848823200-1848828600@www.flcduluth.org
SUMMARY:Staff Meeting
DESCRIPTION:
URL:https://www.flcduluth.org/event/staff-meeting-3/2028-08-02/
CATEGORIES:Staff
END:VEVENT
BEGIN:VEVENT
DTSTART;TZID=America/Chicago:20280802T170000
DTEND;TZID=America/Chicago:20280802T210000
DTSTAMP:20260425T052153
CREATED:20260204T184019Z
LAST-MODIFIED:20260204T184019Z
UID:10007264-1848848400-1848862800@www.flcduluth.org
SUMMARY:Community Event
DESCRIPTION:
URL:https://www.flcduluth.org/event/community-event/2028-08-02/
END:VEVENT
BEGIN:VEVENT
DTSTART;TZID=America/Chicago:20280803T073000
DTEND;TZID=America/Chicago:20280803T090000
DTSTAMP:20260425T052153
CREATED:20260204T183751Z
LAST-MODIFIED:20260204T183751Z
UID:10006927-1848900600-1848906000@www.flcduluth.org
SUMMARY:Men's Group
DESCRIPTION:
URL:https://www.flcduluth.org/event/mens-group-4/2028-08-03/
END:VEVENT
BEGIN:VEVENT
DTSTART;TZID=America/Chicago:20280803T090000
DTEND;TZID=America/Chicago:20280803T113000
DTSTAMP:20260425T052153
CREATED:20260204T183825Z
LAST-MODIFIED:20260204T183825Z
UID:10007088-1848906000-1848915000@www.flcduluth.org
SUMMARY:Quilters Gathering
DESCRIPTION:
URL:https://www.flcduluth.org/event/quilters-gathering/2028-08-03/
END:VEVENT
BEGIN:VEVENT
DTSTART;TZID=America/Chicago:20280803T180000
DTEND;TZID=America/Chicago:20280803T200000
DTSTAMP:20260425T052153
CREATED:20230706T191437Z
LAST-MODIFIED:20230706T191439Z
UID:10006490-1848938400-1848945600@www.flcduluth.org
SUMMARY:Vision Council Meeting
DESCRIPTION:
URL:https://www.flcduluth.org/event/vision-council-meeting-2-2-2/2028-08-03/
CATEGORIES:Committee Meetings
END:VEVENT
BEGIN:VEVENT
DTSTART;TZID=America/Chicago:20280809T100000
DTEND;TZID=America/Chicago:20280809T113000
DTSTAMP:20260425T052153
CREATED:20230829T193211Z
LAST-MODIFIED:20230829T193211Z
UID:10005111-1849428000-1849433400@www.flcduluth.org
SUMMARY:Staff Meeting
DESCRIPTION:
URL:https://www.flcduluth.org/event/staff-meeting-3/2028-08-09/
CATEGORIES:Staff
END:VEVENT
BEGIN:VEVENT
DTSTART;TZID=America/Chicago:20280809T170000
DTEND;TZID=America/Chicago:20280809T210000
DTSTAMP:20260425T052153
CREATED:20260204T184019Z
LAST-MODIFIED:20260204T184019Z
UID:10007265-1849453200-1849467600@www.flcduluth.org
SUMMARY:Community Event
DESCRIPTION:
URL:https://www.flcduluth.org/event/community-event/2028-08-09/
END:VEVENT
BEGIN:VEVENT
DTSTART;TZID=America/Chicago:20280810T073000
DTEND;TZID=America/Chicago:20280810T090000
DTSTAMP:20260425T052153
CREATED:20260204T183751Z
LAST-MODIFIED:20260204T183751Z
UID:10006928-1849505400-1849510800@www.flcduluth.org
SUMMARY:Men's Group
DESCRIPTION:
URL:https://www.flcduluth.org/event/mens-group-4/2028-08-10/
END:VEVENT
BEGIN:VEVENT
DTSTART;TZID=America/Chicago:20280816T100000
DTEND;TZID=America/Chicago:20280816T113000
DTSTAMP:20260425T052153
CREATED:20230829T193211Z
LAST-MODIFIED:20230829T193211Z
UID:10005112-1850032800-1850038200@www.flcduluth.org
SUMMARY:Staff Meeting
DESCRIPTION:
URL:https://www.flcduluth.org/event/staff-meeting-3/2028-08-16/
CATEGORIES:Staff
END:VEVENT
BEGIN:VEVENT
DTSTART;TZID=America/Chicago:20280816T170000
DTEND;TZID=America/Chicago:20280816T210000
DTSTAMP:20260425T052153
CREATED:20260204T184019Z
LAST-MODIFIED:20260204T184019Z
UID:10007266-1850058000-1850072400@www.flcduluth.org
SUMMARY:Community Event
DESCRIPTION:
URL:https://www.flcduluth.org/event/community-event/2028-08-16/
END:VEVENT
BEGIN:VEVENT
DTSTART;TZID=America/Chicago:20280817T073000
DTEND;TZID=America/Chicago:20280817T090000
DTSTAMP:20260425T052153
CREATED:20260204T183751Z
LAST-MODIFIED:20260204T183751Z
UID:10006929-1850110200-1850115600@www.flcduluth.org
SUMMARY:Men's Group
DESCRIPTION:
URL:https://www.flcduluth.org/event/mens-group-4/2028-08-17/
END:VEVENT
BEGIN:VEVENT
DTSTART;TZID=America/Chicago:20280823T100000
DTEND;TZID=America/Chicago:20280823T113000
DTSTAMP:20260425T052153
CREATED:20230829T193211Z
LAST-MODIFIED:20230829T193211Z
UID:10005113-1850637600-1850643000@www.flcduluth.org
SUMMARY:Staff Meeting
DESCRIPTION:
URL:https://www.flcduluth.org/event/staff-meeting-3/2028-08-23/
CATEGORIES:Staff
END:VEVENT
BEGIN:VEVENT
DTSTART;TZID=America/Chicago:20280823T170000
DTEND;TZID=America/Chicago:20280823T210000
DTSTAMP:20260425T052153
CREATED:20260204T184019Z
LAST-MODIFIED:20260204T184019Z
UID:10007267-1850662800-1850677200@www.flcduluth.org
SUMMARY:Community Event
DESCRIPTION:
URL:https://www.flcduluth.org/event/community-event/2028-08-23/
END:VEVENT
BEGIN:VEVENT
DTSTART;TZID=America/Chicago:20280824T073000
DTEND;TZID=America/Chicago:20280824T090000
DTSTAMP:20260425T052153
CREATED:20260204T183751Z
LAST-MODIFIED:20260204T183751Z
UID:10006930-1850715000-1850720400@www.flcduluth.org
SUMMARY:Men's Group
DESCRIPTION:
URL:https://www.flcduluth.org/event/mens-group-4/2028-08-24/
END:VEVENT
BEGIN:VEVENT
DTSTART;TZID=America/Chicago:20280830T170000
DTEND;TZID=America/Chicago:20280830T210000
DTSTAMP:20260425T052153
CREATED:20260204T184019Z
LAST-MODIFIED:20260204T184019Z
UID:10007268-1851267600-1851282000@www.flcduluth.org
SUMMARY:Community Event
DESCRIPTION:
URL:https://www.flcduluth.org/event/community-event/2028-08-30/
END:VEVENT
BEGIN:VEVENT
DTSTART;TZID=America/Chicago:20280831T073000
DTEND;TZID=America/Chicago:20280831T090000
DTSTAMP:20260425T052153
CREATED:20260204T183751Z
LAST-MODIFIED:20260204T183751Z
UID:10006931-1851319800-1851325200@www.flcduluth.org
SUMMARY:Men's Group
DESCRIPTION:
URL:https://www.flcduluth.org/event/mens-group-4/2028-08-31/
END:VEVENT
BEGIN:VEVENT
DTSTART;TZID=America/Chicago:20280906T170000
DTEND;TZID=America/Chicago:20280906T210000
DTSTAMP:20260425T052153
CREATED:20260204T184019Z
LAST-MODIFIED:20260204T184019Z
UID:10007269-1851872400-1851886800@www.flcduluth.org
SUMMARY:Community Event
DESCRIPTION:
URL:https://www.flcduluth.org/event/community-event/2028-09-06/
END:VEVENT
BEGIN:VEVENT
DTSTART;TZID=America/Chicago:20280907T073000
DTEND;TZID=America/Chicago:20280907T090000
DTSTAMP:20260425T052153
CREATED:20260204T183751Z
LAST-MODIFIED:20260204T183751Z
UID:10006932-1851924600-1851930000@www.flcduluth.org
SUMMARY:Men's Group
DESCRIPTION:
URL:https://www.flcduluth.org/event/mens-group-4/2028-09-07/
END:VEVENT
BEGIN:VEVENT
DTSTART;TZID=America/Chicago:20280907T090000
DTEND;TZID=America/Chicago:20280907T113000
DTSTAMP:20260425T052153
CREATED:20260204T183825Z
LAST-MODIFIED:20260204T183825Z
UID:10007089-1851930000-1851939000@www.flcduluth.org
SUMMARY:Quilters Gathering
DESCRIPTION:
URL:https://www.flcduluth.org/event/quilters-gathering/2028-09-07/
END:VEVENT
BEGIN:VEVENT
DTSTART;TZID=America/Chicago:20280907T180000
DTEND;TZID=America/Chicago:20280907T200000
DTSTAMP:20260425T052153
CREATED:20230706T191437Z
LAST-MODIFIED:20230706T191439Z
UID:10006491-1851962400-1851969600@www.flcduluth.org
SUMMARY:Vision Council Meeting
DESCRIPTION:
URL:https://www.flcduluth.org/event/vision-council-meeting-2-2-2/2028-09-07/
CATEGORIES:Committee Meetings
END:VEVENT
BEGIN:VEVENT
DTSTART;TZID=America/Chicago:20280913T170000
DTEND;TZID=America/Chicago:20280913T210000
DTSTAMP:20260425T052153
CREATED:20260204T184019Z
LAST-MODIFIED:20260204T184019Z
UID:10007270-1852477200-1852491600@www.flcduluth.org
SUMMARY:Community Event
DESCRIPTION:
URL:https://www.flcduluth.org/event/community-event/2028-09-13/
END:VEVENT
BEGIN:VEVENT
DTSTART;TZID=America/Chicago:20280914T073000
DTEND;TZID=America/Chicago:20280914T090000
DTSTAMP:20260425T052153
CREATED:20260204T183751Z
LAST-MODIFIED:20260204T183751Z
UID:10006933-1852529400-1852534800@www.flcduluth.org
SUMMARY:Men's Group
DESCRIPTION:
URL:https://www.flcduluth.org/event/mens-group-4/2028-09-14/
END:VEVENT
BEGIN:VEVENT
DTSTART;TZID=America/Chicago:20280920T170000
DTEND;TZID=America/Chicago:20280920T210000
DTSTAMP:20260425T052153
CREATED:20260204T184019Z
LAST-MODIFIED:20260204T184019Z
UID:10007271-1853082000-1853096400@www.flcduluth.org
SUMMARY:Community Event
DESCRIPTION:
URL:https://www.flcduluth.org/event/community-event/2028-09-20/
END:VEVENT
BEGIN:VEVENT
DTSTART;TZID=America/Chicago:20280921T073000
DTEND;TZID=America/Chicago:20280921T090000
DTSTAMP:20260425T052153
CREATED:20260204T183751Z
LAST-MODIFIED:20260204T183751Z
UID:10006934-1853134200-1853139600@www.flcduluth.org
SUMMARY:Men's Group
DESCRIPTION:
URL:https://www.flcduluth.org/event/mens-group-4/2028-09-21/
END:VEVENT
BEGIN:VEVENT
DTSTART;TZID=America/Chicago:20280927T170000
DTEND;TZID=America/Chicago:20280927T210000
DTSTAMP:20260425T052153
CREATED:20260204T184019Z
LAST-MODIFIED:20260204T184019Z
UID:10007272-1853686800-1853701200@www.flcduluth.org
SUMMARY:Community Event
DESCRIPTION:
URL:https://www.flcduluth.org/event/community-event/2028-09-27/
END:VEVENT
BEGIN:VEVENT
DTSTART;TZID=America/Chicago:20280928T073000
DTEND;TZID=America/Chicago:20280928T090000
DTSTAMP:20260425T052153
CREATED:20260204T183751Z
LAST-MODIFIED:20260204T183751Z
UID:10006935-1853739000-1853744400@www.flcduluth.org
SUMMARY:Men's Group
DESCRIPTION:
URL:https://www.flcduluth.org/event/mens-group-4/2028-09-28/
END:VEVENT
BEGIN:VEVENT
DTSTART;TZID=America/Chicago:20281004T170000
DTEND;TZID=America/Chicago:20281004T210000
DTSTAMP:20260425T052153
CREATED:20260204T184019Z
LAST-MODIFIED:20260204T184019Z
UID:10007273-1854291600-1854306000@www.flcduluth.org
SUMMARY:Community Event
DESCRIPTION:
URL:https://www.flcduluth.org/event/community-event/2028-10-04/
END:VEVENT
BEGIN:VEVENT
DTSTART;TZID=America/Chicago:20281005T073000
DTEND;TZID=America/Chicago:20281005T090000
DTSTAMP:20260425T052153
CREATED:20260204T183751Z
LAST-MODIFIED:20260204T183751Z
UID:10006936-1854343800-1854349200@www.flcduluth.org
SUMMARY:Men's Group
DESCRIPTION:
URL:https://www.flcduluth.org/event/mens-group-4/2028-10-05/
END:VEVENT
END:VCALENDAR