BEGIN:VCALENDAR
VERSION:2.0
PRODID:-//First Lutheran Church - ECPv6.15.20//NONSGML v1.0//EN
CALSCALE:GREGORIAN
METHOD:PUBLISH
X-WR-CALNAME:First Lutheran Church
X-ORIGINAL-URL:https://www.flcduluth.org
X-WR-CALDESC:Events for First Lutheran Church
REFRESH-INTERVAL;VALUE=DURATION:PT1H
X-Robots-Tag:noindex
X-PUBLISHED-TTL:PT1H
BEGIN:VTIMEZONE
TZID:America/Chicago
BEGIN:DAYLIGHT
TZOFFSETFROM:-0600
TZOFFSETTO:-0500
TZNAME:CDT
DTSTART:20240310T080000
END:DAYLIGHT
BEGIN:STANDARD
TZOFFSETFROM:-0500
TZOFFSETTO:-0600
TZNAME:CST
DTSTART:20241103T070000
END:STANDARD
BEGIN:DAYLIGHT
TZOFFSETFROM:-0600
TZOFFSETTO:-0500
TZNAME:CDT
DTSTART:20250309T080000
END:DAYLIGHT
BEGIN:STANDARD
TZOFFSETFROM:-0500
TZOFFSETTO:-0600
TZNAME:CST
DTSTART:20251102T070000
END:STANDARD
BEGIN:DAYLIGHT
TZOFFSETFROM:-0600
TZOFFSETTO:-0500
TZNAME:CDT
DTSTART:20260308T080000
END:DAYLIGHT
BEGIN:STANDARD
TZOFFSETFROM:-0500
TZOFFSETTO:-0600
TZNAME:CST
DTSTART:20261101T070000
END:STANDARD
END:VTIMEZONE
BEGIN:VEVENT
DTSTART;TZID=America/Chicago:20251022T113000
DTEND;TZID=America/Chicago:20251022T130000
DTSTAMP:20260423T162702
CREATED:20230110T220749Z
LAST-MODIFIED:20230110T220749Z
UID:10002879-1761132600-1761138000@www.flcduluth.org
SUMMARY:Al-Anon
DESCRIPTION:
URL:https://www.flcduluth.org/event/al-anon/2025-10-22/
CATEGORIES:Outside Group
END:VEVENT
BEGIN:VEVENT
DTSTART;TZID=America/Chicago:20251022T100000
DTEND;TZID=America/Chicago:20251022T113000
DTSTAMP:20260423T162702
CREATED:20230829T193211Z
LAST-MODIFIED:20230829T193211Z
UID:10004965-1761127200-1761132600@www.flcduluth.org
SUMMARY:Staff Meeting
DESCRIPTION:
URL:https://www.flcduluth.org/event/staff-meeting-3/2025-10-22/
CATEGORIES:Staff
END:VEVENT
BEGIN:VEVENT
DTSTART;TZID=America/Chicago:20251021T063000
DTEND;TZID=America/Chicago:20251021T193000
DTSTAMP:20260423T162702
CREATED:20230110T220428Z
LAST-MODIFIED:20230110T220428Z
UID:10002618-1761028200-1761075000@www.flcduluth.org
SUMMARY:Tai-Chi
DESCRIPTION:
URL:https://www.flcduluth.org/event/tai-chi-3/2025-10-21/
CATEGORIES:Outside Group
END:VEVENT
BEGIN:VEVENT
DTSTART;TZID=America/Chicago:20251020T193000
DTEND;TZID=America/Chicago:20251020T210000
DTSTAMP:20260423T162702
CREATED:20230110T215936Z
LAST-MODIFIED:20230110T215936Z
UID:10002342-1760988600-1760994000@www.flcduluth.org
SUMMARY:Nar-Anon Meeting
DESCRIPTION:
URL:https://www.flcduluth.org/event/nar-anon-meeting/2025-10-20/
CATEGORIES:Outside Group
END:VEVENT
BEGIN:VEVENT
DTSTART;TZID=America/Chicago:20251019T083000
DTEND;TZID=America/Chicago:20251019T093000
DTSTAMP:20260423T162702
CREATED:20240515T192107Z
LAST-MODIFIED:20250411T172815Z
UID:10005937-1760862600-1760866200@www.flcduluth.org
SUMMARY:Traditional Worship
DESCRIPTION:
URL:https://www.flcduluth.org/event/worship-16/2025-10-19/
CATEGORIES:Worship
END:VEVENT
BEGIN:VEVENT
DTSTART;TZID=America/Chicago:20251018T090000
DTEND;TZID=America/Chicago:20251018T110000
DTSTAMP:20260423T162702
CREATED:20230110T222829Z
LAST-MODIFIED:20230110T223030Z
UID:10003513-1760778000-1760785200@www.flcduluth.org
SUMMARY:AA
DESCRIPTION:
URL:https://www.flcduluth.org/event/aa-3/2025-10-18/
CATEGORIES:Outside Group
END:VEVENT
BEGIN:VEVENT
DTSTART;TZID=America/Chicago:20251016T183000
DTEND;TZID=America/Chicago:20251016T200000
DTSTAMP:20260423T162702
CREATED:20230110T223406Z
LAST-MODIFIED:20230110T223406Z
UID:10003665-1760639400-1760644800@www.flcduluth.org
SUMMARY:District AA Meeting
DESCRIPTION:
URL:https://www.flcduluth.org/event/district-aa-meeting-4/2025-10-16/
CATEGORIES:Outside Group
END:VEVENT
BEGIN:VEVENT
DTSTART;TZID=America/Chicago:20251016T170000
DTEND;TZID=America/Chicago:20251016T183000
DTSTAMP:20260423T162702
CREATED:20230706T191139Z
LAST-MODIFIED:20230706T191139Z
UID:10004542-1760634000-1760639400@www.flcduluth.org
SUMMARY:Finance Meeting
DESCRIPTION:
URL:https://www.flcduluth.org/event/finance-meeting-8/2025-10-16/
CATEGORIES:Committee Meetings
END:VEVENT
BEGIN:VEVENT
DTSTART;TZID=America/Chicago:20251015T113000
DTEND;TZID=America/Chicago:20251015T130000
DTSTAMP:20260423T162702
CREATED:20230110T220749Z
LAST-MODIFIED:20230110T220749Z
UID:10002878-1760527800-1760533200@www.flcduluth.org
SUMMARY:Al-Anon
DESCRIPTION:
URL:https://www.flcduluth.org/event/al-anon/2025-10-15/
CATEGORIES:Outside Group
END:VEVENT
BEGIN:VEVENT
DTSTART;TZID=America/Chicago:20251015T100000
DTEND;TZID=America/Chicago:20251015T113000
DTSTAMP:20260423T162702
CREATED:20230829T193211Z
LAST-MODIFIED:20230829T193211Z
UID:10004964-1760522400-1760527800@www.flcduluth.org
SUMMARY:Staff Meeting
DESCRIPTION:
URL:https://www.flcduluth.org/event/staff-meeting-3/2025-10-15/
CATEGORIES:Staff
END:VEVENT
BEGIN:VEVENT
DTSTART;TZID=America/Chicago:20251014T063000
DTEND;TZID=America/Chicago:20251014T193000
DTSTAMP:20260423T162702
CREATED:20230110T220428Z
LAST-MODIFIED:20230110T220428Z
UID:10002617-1760423400-1760470200@www.flcduluth.org
SUMMARY:Tai-Chi
DESCRIPTION:
URL:https://www.flcduluth.org/event/tai-chi-3/2025-10-14/
CATEGORIES:Outside Group
END:VEVENT
BEGIN:VEVENT
DTSTART;TZID=America/Chicago:20251013T193000
DTEND;TZID=America/Chicago:20251013T210000
DTSTAMP:20260423T162702
CREATED:20230110T215936Z
LAST-MODIFIED:20230110T215936Z
UID:10002341-1760383800-1760389200@www.flcduluth.org
SUMMARY:Nar-Anon Meeting
DESCRIPTION:
URL:https://www.flcduluth.org/event/nar-anon-meeting/2025-10-13/
CATEGORIES:Outside Group
END:VEVENT
BEGIN:VEVENT
DTSTART;TZID=America/Chicago:20251012T083000
DTEND;TZID=America/Chicago:20251012T093000
DTSTAMP:20260423T162702
CREATED:20240515T192107Z
LAST-MODIFIED:20250411T172815Z
UID:10005936-1760257800-1760261400@www.flcduluth.org
SUMMARY:Traditional Worship
DESCRIPTION:
URL:https://www.flcduluth.org/event/worship-16/2025-10-12/
CATEGORIES:Worship
END:VEVENT
BEGIN:VEVENT
DTSTART;TZID=America/Chicago:20251011T090000
DTEND;TZID=America/Chicago:20251011T110000
DTSTAMP:20260423T162702
CREATED:20230110T222829Z
LAST-MODIFIED:20230110T223030Z
UID:10003512-1760173200-1760180400@www.flcduluth.org
SUMMARY:AA
DESCRIPTION:
URL:https://www.flcduluth.org/event/aa-3/2025-10-11/
CATEGORIES:Outside Group
END:VEVENT
BEGIN:VEVENT
DTSTART;TZID=America/Chicago:20251008T113000
DTEND;TZID=America/Chicago:20251008T130000
DTSTAMP:20260423T162702
CREATED:20230110T220749Z
LAST-MODIFIED:20230110T220749Z
UID:10002877-1759923000-1759928400@www.flcduluth.org
SUMMARY:Al-Anon
DESCRIPTION:
URL:https://www.flcduluth.org/event/al-anon/2025-10-08/
CATEGORIES:Outside Group
END:VEVENT
BEGIN:VEVENT
DTSTART;TZID=America/Chicago:20251008T100000
DTEND;TZID=America/Chicago:20251008T113000
DTSTAMP:20260423T162702
CREATED:20230829T193211Z
LAST-MODIFIED:20230829T193211Z
UID:10004963-1759917600-1759923000@www.flcduluth.org
SUMMARY:Staff Meeting
DESCRIPTION:
URL:https://www.flcduluth.org/event/staff-meeting-3/2025-10-08/
CATEGORIES:Staff
END:VEVENT
BEGIN:VEVENT
DTSTART;TZID=America/Chicago:20251007T063000
DTEND;TZID=America/Chicago:20251007T193000
DTSTAMP:20260423T162702
CREATED:20230110T220428Z
LAST-MODIFIED:20230110T220428Z
UID:10002616-1759818600-1759865400@www.flcduluth.org
SUMMARY:Tai-Chi
DESCRIPTION:
URL:https://www.flcduluth.org/event/tai-chi-3/2025-10-07/
CATEGORIES:Outside Group
END:VEVENT
BEGIN:VEVENT
DTSTART;TZID=America/Chicago:20251006T193000
DTEND;TZID=America/Chicago:20251006T210000
DTSTAMP:20260423T162702
CREATED:20230110T215936Z
LAST-MODIFIED:20230110T215936Z
UID:10002340-1759779000-1759784400@www.flcduluth.org
SUMMARY:Nar-Anon Meeting
DESCRIPTION:
URL:https://www.flcduluth.org/event/nar-anon-meeting/2025-10-06/
CATEGORIES:Outside Group
END:VEVENT
BEGIN:VEVENT
DTSTART;TZID=America/Chicago:20251006T190000
DTEND;TZID=America/Chicago:20251006T203000
DTSTAMP:20260423T162702
CREATED:20230201T213018Z
LAST-MODIFIED:20230201T213018Z
UID:10004000-1759777200-1759782600@www.flcduluth.org
SUMMARY:Ruth Gathering
DESCRIPTION:
URL:https://www.flcduluth.org/event/ruth-gathering-3/2025-10-06/
LOCATION:First Lutheran Church\, 1100 E. Superior St.\, Duluth\, MN\, 55802\, United States
CATEGORIES:Women's Ministry
END:VEVENT
BEGIN:VEVENT
DTSTART;TZID=America/Chicago:20251005T083000
DTEND;TZID=America/Chicago:20251005T093000
DTSTAMP:20260423T162702
CREATED:20240515T192107Z
LAST-MODIFIED:20250411T172815Z
UID:10005935-1759653000-1759656600@www.flcduluth.org
SUMMARY:Traditional Worship
DESCRIPTION:
URL:https://www.flcduluth.org/event/worship-16/2025-10-05/
CATEGORIES:Worship
END:VEVENT
BEGIN:VEVENT
DTSTART;TZID=America/Chicago:20251004T090000
DTEND;TZID=America/Chicago:20251004T110000
DTSTAMP:20260423T162702
CREATED:20230110T222829Z
LAST-MODIFIED:20230110T223030Z
UID:10003511-1759568400-1759575600@www.flcduluth.org
SUMMARY:AA
DESCRIPTION:
URL:https://www.flcduluth.org/event/aa-3/2025-10-04/
CATEGORIES:Outside Group
END:VEVENT
BEGIN:VEVENT
DTSTART;TZID=America/Chicago:20251002T180000
DTEND;TZID=America/Chicago:20251002T200000
DTSTAMP:20260423T162702
CREATED:20230706T191437Z
LAST-MODIFIED:20230706T191439Z
UID:10004601-1759428000-1759435200@www.flcduluth.org
SUMMARY:Vision Council Meeting
DESCRIPTION:
URL:https://www.flcduluth.org/event/vision-council-meeting-2-2-2/2025-10-02/
CATEGORIES:Committee Meetings
END:VEVENT
BEGIN:VEVENT
DTSTART;TZID=America/Chicago:20251001T113000
DTEND;TZID=America/Chicago:20251001T130000
DTSTAMP:20260423T162702
CREATED:20230110T220749Z
LAST-MODIFIED:20230110T220749Z
UID:10002876-1759318200-1759323600@www.flcduluth.org
SUMMARY:Al-Anon
DESCRIPTION:
URL:https://www.flcduluth.org/event/al-anon/2025-10-01/
CATEGORIES:Outside Group
END:VEVENT
BEGIN:VEVENT
DTSTART;TZID=America/Chicago:20251001T100000
DTEND;TZID=America/Chicago:20251001T113000
DTSTAMP:20260423T162702
CREATED:20230829T193211Z
LAST-MODIFIED:20230829T193211Z
UID:10004962-1759312800-1759318200@www.flcduluth.org
SUMMARY:Staff Meeting
DESCRIPTION:
URL:https://www.flcduluth.org/event/staff-meeting-3/2025-10-01/
CATEGORIES:Staff
END:VEVENT
BEGIN:VEVENT
DTSTART;TZID=America/Chicago:20250930T063000
DTEND;TZID=America/Chicago:20250930T193000
DTSTAMP:20260423T162702
CREATED:20230110T220428Z
LAST-MODIFIED:20230110T220428Z
UID:10002615-1759213800-1759260600@www.flcduluth.org
SUMMARY:Tai-Chi
DESCRIPTION:
URL:https://www.flcduluth.org/event/tai-chi-3/2025-09-30/
CATEGORIES:Outside Group
END:VEVENT
BEGIN:VEVENT
DTSTART;TZID=America/Chicago:20250929T193000
DTEND;TZID=America/Chicago:20250929T210000
DTSTAMP:20260423T162702
CREATED:20230110T215936Z
LAST-MODIFIED:20230110T215936Z
UID:10002339-1759174200-1759179600@www.flcduluth.org
SUMMARY:Nar-Anon Meeting
DESCRIPTION:
URL:https://www.flcduluth.org/event/nar-anon-meeting/2025-09-29/
CATEGORIES:Outside Group
END:VEVENT
BEGIN:VEVENT
DTSTART;TZID=America/Chicago:20250928T120000
DTEND;TZID=America/Chicago:20250928T133000
DTSTAMP:20260423T162702
CREATED:20230110T224319Z
LAST-MODIFIED:20230110T224319Z
UID:10003731-1759060800-1759066200@www.flcduluth.org
SUMMARY:Community Meal
DESCRIPTION:
URL:https://www.flcduluth.org/event/community-meal-3/2025-09-28/
END:VEVENT
BEGIN:VEVENT
DTSTART;TZID=America/Chicago:20250928T083000
DTEND;TZID=America/Chicago:20250928T093000
DTSTAMP:20260423T162702
CREATED:20240515T192107Z
LAST-MODIFIED:20250411T172815Z
UID:10005934-1759048200-1759051800@www.flcduluth.org
SUMMARY:Traditional Worship
DESCRIPTION:
URL:https://www.flcduluth.org/event/worship-16/2025-09-28/
CATEGORIES:Worship
END:VEVENT
BEGIN:VEVENT
DTSTART;TZID=America/Chicago:20250927T090000
DTEND;TZID=America/Chicago:20250927T110000
DTSTAMP:20260423T162702
CREATED:20230110T222829Z
LAST-MODIFIED:20230110T223030Z
UID:10003510-1758963600-1758970800@www.flcduluth.org
SUMMARY:AA
DESCRIPTION:
URL:https://www.flcduluth.org/event/aa-3/2025-09-27/
CATEGORIES:Outside Group
END:VEVENT
BEGIN:VEVENT
DTSTART;TZID=America/Chicago:20250924T113000
DTEND;TZID=America/Chicago:20250924T130000
DTSTAMP:20260423T162702
CREATED:20230110T220749Z
LAST-MODIFIED:20230110T220749Z
UID:10002875-1758713400-1758718800@www.flcduluth.org
SUMMARY:Al-Anon
DESCRIPTION:
URL:https://www.flcduluth.org/event/al-anon/2025-09-24/
CATEGORIES:Outside Group
END:VEVENT
END:VCALENDAR