BEGIN:VCALENDAR
VERSION:2.0
PRODID:-//First Lutheran Church - ECPv6.15.20//NONSGML v1.0//EN
CALSCALE:GREGORIAN
METHOD:PUBLISH
X-WR-CALNAME:First Lutheran Church
X-ORIGINAL-URL:https://www.flcduluth.org
X-WR-CALDESC:Events for First Lutheran Church
REFRESH-INTERVAL;VALUE=DURATION:PT1H
X-Robots-Tag:noindex
X-PUBLISHED-TTL:PT1H
BEGIN:VTIMEZONE
TZID:America/Chicago
BEGIN:DAYLIGHT
TZOFFSETFROM:-0600
TZOFFSETTO:-0500
TZNAME:CDT
DTSTART:20250309T080000
END:DAYLIGHT
BEGIN:STANDARD
TZOFFSETFROM:-0500
TZOFFSETTO:-0600
TZNAME:CST
DTSTART:20251102T070000
END:STANDARD
BEGIN:DAYLIGHT
TZOFFSETFROM:-0600
TZOFFSETTO:-0500
TZNAME:CDT
DTSTART:20260308T080000
END:DAYLIGHT
BEGIN:STANDARD
TZOFFSETFROM:-0500
TZOFFSETTO:-0600
TZNAME:CST
DTSTART:20261101T070000
END:STANDARD
BEGIN:DAYLIGHT
TZOFFSETFROM:-0600
TZOFFSETTO:-0500
TZNAME:CDT
DTSTART:20270314T080000
END:DAYLIGHT
BEGIN:STANDARD
TZOFFSETFROM:-0500
TZOFFSETTO:-0600
TZNAME:CST
DTSTART:20271107T070000
END:STANDARD
END:VTIMEZONE
BEGIN:VEVENT
DTSTART;TZID=America/Chicago:20260804T063000
DTEND;TZID=America/Chicago:20260804T193000
DTSTAMP:20260423T172136
CREATED:20230110T220428Z
LAST-MODIFIED:20230110T220428Z
UID:10002659-1785825000-1785871800@www.flcduluth.org
SUMMARY:Tai-Chi
DESCRIPTION:
URL:https://www.flcduluth.org/event/tai-chi-3/2026-08-04/
CATEGORIES:Outside Group
END:VEVENT
BEGIN:VEVENT
DTSTART;TZID=America/Chicago:20260805T100000
DTEND;TZID=America/Chicago:20260805T113000
DTSTAMP:20260423T172136
CREATED:20230829T193211Z
LAST-MODIFIED:20230829T193211Z
UID:10005006-1785924000-1785929400@www.flcduluth.org
SUMMARY:Staff Meeting
DESCRIPTION:
URL:https://www.flcduluth.org/event/staff-meeting-3/2026-08-05/
CATEGORIES:Staff
END:VEVENT
BEGIN:VEVENT
DTSTART;TZID=America/Chicago:20260805T113000
DTEND;TZID=America/Chicago:20260805T130000
DTSTAMP:20260423T172136
CREATED:20230110T220749Z
LAST-MODIFIED:20230110T220749Z
UID:10002920-1785929400-1785934800@www.flcduluth.org
SUMMARY:Al-Anon
DESCRIPTION:
URL:https://www.flcduluth.org/event/al-anon/2026-08-05/
CATEGORIES:Outside Group
END:VEVENT
BEGIN:VEVENT
DTSTART;TZID=America/Chicago:20260805T170000
DTEND;TZID=America/Chicago:20260805T210000
DTSTAMP:20260423T172136
CREATED:20260204T184019Z
LAST-MODIFIED:20260204T184019Z
UID:10007160-1785949200-1785963600@www.flcduluth.org
SUMMARY:Community Event
DESCRIPTION:
URL:https://www.flcduluth.org/event/community-event/2026-08-05/
END:VEVENT
BEGIN:VEVENT
DTSTART;TZID=America/Chicago:20260806T073000
DTEND;TZID=America/Chicago:20260806T090000
DTSTAMP:20260423T172136
CREATED:20260204T183751Z
LAST-MODIFIED:20260204T183751Z
UID:10006823-1786001400-1786006800@www.flcduluth.org
SUMMARY:Men's Group
DESCRIPTION:
URL:https://www.flcduluth.org/event/mens-group-4/2026-08-06/
END:VEVENT
BEGIN:VEVENT
DTSTART;TZID=America/Chicago:20260806T090000
DTEND;TZID=America/Chicago:20260806T113000
DTSTAMP:20260423T172136
CREATED:20260204T183825Z
LAST-MODIFIED:20260204T183825Z
UID:10007064-1786006800-1786015800@www.flcduluth.org
SUMMARY:Quilters Gathering
DESCRIPTION:
URL:https://www.flcduluth.org/event/quilters-gathering/2026-08-06/
END:VEVENT
BEGIN:VEVENT
DTSTART;TZID=America/Chicago:20260806T180000
DTEND;TZID=America/Chicago:20260806T200000
DTSTAMP:20260423T172136
CREATED:20230706T191437Z
LAST-MODIFIED:20230706T191439Z
UID:10004611-1786039200-1786046400@www.flcduluth.org
SUMMARY:Vision Council Meeting
DESCRIPTION:
URL:https://www.flcduluth.org/event/vision-council-meeting-2-2-2/2026-08-06/
CATEGORIES:Committee Meetings
END:VEVENT
BEGIN:VEVENT
DTSTART;TZID=America/Chicago:20260808T090000
DTEND;TZID=America/Chicago:20260808T110000
DTSTAMP:20260423T172136
CREATED:20230110T222829Z
LAST-MODIFIED:20230110T223030Z
UID:10003555-1786179600-1786186800@www.flcduluth.org
SUMMARY:AA
DESCRIPTION:
URL:https://www.flcduluth.org/event/aa-3/2026-08-08/
CATEGORIES:Outside Group
END:VEVENT
BEGIN:VEVENT
DTSTART;TZID=America/Chicago:20260810T193000
DTEND;TZID=America/Chicago:20260810T210000
DTSTAMP:20260423T172136
CREATED:20230110T215936Z
LAST-MODIFIED:20230110T215936Z
UID:10002384-1786390200-1786395600@www.flcduluth.org
SUMMARY:Nar-Anon Meeting
DESCRIPTION:
URL:https://www.flcduluth.org/event/nar-anon-meeting/2026-08-10/
CATEGORIES:Outside Group
END:VEVENT
BEGIN:VEVENT
DTSTART;TZID=America/Chicago:20260811T063000
DTEND;TZID=America/Chicago:20260811T193000
DTSTAMP:20260423T172136
CREATED:20230110T220428Z
LAST-MODIFIED:20230110T220428Z
UID:10002660-1786429800-1786476600@www.flcduluth.org
SUMMARY:Tai-Chi
DESCRIPTION:
URL:https://www.flcduluth.org/event/tai-chi-3/2026-08-11/
CATEGORIES:Outside Group
END:VEVENT
BEGIN:VEVENT
DTSTART;TZID=America/Chicago:20260812T100000
DTEND;TZID=America/Chicago:20260812T113000
DTSTAMP:20260423T172136
CREATED:20230829T193211Z
LAST-MODIFIED:20230829T193211Z
UID:10005007-1786528800-1786534200@www.flcduluth.org
SUMMARY:Staff Meeting
DESCRIPTION:
URL:https://www.flcduluth.org/event/staff-meeting-3/2026-08-12/
CATEGORIES:Staff
END:VEVENT
BEGIN:VEVENT
DTSTART;TZID=America/Chicago:20260812T113000
DTEND;TZID=America/Chicago:20260812T130000
DTSTAMP:20260423T172136
CREATED:20230110T220749Z
LAST-MODIFIED:20230110T220749Z
UID:10002921-1786534200-1786539600@www.flcduluth.org
SUMMARY:Al-Anon
DESCRIPTION:
URL:https://www.flcduluth.org/event/al-anon/2026-08-12/
CATEGORIES:Outside Group
END:VEVENT
BEGIN:VEVENT
DTSTART;TZID=America/Chicago:20260812T170000
DTEND;TZID=America/Chicago:20260812T210000
DTSTAMP:20260423T172136
CREATED:20260204T184019Z
LAST-MODIFIED:20260204T184019Z
UID:10007161-1786554000-1786568400@www.flcduluth.org
SUMMARY:Community Event
DESCRIPTION:
URL:https://www.flcduluth.org/event/community-event/2026-08-12/
END:VEVENT
BEGIN:VEVENT
DTSTART;TZID=America/Chicago:20260813T073000
DTEND;TZID=America/Chicago:20260813T090000
DTSTAMP:20260423T172136
CREATED:20260204T183751Z
LAST-MODIFIED:20260204T183751Z
UID:10006824-1786606200-1786611600@www.flcduluth.org
SUMMARY:Men's Group
DESCRIPTION:
URL:https://www.flcduluth.org/event/mens-group-4/2026-08-13/
END:VEVENT
BEGIN:VEVENT
DTSTART;TZID=America/Chicago:20260815T090000
DTEND;TZID=America/Chicago:20260815T110000
DTSTAMP:20260423T172136
CREATED:20230110T222829Z
LAST-MODIFIED:20230110T223030Z
UID:10003556-1786784400-1786791600@www.flcduluth.org
SUMMARY:AA
DESCRIPTION:
URL:https://www.flcduluth.org/event/aa-3/2026-08-15/
CATEGORIES:Outside Group
END:VEVENT
BEGIN:VEVENT
DTSTART;TZID=America/Chicago:20260817T193000
DTEND;TZID=America/Chicago:20260817T210000
DTSTAMP:20260423T172136
CREATED:20230110T215936Z
LAST-MODIFIED:20230110T215936Z
UID:10002385-1786995000-1787000400@www.flcduluth.org
SUMMARY:Nar-Anon Meeting
DESCRIPTION:
URL:https://www.flcduluth.org/event/nar-anon-meeting/2026-08-17/
CATEGORIES:Outside Group
END:VEVENT
BEGIN:VEVENT
DTSTART;TZID=America/Chicago:20260818T063000
DTEND;TZID=America/Chicago:20260818T193000
DTSTAMP:20260423T172136
CREATED:20230110T220428Z
LAST-MODIFIED:20230110T220428Z
UID:10002661-1787034600-1787081400@www.flcduluth.org
SUMMARY:Tai-Chi
DESCRIPTION:
URL:https://www.flcduluth.org/event/tai-chi-3/2026-08-18/
CATEGORIES:Outside Group
END:VEVENT
BEGIN:VEVENT
DTSTART;TZID=America/Chicago:20260819T100000
DTEND;TZID=America/Chicago:20260819T113000
DTSTAMP:20260423T172136
CREATED:20230829T193211Z
LAST-MODIFIED:20230829T193211Z
UID:10005008-1787133600-1787139000@www.flcduluth.org
SUMMARY:Staff Meeting
DESCRIPTION:
URL:https://www.flcduluth.org/event/staff-meeting-3/2026-08-19/
CATEGORIES:Staff
END:VEVENT
BEGIN:VEVENT
DTSTART;TZID=America/Chicago:20260819T113000
DTEND;TZID=America/Chicago:20260819T130000
DTSTAMP:20260423T172136
CREATED:20230110T220749Z
LAST-MODIFIED:20230110T220749Z
UID:10002922-1787139000-1787144400@www.flcduluth.org
SUMMARY:Al-Anon
DESCRIPTION:
URL:https://www.flcduluth.org/event/al-anon/2026-08-19/
CATEGORIES:Outside Group
END:VEVENT
BEGIN:VEVENT
DTSTART;TZID=America/Chicago:20260819T170000
DTEND;TZID=America/Chicago:20260819T210000
DTSTAMP:20260423T172136
CREATED:20260204T184019Z
LAST-MODIFIED:20260204T184019Z
UID:10007162-1787158800-1787173200@www.flcduluth.org
SUMMARY:Community Event
DESCRIPTION:
URL:https://www.flcduluth.org/event/community-event/2026-08-19/
END:VEVENT
BEGIN:VEVENT
DTSTART;TZID=America/Chicago:20260820T073000
DTEND;TZID=America/Chicago:20260820T090000
DTSTAMP:20260423T172136
CREATED:20260204T183751Z
LAST-MODIFIED:20260204T183751Z
UID:10006825-1787211000-1787216400@www.flcduluth.org
SUMMARY:Men's Group
DESCRIPTION:
URL:https://www.flcduluth.org/event/mens-group-4/2026-08-20/
END:VEVENT
BEGIN:VEVENT
DTSTART;TZID=America/Chicago:20260820T170000
DTEND;TZID=America/Chicago:20260820T183000
DTSTAMP:20260423T172136
CREATED:20230706T191139Z
LAST-MODIFIED:20230706T191139Z
UID:10004552-1787245200-1787250600@www.flcduluth.org
SUMMARY:Finance Meeting
DESCRIPTION:
URL:https://www.flcduluth.org/event/finance-meeting-8/2026-08-20/
CATEGORIES:Committee Meetings
END:VEVENT
BEGIN:VEVENT
DTSTART;TZID=America/Chicago:20260820T183000
DTEND;TZID=America/Chicago:20260820T200000
DTSTAMP:20260423T172136
CREATED:20230110T223406Z
LAST-MODIFIED:20230110T223406Z
UID:10003675-1787250600-1787256000@www.flcduluth.org
SUMMARY:District AA Meeting
DESCRIPTION:
URL:https://www.flcduluth.org/event/district-aa-meeting-4/2026-08-20/
CATEGORIES:Outside Group
END:VEVENT
BEGIN:VEVENT
DTSTART;TZID=America/Chicago:20260822T090000
DTEND;TZID=America/Chicago:20260822T110000
DTSTAMP:20260423T172136
CREATED:20230110T222829Z
LAST-MODIFIED:20230110T223030Z
UID:10003557-1787389200-1787396400@www.flcduluth.org
SUMMARY:AA
DESCRIPTION:
URL:https://www.flcduluth.org/event/aa-3/2026-08-22/
CATEGORIES:Outside Group
END:VEVENT
BEGIN:VEVENT
DTSTART;TZID=America/Chicago:20260824T193000
DTEND;TZID=America/Chicago:20260824T210000
DTSTAMP:20260423T172136
CREATED:20230110T215936Z
LAST-MODIFIED:20230110T215936Z
UID:10002386-1787599800-1787605200@www.flcduluth.org
SUMMARY:Nar-Anon Meeting
DESCRIPTION:
URL:https://www.flcduluth.org/event/nar-anon-meeting/2026-08-24/
CATEGORIES:Outside Group
END:VEVENT
BEGIN:VEVENT
DTSTART;TZID=America/Chicago:20260825T063000
DTEND;TZID=America/Chicago:20260825T193000
DTSTAMP:20260423T172136
CREATED:20230110T220428Z
LAST-MODIFIED:20230110T220428Z
UID:10002662-1787639400-1787686200@www.flcduluth.org
SUMMARY:Tai-Chi
DESCRIPTION:
URL:https://www.flcduluth.org/event/tai-chi-3/2026-08-25/
CATEGORIES:Outside Group
END:VEVENT
BEGIN:VEVENT
DTSTART;TZID=America/Chicago:20260826T100000
DTEND;TZID=America/Chicago:20260826T113000
DTSTAMP:20260423T172136
CREATED:20230829T193211Z
LAST-MODIFIED:20230829T193211Z
UID:10005009-1787738400-1787743800@www.flcduluth.org
SUMMARY:Staff Meeting
DESCRIPTION:
URL:https://www.flcduluth.org/event/staff-meeting-3/2026-08-26/
CATEGORIES:Staff
END:VEVENT
BEGIN:VEVENT
DTSTART;TZID=America/Chicago:20260826T113000
DTEND;TZID=America/Chicago:20260826T130000
DTSTAMP:20260423T172136
CREATED:20230110T220749Z
LAST-MODIFIED:20230110T220749Z
UID:10002923-1787743800-1787749200@www.flcduluth.org
SUMMARY:Al-Anon
DESCRIPTION:
URL:https://www.flcduluth.org/event/al-anon/2026-08-26/
CATEGORIES:Outside Group
END:VEVENT
BEGIN:VEVENT
DTSTART;TZID=America/Chicago:20260826T170000
DTEND;TZID=America/Chicago:20260826T210000
DTSTAMP:20260423T172136
CREATED:20260204T184019Z
LAST-MODIFIED:20260204T184019Z
UID:10007163-1787763600-1787778000@www.flcduluth.org
SUMMARY:Community Event
DESCRIPTION:
URL:https://www.flcduluth.org/event/community-event/2026-08-26/
END:VEVENT
BEGIN:VEVENT
DTSTART;TZID=America/Chicago:20260827T073000
DTEND;TZID=America/Chicago:20260827T090000
DTSTAMP:20260423T172136
CREATED:20260204T183751Z
LAST-MODIFIED:20260204T183751Z
UID:10006826-1787815800-1787821200@www.flcduluth.org
SUMMARY:Men's Group
DESCRIPTION:
URL:https://www.flcduluth.org/event/mens-group-4/2026-08-27/
END:VEVENT
END:VCALENDAR