BEGIN:VCALENDAR
VERSION:2.0
PRODID:-//First Lutheran Church - ECPv6.15.20//NONSGML v1.0//EN
CALSCALE:GREGORIAN
METHOD:PUBLISH
X-ORIGINAL-URL:https://www.flcduluth.org
X-WR-CALDESC:Events for First Lutheran Church
REFRESH-INTERVAL;VALUE=DURATION:PT1H
X-Robots-Tag:noindex
X-PUBLISHED-TTL:PT1H
BEGIN:VTIMEZONE
TZID:America/Chicago
BEGIN:DAYLIGHT
TZOFFSETFROM:-0600
TZOFFSETTO:-0500
TZNAME:CDT
DTSTART:20250309T080000
END:DAYLIGHT
BEGIN:STANDARD
TZOFFSETFROM:-0500
TZOFFSETTO:-0600
TZNAME:CST
DTSTART:20251102T070000
END:STANDARD
BEGIN:DAYLIGHT
TZOFFSETFROM:-0600
TZOFFSETTO:-0500
TZNAME:CDT
DTSTART:20260308T080000
END:DAYLIGHT
BEGIN:STANDARD
TZOFFSETFROM:-0500
TZOFFSETTO:-0600
TZNAME:CST
DTSTART:20261101T070000
END:STANDARD
BEGIN:DAYLIGHT
TZOFFSETFROM:-0600
TZOFFSETTO:-0500
TZNAME:CDT
DTSTART:20270314T080000
END:DAYLIGHT
BEGIN:STANDARD
TZOFFSETFROM:-0500
TZOFFSETTO:-0600
TZNAME:CST
DTSTART:20271107T070000
END:STANDARD
END:VTIMEZONE
BEGIN:VEVENT
DTSTART;TZID=America/Chicago:20260618T073000
DTEND;TZID=America/Chicago:20260618T090000
DTSTAMP:20260423T113143
CREATED:20260204T183751Z
LAST-MODIFIED:20260204T183751Z
UID:10006816-1781767800-1781773200@www.flcduluth.org
SUMMARY:Men's Group
DESCRIPTION:
URL:https://www.flcduluth.org/event/mens-group-4/2026-06-18/
END:VEVENT
BEGIN:VEVENT
DTSTART;TZID=America/Chicago:20260618T170000
DTEND;TZID=America/Chicago:20260618T183000
DTSTAMP:20260423T113143
CREATED:20230706T191139Z
LAST-MODIFIED:20230706T191139Z
UID:10004550-1781802000-1781807400@www.flcduluth.org
SUMMARY:Finance Meeting
DESCRIPTION:
URL:https://www.flcduluth.org/event/finance-meeting-8/2026-06-18/
CATEGORIES:Committee Meetings
END:VEVENT
BEGIN:VEVENT
DTSTART;TZID=America/Chicago:20260618T183000
DTEND;TZID=America/Chicago:20260618T200000
DTSTAMP:20260423T113143
CREATED:20230110T223406Z
LAST-MODIFIED:20230110T223406Z
UID:10003673-1781807400-1781812800@www.flcduluth.org
SUMMARY:District AA Meeting
DESCRIPTION:
URL:https://www.flcduluth.org/event/district-aa-meeting-4/2026-06-18/
CATEGORIES:Outside Group
END:VEVENT
BEGIN:VEVENT
DTSTART;TZID=America/Chicago:20260620T090000
DTEND;TZID=America/Chicago:20260620T110000
DTSTAMP:20260423T113143
CREATED:20230110T222829Z
LAST-MODIFIED:20230110T223030Z
UID:10003548-1781946000-1781953200@www.flcduluth.org
SUMMARY:AA
DESCRIPTION:
URL:https://www.flcduluth.org/event/aa-3/2026-06-20/
CATEGORIES:Outside Group
END:VEVENT
BEGIN:VEVENT
DTSTART;TZID=America/Chicago:20260621T100000
DTEND;TZID=America/Chicago:20260621T110000
DTSTAMP:20260423T113143
CREATED:20260204T184510Z
LAST-MODIFIED:20260204T184510Z
UID:10007448-1782036000-1782039600@www.flcduluth.org
SUMMARY:Worship Services
DESCRIPTION:
URL:https://www.flcduluth.org/event/worship-services/2026-06-21/
END:VEVENT
BEGIN:VEVENT
DTSTART;TZID=America/Chicago:20260622T193000
DTEND;TZID=America/Chicago:20260622T210000
DTSTAMP:20260423T113143
CREATED:20230110T215936Z
LAST-MODIFIED:20230110T215936Z
UID:10002377-1782156600-1782162000@www.flcduluth.org
SUMMARY:Nar-Anon Meeting
DESCRIPTION:
URL:https://www.flcduluth.org/event/nar-anon-meeting/2026-06-22/
CATEGORIES:Outside Group
END:VEVENT
BEGIN:VEVENT
DTSTART;TZID=America/Chicago:20260623T063000
DTEND;TZID=America/Chicago:20260623T193000
DTSTAMP:20260423T113143
CREATED:20230110T220428Z
LAST-MODIFIED:20230110T220428Z
UID:10002653-1782196200-1782243000@www.flcduluth.org
SUMMARY:Tai-Chi
DESCRIPTION:
URL:https://www.flcduluth.org/event/tai-chi-3/2026-06-23/
CATEGORIES:Outside Group
END:VEVENT
BEGIN:VEVENT
DTSTART;TZID=America/Chicago:20260624T100000
DTEND;TZID=America/Chicago:20260624T113000
DTSTAMP:20260423T113143
CREATED:20230829T193211Z
LAST-MODIFIED:20230829T193211Z
UID:10005000-1782295200-1782300600@www.flcduluth.org
SUMMARY:Staff Meeting
DESCRIPTION:
URL:https://www.flcduluth.org/event/staff-meeting-3/2026-06-24/
CATEGORIES:Staff
END:VEVENT
BEGIN:VEVENT
DTSTART;TZID=America/Chicago:20260624T113000
DTEND;TZID=America/Chicago:20260624T130000
DTSTAMP:20260423T113143
CREATED:20230110T220749Z
LAST-MODIFIED:20230110T220749Z
UID:10002914-1782300600-1782306000@www.flcduluth.org
SUMMARY:Al-Anon
DESCRIPTION:
URL:https://www.flcduluth.org/event/al-anon/2026-06-24/
CATEGORIES:Outside Group
END:VEVENT
BEGIN:VEVENT
DTSTART;TZID=America/Chicago:20260624T170000
DTEND;TZID=America/Chicago:20260624T210000
DTSTAMP:20260423T113143
CREATED:20260204T184019Z
LAST-MODIFIED:20260204T184019Z
UID:10007154-1782320400-1782334800@www.flcduluth.org
SUMMARY:Community Event
DESCRIPTION:
URL:https://www.flcduluth.org/event/community-event/2026-06-24/
END:VEVENT
BEGIN:VEVENT
DTSTART;TZID=America/Chicago:20260625T073000
DTEND;TZID=America/Chicago:20260625T090000
DTSTAMP:20260423T113143
CREATED:20260204T183751Z
LAST-MODIFIED:20260204T183751Z
UID:10006817-1782372600-1782378000@www.flcduluth.org
SUMMARY:Men's Group
DESCRIPTION:
URL:https://www.flcduluth.org/event/mens-group-4/2026-06-25/
END:VEVENT
BEGIN:VEVENT
DTSTART;TZID=America/Chicago:20260627T090000
DTEND;TZID=America/Chicago:20260627T110000
DTSTAMP:20260423T113143
CREATED:20230110T222829Z
LAST-MODIFIED:20230110T223030Z
UID:10003549-1782550800-1782558000@www.flcduluth.org
SUMMARY:AA
DESCRIPTION:
URL:https://www.flcduluth.org/event/aa-3/2026-06-27/
CATEGORIES:Outside Group
END:VEVENT
BEGIN:VEVENT
DTSTART;TZID=America/Chicago:20260628T100000
DTEND;TZID=America/Chicago:20260628T110000
DTSTAMP:20260423T113143
CREATED:20260204T184510Z
LAST-MODIFIED:20260204T184510Z
UID:10007449-1782640800-1782644400@www.flcduluth.org
SUMMARY:Worship Services
DESCRIPTION:
URL:https://www.flcduluth.org/event/worship-services/2026-06-28/
END:VEVENT
BEGIN:VEVENT
DTSTART;TZID=America/Chicago:20260628T120000
DTEND;TZID=America/Chicago:20260628T133000
DTSTAMP:20260423T113143
CREATED:20230110T224319Z
LAST-MODIFIED:20230110T224319Z
UID:10003740-1782648000-1782653400@www.flcduluth.org
SUMMARY:Community Meal
DESCRIPTION:
URL:https://www.flcduluth.org/event/community-meal-3/2026-06-28/
END:VEVENT
BEGIN:VEVENT
DTSTART;TZID=America/Chicago:20260629T193000
DTEND;TZID=America/Chicago:20260629T210000
DTSTAMP:20260423T113143
CREATED:20230110T215936Z
LAST-MODIFIED:20230110T215936Z
UID:10002378-1782761400-1782766800@www.flcduluth.org
SUMMARY:Nar-Anon Meeting
DESCRIPTION:
URL:https://www.flcduluth.org/event/nar-anon-meeting/2026-06-29/
CATEGORIES:Outside Group
END:VEVENT
BEGIN:VEVENT
DTSTART;TZID=America/Chicago:20260630T063000
DTEND;TZID=America/Chicago:20260630T193000
DTSTAMP:20260423T113143
CREATED:20230110T220428Z
LAST-MODIFIED:20230110T220428Z
UID:10002654-1782801000-1782847800@www.flcduluth.org
SUMMARY:Tai-Chi
DESCRIPTION:
URL:https://www.flcduluth.org/event/tai-chi-3/2026-06-30/
CATEGORIES:Outside Group
END:VEVENT
BEGIN:VEVENT
DTSTART;TZID=America/Chicago:20260701T100000
DTEND;TZID=America/Chicago:20260701T113000
DTSTAMP:20260423T113143
CREATED:20230829T193211Z
LAST-MODIFIED:20230829T193211Z
UID:10005001-1782900000-1782905400@www.flcduluth.org
SUMMARY:Staff Meeting
DESCRIPTION:
URL:https://www.flcduluth.org/event/staff-meeting-3/2026-07-01/
CATEGORIES:Staff
END:VEVENT
BEGIN:VEVENT
DTSTART;TZID=America/Chicago:20260701T113000
DTEND;TZID=America/Chicago:20260701T130000
DTSTAMP:20260423T113143
CREATED:20230110T220749Z
LAST-MODIFIED:20230110T220749Z
UID:10002915-1782905400-1782910800@www.flcduluth.org
SUMMARY:Al-Anon
DESCRIPTION:
URL:https://www.flcduluth.org/event/al-anon/2026-07-01/
CATEGORIES:Outside Group
END:VEVENT
BEGIN:VEVENT
DTSTART;TZID=America/Chicago:20260701T170000
DTEND;TZID=America/Chicago:20260701T210000
DTSTAMP:20260423T113143
CREATED:20260204T184019Z
LAST-MODIFIED:20260204T184019Z
UID:10007155-1782925200-1782939600@www.flcduluth.org
SUMMARY:Community Event
DESCRIPTION:
URL:https://www.flcduluth.org/event/community-event/2026-07-01/
END:VEVENT
BEGIN:VEVENT
DTSTART;TZID=America/Chicago:20260702T073000
DTEND;TZID=America/Chicago:20260702T090000
DTSTAMP:20260423T113143
CREATED:20260204T183751Z
LAST-MODIFIED:20260204T183751Z
UID:10006818-1782977400-1782982800@www.flcduluth.org
SUMMARY:Men's Group
DESCRIPTION:
URL:https://www.flcduluth.org/event/mens-group-4/2026-07-02/
END:VEVENT
BEGIN:VEVENT
DTSTART;TZID=America/Chicago:20260702T090000
DTEND;TZID=America/Chicago:20260702T113000
DTSTAMP:20260423T113143
CREATED:20260204T183825Z
LAST-MODIFIED:20260204T183825Z
UID:10007063-1782982800-1782991800@www.flcduluth.org
SUMMARY:Quilters Gathering
DESCRIPTION:
URL:https://www.flcduluth.org/event/quilters-gathering/2026-07-02/
END:VEVENT
BEGIN:VEVENT
DTSTART;TZID=America/Chicago:20260702T180000
DTEND;TZID=America/Chicago:20260702T200000
DTSTAMP:20260423T113143
CREATED:20230706T191437Z
LAST-MODIFIED:20230706T191439Z
UID:10004610-1783015200-1783022400@www.flcduluth.org
SUMMARY:Vision Council Meeting
DESCRIPTION:
URL:https://www.flcduluth.org/event/vision-council-meeting-2-2-2/2026-07-02/
CATEGORIES:Committee Meetings
END:VEVENT
BEGIN:VEVENT
DTSTART;TZID=America/Chicago:20260704T090000
DTEND;TZID=America/Chicago:20260704T110000
DTSTAMP:20260423T113143
CREATED:20230110T222829Z
LAST-MODIFIED:20230110T223030Z
UID:10003550-1783155600-1783162800@www.flcduluth.org
SUMMARY:AA
DESCRIPTION:
URL:https://www.flcduluth.org/event/aa-3/2026-07-04/
CATEGORIES:Outside Group
END:VEVENT
BEGIN:VEVENT
DTSTART;TZID=America/Chicago:20260706T190000
DTEND;TZID=America/Chicago:20260706T203000
DTSTAMP:20260423T113143
CREATED:20230201T213018Z
LAST-MODIFIED:20230201T213018Z
UID:10004009-1783364400-1783369800@www.flcduluth.org
SUMMARY:Ruth Gathering
DESCRIPTION:
URL:https://www.flcduluth.org/event/ruth-gathering-3/2026-07-06/
LOCATION:First Lutheran Church\, 1100 E. Superior St.\, Duluth\, MN\, 55802\, United States
CATEGORIES:Women's Ministry
END:VEVENT
BEGIN:VEVENT
DTSTART;TZID=America/Chicago:20260706T193000
DTEND;TZID=America/Chicago:20260706T210000
DTSTAMP:20260423T113143
CREATED:20230110T215936Z
LAST-MODIFIED:20230110T215936Z
UID:10002379-1783366200-1783371600@www.flcduluth.org
SUMMARY:Nar-Anon Meeting
DESCRIPTION:
URL:https://www.flcduluth.org/event/nar-anon-meeting/2026-07-06/
CATEGORIES:Outside Group
END:VEVENT
BEGIN:VEVENT
DTSTART;TZID=America/Chicago:20260707T063000
DTEND;TZID=America/Chicago:20260707T193000
DTSTAMP:20260423T113143
CREATED:20230110T220428Z
LAST-MODIFIED:20230110T220428Z
UID:10002655-1783405800-1783452600@www.flcduluth.org
SUMMARY:Tai-Chi
DESCRIPTION:
URL:https://www.flcduluth.org/event/tai-chi-3/2026-07-07/
CATEGORIES:Outside Group
END:VEVENT
BEGIN:VEVENT
DTSTART;TZID=America/Chicago:20260708T100000
DTEND;TZID=America/Chicago:20260708T113000
DTSTAMP:20260423T113143
CREATED:20230829T193211Z
LAST-MODIFIED:20230829T193211Z
UID:10005002-1783504800-1783510200@www.flcduluth.org
SUMMARY:Staff Meeting
DESCRIPTION:
URL:https://www.flcduluth.org/event/staff-meeting-3/2026-07-08/
CATEGORIES:Staff
END:VEVENT
BEGIN:VEVENT
DTSTART;TZID=America/Chicago:20260708T113000
DTEND;TZID=America/Chicago:20260708T130000
DTSTAMP:20260423T113143
CREATED:20230110T220749Z
LAST-MODIFIED:20230110T220749Z
UID:10002916-1783510200-1783515600@www.flcduluth.org
SUMMARY:Al-Anon
DESCRIPTION:
URL:https://www.flcduluth.org/event/al-anon/2026-07-08/
CATEGORIES:Outside Group
END:VEVENT
BEGIN:VEVENT
DTSTART;TZID=America/Chicago:20260708T170000
DTEND;TZID=America/Chicago:20260708T210000
DTSTAMP:20260423T113143
CREATED:20260204T184019Z
LAST-MODIFIED:20260204T184019Z
UID:10007156-1783530000-1783544400@www.flcduluth.org
SUMMARY:Community Event
DESCRIPTION:
URL:https://www.flcduluth.org/event/community-event/2026-07-08/
END:VEVENT
BEGIN:VEVENT
DTSTART;TZID=America/Chicago:20260709T073000
DTEND;TZID=America/Chicago:20260709T090000
DTSTAMP:20260423T113143
CREATED:20260204T183751Z
LAST-MODIFIED:20260204T183751Z
UID:10006819-1783582200-1783587600@www.flcduluth.org
SUMMARY:Men's Group
DESCRIPTION:
URL:https://www.flcduluth.org/event/mens-group-4/2026-07-09/
END:VEVENT
END:VCALENDAR