BEGIN:VCALENDAR
VERSION:2.0
PRODID:-//First Lutheran Church - ECPv6.15.20//NONSGML v1.0//EN
CALSCALE:GREGORIAN
METHOD:PUBLISH
X-ORIGINAL-URL:https://www.flcduluth.org
X-WR-CALDESC:Events for First Lutheran Church
REFRESH-INTERVAL;VALUE=DURATION:PT1H
X-Robots-Tag:noindex
X-PUBLISHED-TTL:PT1H
BEGIN:VTIMEZONE
TZID:America/Chicago
BEGIN:DAYLIGHT
TZOFFSETFROM:-0600
TZOFFSETTO:-0500
TZNAME:CDT
DTSTART:20250309T080000
END:DAYLIGHT
BEGIN:STANDARD
TZOFFSETFROM:-0500
TZOFFSETTO:-0600
TZNAME:CST
DTSTART:20251102T070000
END:STANDARD
BEGIN:DAYLIGHT
TZOFFSETFROM:-0600
TZOFFSETTO:-0500
TZNAME:CDT
DTSTART:20260308T080000
END:DAYLIGHT
BEGIN:STANDARD
TZOFFSETFROM:-0500
TZOFFSETTO:-0600
TZNAME:CST
DTSTART:20261101T070000
END:STANDARD
BEGIN:DAYLIGHT
TZOFFSETFROM:-0600
TZOFFSETTO:-0500
TZNAME:CDT
DTSTART:20270314T080000
END:DAYLIGHT
BEGIN:STANDARD
TZOFFSETFROM:-0500
TZOFFSETTO:-0600
TZNAME:CST
DTSTART:20271107T070000
END:STANDARD
END:VTIMEZONE
BEGIN:VEVENT
DTSTART;TZID=America/Chicago:20261114T090000
DTEND;TZID=America/Chicago:20261114T110000
DTSTAMP:20260423T190554
CREATED:20230110T222829Z
LAST-MODIFIED:20230110T223030Z
UID:10003569-1794646800-1794654000@www.flcduluth.org
SUMMARY:AA
DESCRIPTION:
URL:https://www.flcduluth.org/event/aa-3/2026-11-14/
CATEGORIES:Outside Group
END:VEVENT
BEGIN:VEVENT
DTSTART;TZID=America/Chicago:20261116T193000
DTEND;TZID=America/Chicago:20261116T210000
DTSTAMP:20260423T190554
CREATED:20230110T215936Z
LAST-MODIFIED:20230110T215936Z
UID:10002398-1794857400-1794862800@www.flcduluth.org
SUMMARY:Nar-Anon Meeting
DESCRIPTION:
URL:https://www.flcduluth.org/event/nar-anon-meeting/2026-11-16/
CATEGORIES:Outside Group
END:VEVENT
BEGIN:VEVENT
DTSTART;TZID=America/Chicago:20261117T063000
DTEND;TZID=America/Chicago:20261117T193000
DTSTAMP:20260423T190554
CREATED:20230110T220428Z
LAST-MODIFIED:20230110T220428Z
UID:10002674-1794897000-1794943800@www.flcduluth.org
SUMMARY:Tai-Chi
DESCRIPTION:
URL:https://www.flcduluth.org/event/tai-chi-3/2026-11-17/
CATEGORIES:Outside Group
END:VEVENT
BEGIN:VEVENT
DTSTART;TZID=America/Chicago:20261118T100000
DTEND;TZID=America/Chicago:20261118T113000
DTSTAMP:20260423T190554
CREATED:20230829T193211Z
LAST-MODIFIED:20230829T193211Z
UID:10005021-1794996000-1795001400@www.flcduluth.org
SUMMARY:Staff Meeting
DESCRIPTION:
URL:https://www.flcduluth.org/event/staff-meeting-3/2026-11-18/
CATEGORIES:Staff
END:VEVENT
BEGIN:VEVENT
DTSTART;TZID=America/Chicago:20261118T113000
DTEND;TZID=America/Chicago:20261118T130000
DTSTAMP:20260423T190554
CREATED:20230110T220749Z
LAST-MODIFIED:20230110T220749Z
UID:10002935-1795001400-1795006800@www.flcduluth.org
SUMMARY:Al-Anon
DESCRIPTION:
URL:https://www.flcduluth.org/event/al-anon/2026-11-18/
CATEGORIES:Outside Group
END:VEVENT
BEGIN:VEVENT
DTSTART;TZID=America/Chicago:20261118T170000
DTEND;TZID=America/Chicago:20261118T210000
DTSTAMP:20260423T190554
CREATED:20260204T184019Z
LAST-MODIFIED:20260204T184019Z
UID:10007175-1795021200-1795035600@www.flcduluth.org
SUMMARY:Community Event
DESCRIPTION:
URL:https://www.flcduluth.org/event/community-event/2026-11-18/
END:VEVENT
BEGIN:VEVENT
DTSTART;TZID=America/Chicago:20261119T073000
DTEND;TZID=America/Chicago:20261119T090000
DTSTAMP:20260423T190554
CREATED:20260204T183751Z
LAST-MODIFIED:20260204T183751Z
UID:10006838-1795073400-1795078800@www.flcduluth.org
SUMMARY:Men's Group
DESCRIPTION:
URL:https://www.flcduluth.org/event/mens-group-4/2026-11-19/
END:VEVENT
BEGIN:VEVENT
DTSTART;TZID=America/Chicago:20261119T170000
DTEND;TZID=America/Chicago:20261119T183000
DTSTAMP:20260423T190554
CREATED:20230706T191139Z
LAST-MODIFIED:20230706T191139Z
UID:10004555-1795107600-1795113000@www.flcduluth.org
SUMMARY:Finance Meeting
DESCRIPTION:
URL:https://www.flcduluth.org/event/finance-meeting-8/2026-11-19/
CATEGORIES:Committee Meetings
END:VEVENT
BEGIN:VEVENT
DTSTART;TZID=America/Chicago:20261119T183000
DTEND;TZID=America/Chicago:20261119T200000
DTSTAMP:20260423T190554
CREATED:20230110T223406Z
LAST-MODIFIED:20230110T223406Z
UID:10003678-1795113000-1795118400@www.flcduluth.org
SUMMARY:District AA Meeting
DESCRIPTION:
URL:https://www.flcduluth.org/event/district-aa-meeting-4/2026-11-19/
CATEGORIES:Outside Group
END:VEVENT
BEGIN:VEVENT
DTSTART;TZID=America/Chicago:20261121T090000
DTEND;TZID=America/Chicago:20261121T110000
DTSTAMP:20260423T190554
CREATED:20230110T222829Z
LAST-MODIFIED:20230110T223030Z
UID:10003570-1795251600-1795258800@www.flcduluth.org
SUMMARY:AA
DESCRIPTION:
URL:https://www.flcduluth.org/event/aa-3/2026-11-21/
CATEGORIES:Outside Group
END:VEVENT
BEGIN:VEVENT
DTSTART;TZID=America/Chicago:20261123T193000
DTEND;TZID=America/Chicago:20261123T210000
DTSTAMP:20260423T190554
CREATED:20230110T215936Z
LAST-MODIFIED:20230110T215936Z
UID:10002399-1795462200-1795467600@www.flcduluth.org
SUMMARY:Nar-Anon Meeting
DESCRIPTION:
URL:https://www.flcduluth.org/event/nar-anon-meeting/2026-11-23/
CATEGORIES:Outside Group
END:VEVENT
BEGIN:VEVENT
DTSTART;TZID=America/Chicago:20261124T063000
DTEND;TZID=America/Chicago:20261124T193000
DTSTAMP:20260423T190554
CREATED:20230110T220428Z
LAST-MODIFIED:20230110T220428Z
UID:10002675-1795501800-1795548600@www.flcduluth.org
SUMMARY:Tai-Chi
DESCRIPTION:
URL:https://www.flcduluth.org/event/tai-chi-3/2026-11-24/
CATEGORIES:Outside Group
END:VEVENT
BEGIN:VEVENT
DTSTART;TZID=America/Chicago:20261125T100000
DTEND;TZID=America/Chicago:20261125T113000
DTSTAMP:20260423T190554
CREATED:20230829T193211Z
LAST-MODIFIED:20230829T193211Z
UID:10005022-1795600800-1795606200@www.flcduluth.org
SUMMARY:Staff Meeting
DESCRIPTION:
URL:https://www.flcduluth.org/event/staff-meeting-3/2026-11-25/
CATEGORIES:Staff
END:VEVENT
BEGIN:VEVENT
DTSTART;TZID=America/Chicago:20261125T113000
DTEND;TZID=America/Chicago:20261125T130000
DTSTAMP:20260423T190554
CREATED:20230110T220749Z
LAST-MODIFIED:20230110T220749Z
UID:10002936-1795606200-1795611600@www.flcduluth.org
SUMMARY:Al-Anon
DESCRIPTION:
URL:https://www.flcduluth.org/event/al-anon/2026-11-25/
CATEGORIES:Outside Group
END:VEVENT
BEGIN:VEVENT
DTSTART;TZID=America/Chicago:20261125T170000
DTEND;TZID=America/Chicago:20261125T210000
DTSTAMP:20260423T190554
CREATED:20260204T184019Z
LAST-MODIFIED:20260204T184019Z
UID:10007176-1795626000-1795640400@www.flcduluth.org
SUMMARY:Community Event
DESCRIPTION:
URL:https://www.flcduluth.org/event/community-event/2026-11-25/
END:VEVENT
BEGIN:VEVENT
DTSTART;TZID=America/Chicago:20261126T073000
DTEND;TZID=America/Chicago:20261126T090000
DTSTAMP:20260423T190554
CREATED:20260204T183751Z
LAST-MODIFIED:20260204T183751Z
UID:10006839-1795678200-1795683600@www.flcduluth.org
SUMMARY:Men's Group
DESCRIPTION:
URL:https://www.flcduluth.org/event/mens-group-4/2026-11-26/
END:VEVENT
BEGIN:VEVENT
DTSTART;TZID=America/Chicago:20261128T090000
DTEND;TZID=America/Chicago:20261128T110000
DTSTAMP:20260423T190554
CREATED:20230110T222829Z
LAST-MODIFIED:20230110T223030Z
UID:10003571-1795856400-1795863600@www.flcduluth.org
SUMMARY:AA
DESCRIPTION:
URL:https://www.flcduluth.org/event/aa-3/2026-11-28/
CATEGORIES:Outside Group
END:VEVENT
BEGIN:VEVENT
DTSTART;TZID=America/Chicago:20261129T120000
DTEND;TZID=America/Chicago:20261129T133000
DTSTAMP:20260423T190554
CREATED:20230110T224319Z
LAST-MODIFIED:20230110T224319Z
UID:10003745-1795953600-1795959000@www.flcduluth.org
SUMMARY:Community Meal
DESCRIPTION:
URL:https://www.flcduluth.org/event/community-meal-3/2026-11-29/
END:VEVENT
BEGIN:VEVENT
DTSTART;TZID=America/Chicago:20261130T193000
DTEND;TZID=America/Chicago:20261130T210000
DTSTAMP:20260423T190554
CREATED:20230110T215936Z
LAST-MODIFIED:20230110T215936Z
UID:10002400-1796067000-1796072400@www.flcduluth.org
SUMMARY:Nar-Anon Meeting
DESCRIPTION:
URL:https://www.flcduluth.org/event/nar-anon-meeting/2026-11-30/
CATEGORIES:Outside Group
END:VEVENT
BEGIN:VEVENT
DTSTART;TZID=America/Chicago:20261201T063000
DTEND;TZID=America/Chicago:20261201T193000
DTSTAMP:20260423T190554
CREATED:20230110T220428Z
LAST-MODIFIED:20230110T220428Z
UID:10002676-1796106600-1796153400@www.flcduluth.org
SUMMARY:Tai-Chi
DESCRIPTION:
URL:https://www.flcduluth.org/event/tai-chi-3/2026-12-01/
CATEGORIES:Outside Group
END:VEVENT
BEGIN:VEVENT
DTSTART;TZID=America/Chicago:20261202T100000
DTEND;TZID=America/Chicago:20261202T113000
DTSTAMP:20260423T190554
CREATED:20230829T193211Z
LAST-MODIFIED:20230829T193211Z
UID:10005023-1796205600-1796211000@www.flcduluth.org
SUMMARY:Staff Meeting
DESCRIPTION:
URL:https://www.flcduluth.org/event/staff-meeting-3/2026-12-02/
CATEGORIES:Staff
END:VEVENT
BEGIN:VEVENT
DTSTART;TZID=America/Chicago:20261202T113000
DTEND;TZID=America/Chicago:20261202T130000
DTSTAMP:20260423T190554
CREATED:20230110T220749Z
LAST-MODIFIED:20230110T220749Z
UID:10002937-1796211000-1796216400@www.flcduluth.org
SUMMARY:Al-Anon
DESCRIPTION:
URL:https://www.flcduluth.org/event/al-anon/2026-12-02/
CATEGORIES:Outside Group
END:VEVENT
BEGIN:VEVENT
DTSTART;TZID=America/Chicago:20261202T170000
DTEND;TZID=America/Chicago:20261202T210000
DTSTAMP:20260423T190554
CREATED:20260204T184019Z
LAST-MODIFIED:20260204T184019Z
UID:10007177-1796230800-1796245200@www.flcduluth.org
SUMMARY:Community Event
DESCRIPTION:
URL:https://www.flcduluth.org/event/community-event/2026-12-02/
END:VEVENT
BEGIN:VEVENT
DTSTART;TZID=America/Chicago:20261203T073000
DTEND;TZID=America/Chicago:20261203T090000
DTSTAMP:20260423T190554
CREATED:20260204T183751Z
LAST-MODIFIED:20260204T183751Z
UID:10006840-1796283000-1796288400@www.flcduluth.org
SUMMARY:Men's Group
DESCRIPTION:
URL:https://www.flcduluth.org/event/mens-group-4/2026-12-03/
END:VEVENT
BEGIN:VEVENT
DTSTART;TZID=America/Chicago:20261203T090000
DTEND;TZID=America/Chicago:20261203T113000
DTSTAMP:20260423T190554
CREATED:20260204T183825Z
LAST-MODIFIED:20260204T183825Z
UID:10007068-1796288400-1796297400@www.flcduluth.org
SUMMARY:Quilters Gathering
DESCRIPTION:
URL:https://www.flcduluth.org/event/quilters-gathering/2026-12-03/
END:VEVENT
BEGIN:VEVENT
DTSTART;TZID=America/Chicago:20261203T180000
DTEND;TZID=America/Chicago:20261203T200000
DTSTAMP:20260423T190554
CREATED:20230706T191437Z
LAST-MODIFIED:20230706T191439Z
UID:10004615-1796320800-1796328000@www.flcduluth.org
SUMMARY:Vision Council Meeting
DESCRIPTION:
URL:https://www.flcduluth.org/event/vision-council-meeting-2-2-2/2026-12-03/
CATEGORIES:Committee Meetings
END:VEVENT
BEGIN:VEVENT
DTSTART;TZID=America/Chicago:20261205T090000
DTEND;TZID=America/Chicago:20261205T110000
DTSTAMP:20260423T190554
CREATED:20230110T222829Z
LAST-MODIFIED:20230110T223030Z
UID:10003572-1796461200-1796468400@www.flcduluth.org
SUMMARY:AA
DESCRIPTION:
URL:https://www.flcduluth.org/event/aa-3/2026-12-05/
CATEGORIES:Outside Group
END:VEVENT
BEGIN:VEVENT
DTSTART;TZID=America/Chicago:20261207T190000
DTEND;TZID=America/Chicago:20261207T203000
DTSTAMP:20260423T190554
CREATED:20230201T213018Z
LAST-MODIFIED:20230201T213018Z
UID:10004014-1796670000-1796675400@www.flcduluth.org
SUMMARY:Ruth Gathering
DESCRIPTION:
URL:https://www.flcduluth.org/event/ruth-gathering-3/2026-12-07/
LOCATION:First Lutheran Church\, 1100 E. Superior St.\, Duluth\, MN\, 55802\, United States
CATEGORIES:Women's Ministry
END:VEVENT
BEGIN:VEVENT
DTSTART;TZID=America/Chicago:20261207T193000
DTEND;TZID=America/Chicago:20261207T210000
DTSTAMP:20260423T190554
CREATED:20230110T215936Z
LAST-MODIFIED:20230110T215936Z
UID:10002401-1796671800-1796677200@www.flcduluth.org
SUMMARY:Nar-Anon Meeting
DESCRIPTION:
URL:https://www.flcduluth.org/event/nar-anon-meeting/2026-12-07/
CATEGORIES:Outside Group
END:VEVENT
BEGIN:VEVENT
DTSTART;TZID=America/Chicago:20261208T063000
DTEND;TZID=America/Chicago:20261208T193000
DTSTAMP:20260423T190554
CREATED:20230110T220428Z
LAST-MODIFIED:20230110T220428Z
UID:10002677-1796711400-1796758200@www.flcduluth.org
SUMMARY:Tai-Chi
DESCRIPTION:
URL:https://www.flcduluth.org/event/tai-chi-3/2026-12-08/
CATEGORIES:Outside Group
END:VEVENT
END:VCALENDAR