BEGIN:VCALENDAR
VERSION:2.0
PRODID:-//First Lutheran Church - ECPv6.15.20//NONSGML v1.0//EN
CALSCALE:GREGORIAN
METHOD:PUBLISH
X-WR-CALNAME:First Lutheran Church
X-ORIGINAL-URL:https://www.flcduluth.org
X-WR-CALDESC:Events for First Lutheran Church
REFRESH-INTERVAL;VALUE=DURATION:PT1H
X-Robots-Tag:noindex
X-PUBLISHED-TTL:PT1H
BEGIN:VTIMEZONE
TZID:America/Chicago
BEGIN:DAYLIGHT
TZOFFSETFROM:-0600
TZOFFSETTO:-0500
TZNAME:CDT
DTSTART:20230312T080000
END:DAYLIGHT
BEGIN:STANDARD
TZOFFSETFROM:-0500
TZOFFSETTO:-0600
TZNAME:CST
DTSTART:20231105T070000
END:STANDARD
BEGIN:DAYLIGHT
TZOFFSETFROM:-0600
TZOFFSETTO:-0500
TZNAME:CDT
DTSTART:20240310T080000
END:DAYLIGHT
BEGIN:STANDARD
TZOFFSETFROM:-0500
TZOFFSETTO:-0600
TZNAME:CST
DTSTART:20241103T070000
END:STANDARD
BEGIN:DAYLIGHT
TZOFFSETFROM:-0600
TZOFFSETTO:-0500
TZNAME:CDT
DTSTART:20250309T080000
END:DAYLIGHT
BEGIN:STANDARD
TZOFFSETFROM:-0500
TZOFFSETTO:-0600
TZNAME:CST
DTSTART:20251102T070000
END:STANDARD
END:VTIMEZONE
BEGIN:VEVENT
DTSTART;TZID=America/Chicago:20240420T090000
DTEND;TZID=America/Chicago:20240420T110000
DTSTAMP:20260425T085548
CREATED:20230110T222829Z
LAST-MODIFIED:20230110T223030Z
UID:10003435-1713603600-1713610800@www.flcduluth.org
SUMMARY:AA
DESCRIPTION:
URL:https://www.flcduluth.org/event/aa-3/2024-04-20/
CATEGORIES:Outside Group
END:VEVENT
BEGIN:VEVENT
DTSTART;TZID=America/Chicago:20240418T183000
DTEND;TZID=America/Chicago:20240418T200000
DTSTAMP:20260425T085548
CREATED:20230110T223406Z
LAST-MODIFIED:20230110T223406Z
UID:10003647-1713465000-1713470400@www.flcduluth.org
SUMMARY:District AA Meeting
DESCRIPTION:
URL:https://www.flcduluth.org/event/district-aa-meeting-4/2024-04-18/
CATEGORIES:Outside Group
END:VEVENT
BEGIN:VEVENT
DTSTART;TZID=America/Chicago:20240418T170000
DTEND;TZID=America/Chicago:20240418T183000
DTSTAMP:20260425T085548
CREATED:20230706T191139Z
LAST-MODIFIED:20230706T191139Z
UID:10004524-1713459600-1713465000@www.flcduluth.org
SUMMARY:Finance Meeting
DESCRIPTION:
URL:https://www.flcduluth.org/event/finance-meeting-8/2024-04-18/
CATEGORIES:Committee Meetings
END:VEVENT
BEGIN:VEVENT
DTSTART;TZID=America/Chicago:20240417T202000
DTEND;TZID=America/Chicago:20240417T210000
DTSTAMP:20260425T085548
CREATED:20230810T182721Z
LAST-MODIFIED:20240515T191459Z
UID:10004746-1713385200-1713387600@www.flcduluth.org
SUMMARY:Chamber Choir
DESCRIPTION:
URL:https://www.flcduluth.org/event/chamber-choir/2024-04-17/
CATEGORIES:Music Rehearsal
END:VEVENT
BEGIN:VEVENT
DTSTART;TZID=America/Chicago:20240417T191500
DTEND;TZID=America/Chicago:20240417T201500
DTSTAMP:20260425T085548
CREATED:20230810T182600Z
LAST-MODIFIED:20240515T191343Z
UID:10004678-1713381300-1713384900@www.flcduluth.org
SUMMARY:Soli Deo Gloria Choir
DESCRIPTION:
URL:https://www.flcduluth.org/event/soli-deo-gloria-choir/2024-04-17/
CATEGORIES:Music Rehearsal
END:VEVENT
BEGIN:VEVENT
DTSTART;TZID=America/Chicago:20240417T174500
DTEND;TZID=America/Chicago:20240417T190000
DTSTAMP:20260425T085548
CREATED:20230810T182835Z
LAST-MODIFIED:20240515T191229Z
UID:10004810-1713375900-1713380400@www.flcduluth.org
SUMMARY:Handbell Choir
DESCRIPTION:
URL:https://www.flcduluth.org/event/handbell-choir/2024-04-17/
CATEGORIES:Music Rehearsal
END:VEVENT
BEGIN:VEVENT
DTSTART;TZID=America/Chicago:20240417T113000
DTEND;TZID=America/Chicago:20240417T130000
DTSTAMP:20260425T085548
CREATED:20230110T220749Z
LAST-MODIFIED:20230110T220749Z
UID:10002800-1713353400-1713358800@www.flcduluth.org
SUMMARY:Al-Anon
DESCRIPTION:
URL:https://www.flcduluth.org/event/al-anon/2024-04-17/
CATEGORIES:Outside Group
END:VEVENT
BEGIN:VEVENT
DTSTART;TZID=America/Chicago:20240417T100000
DTEND;TZID=America/Chicago:20240417T113000
DTSTAMP:20260425T085548
CREATED:20230829T193211Z
LAST-MODIFIED:20230829T193211Z
UID:10004886-1713348000-1713353400@www.flcduluth.org
SUMMARY:Staff Meeting
DESCRIPTION:
URL:https://www.flcduluth.org/event/staff-meeting-3/2024-04-17/
CATEGORIES:Staff
END:VEVENT
BEGIN:VEVENT
DTSTART;TZID=America/Chicago:20240416T063000
DTEND;TZID=America/Chicago:20240416T193000
DTSTAMP:20260425T085548
CREATED:20230110T220428Z
LAST-MODIFIED:20230110T220428Z
UID:10002539-1713249000-1713295800@www.flcduluth.org
SUMMARY:Tai-Chi
DESCRIPTION:
URL:https://www.flcduluth.org/event/tai-chi-3/2024-04-16/
CATEGORIES:Outside Group
END:VEVENT
BEGIN:VEVENT
DTSTART;TZID=America/Chicago:20240415T193000
DTEND;TZID=America/Chicago:20240415T210000
DTSTAMP:20260425T085548
CREATED:20230110T215936Z
LAST-MODIFIED:20230110T215936Z
UID:10002263-1713209400-1713214800@www.flcduluth.org
SUMMARY:Nar-Anon Meeting
DESCRIPTION:
URL:https://www.flcduluth.org/event/nar-anon-meeting/2024-04-15/
CATEGORIES:Outside Group
END:VEVENT
BEGIN:VEVENT
DTSTART;TZID=America/Chicago:20240413T090000
DTEND;TZID=America/Chicago:20240413T110000
DTSTAMP:20260425T085548
CREATED:20230110T222829Z
LAST-MODIFIED:20230110T223030Z
UID:10003434-1712998800-1713006000@www.flcduluth.org
SUMMARY:AA
DESCRIPTION:
URL:https://www.flcduluth.org/event/aa-3/2024-04-13/
CATEGORIES:Outside Group
END:VEVENT
BEGIN:VEVENT
DTSTART;TZID=America/Chicago:20240410T202000
DTEND;TZID=America/Chicago:20240410T210000
DTSTAMP:20260425T085548
CREATED:20230810T182721Z
LAST-MODIFIED:20240515T191459Z
UID:10004745-1712780400-1712782800@www.flcduluth.org
SUMMARY:Chamber Choir
DESCRIPTION:
URL:https://www.flcduluth.org/event/chamber-choir/2024-04-10/
CATEGORIES:Music Rehearsal
END:VEVENT
BEGIN:VEVENT
DTSTART;TZID=America/Chicago:20240410T191500
DTEND;TZID=America/Chicago:20240410T201500
DTSTAMP:20260425T085548
CREATED:20230810T182600Z
LAST-MODIFIED:20240515T191343Z
UID:10004677-1712776500-1712780100@www.flcduluth.org
SUMMARY:Soli Deo Gloria Choir
DESCRIPTION:
URL:https://www.flcduluth.org/event/soli-deo-gloria-choir/2024-04-10/
CATEGORIES:Music Rehearsal
END:VEVENT
BEGIN:VEVENT
DTSTART;TZID=America/Chicago:20240410T174500
DTEND;TZID=America/Chicago:20240410T190000
DTSTAMP:20260425T085548
CREATED:20230810T182835Z
LAST-MODIFIED:20240515T191229Z
UID:10004809-1712771100-1712775600@www.flcduluth.org
SUMMARY:Handbell Choir
DESCRIPTION:
URL:https://www.flcduluth.org/event/handbell-choir/2024-04-10/
CATEGORIES:Music Rehearsal
END:VEVENT
BEGIN:VEVENT
DTSTART;TZID=America/Chicago:20240410T113000
DTEND;TZID=America/Chicago:20240410T130000
DTSTAMP:20260425T085548
CREATED:20230110T220749Z
LAST-MODIFIED:20230110T220749Z
UID:10002799-1712748600-1712754000@www.flcduluth.org
SUMMARY:Al-Anon
DESCRIPTION:
URL:https://www.flcduluth.org/event/al-anon/2024-04-10/
CATEGORIES:Outside Group
END:VEVENT
BEGIN:VEVENT
DTSTART;TZID=America/Chicago:20240410T100000
DTEND;TZID=America/Chicago:20240410T113000
DTSTAMP:20260425T085548
CREATED:20230829T193211Z
LAST-MODIFIED:20230829T193211Z
UID:10004885-1712743200-1712748600@www.flcduluth.org
SUMMARY:Staff Meeting
DESCRIPTION:
URL:https://www.flcduluth.org/event/staff-meeting-3/2024-04-10/
CATEGORIES:Staff
END:VEVENT
BEGIN:VEVENT
DTSTART;TZID=America/Chicago:20240409T090000
DTEND;TZID=America/Chicago:20240409T110000
DTSTAMP:20260425T085548
CREATED:20221027T183840Z
LAST-MODIFIED:20221103T193700Z
UID:10001868-1712653200-1712660400@www.flcduluth.org
SUMMARY:Leah Gathering
DESCRIPTION:
URL:https://www.flcduluth.org/event/womens-bible-study/2024-04-09/
CATEGORIES:Women's Ministry
END:VEVENT
BEGIN:VEVENT
DTSTART;TZID=America/Chicago:20240409T063000
DTEND;TZID=America/Chicago:20240409T193000
DTSTAMP:20260425T085548
CREATED:20230110T220428Z
LAST-MODIFIED:20230110T220428Z
UID:10002538-1712644200-1712691000@www.flcduluth.org
SUMMARY:Tai-Chi
DESCRIPTION:
URL:https://www.flcduluth.org/event/tai-chi-3/2024-04-09/
CATEGORIES:Outside Group
END:VEVENT
BEGIN:VEVENT
DTSTART;TZID=America/Chicago:20240408T193000
DTEND;TZID=America/Chicago:20240408T210000
DTSTAMP:20260425T085548
CREATED:20230110T215936Z
LAST-MODIFIED:20230110T215936Z
UID:10002262-1712604600-1712610000@www.flcduluth.org
SUMMARY:Nar-Anon Meeting
DESCRIPTION:
URL:https://www.flcduluth.org/event/nar-anon-meeting/2024-04-08/
CATEGORIES:Outside Group
END:VEVENT
BEGIN:VEVENT
DTSTART;TZID=America/Chicago:20240406T090000
DTEND;TZID=America/Chicago:20240406T110000
DTSTAMP:20260425T085548
CREATED:20230110T222829Z
LAST-MODIFIED:20230110T223030Z
UID:10003433-1712394000-1712401200@www.flcduluth.org
SUMMARY:AA
DESCRIPTION:
URL:https://www.flcduluth.org/event/aa-3/2024-04-06/
CATEGORIES:Outside Group
END:VEVENT
BEGIN:VEVENT
DTSTART;TZID=America/Chicago:20240404T180000
DTEND;TZID=America/Chicago:20240404T200000
DTSTAMP:20260425T085548
CREATED:20230706T191437Z
LAST-MODIFIED:20230706T191439Z
UID:10004583-1712253600-1712260800@www.flcduluth.org
SUMMARY:Vision Council Meeting
DESCRIPTION:
URL:https://www.flcduluth.org/event/vision-council-meeting-2-2-2/2024-04-04/
CATEGORIES:Committee Meetings
END:VEVENT
BEGIN:VEVENT
DTSTART;TZID=America/Chicago:20240403T202000
DTEND;TZID=America/Chicago:20240403T210000
DTSTAMP:20260425T085548
CREATED:20230810T182721Z
LAST-MODIFIED:20240515T191459Z
UID:10004744-1712175600-1712178000@www.flcduluth.org
SUMMARY:Chamber Choir
DESCRIPTION:
URL:https://www.flcduluth.org/event/chamber-choir/2024-04-03/
CATEGORIES:Music Rehearsal
END:VEVENT
BEGIN:VEVENT
DTSTART;TZID=America/Chicago:20240403T191500
DTEND;TZID=America/Chicago:20240403T201500
DTSTAMP:20260425T085548
CREATED:20230810T182600Z
LAST-MODIFIED:20240515T191343Z
UID:10004676-1712171700-1712175300@www.flcduluth.org
SUMMARY:Soli Deo Gloria Choir
DESCRIPTION:
URL:https://www.flcduluth.org/event/soli-deo-gloria-choir/2024-04-03/
CATEGORIES:Music Rehearsal
END:VEVENT
BEGIN:VEVENT
DTSTART;TZID=America/Chicago:20240403T174500
DTEND;TZID=America/Chicago:20240403T190000
DTSTAMP:20260425T085548
CREATED:20230810T182835Z
LAST-MODIFIED:20240515T191229Z
UID:10004808-1712166300-1712170800@www.flcduluth.org
SUMMARY:Handbell Choir
DESCRIPTION:
URL:https://www.flcduluth.org/event/handbell-choir/2024-04-03/
CATEGORIES:Music Rehearsal
END:VEVENT
BEGIN:VEVENT
DTSTART;TZID=America/Chicago:20240403T113000
DTEND;TZID=America/Chicago:20240403T130000
DTSTAMP:20260425T085548
CREATED:20230110T220749Z
LAST-MODIFIED:20230110T220749Z
UID:10002798-1712143800-1712149200@www.flcduluth.org
SUMMARY:Al-Anon
DESCRIPTION:
URL:https://www.flcduluth.org/event/al-anon/2024-04-03/
CATEGORIES:Outside Group
END:VEVENT
BEGIN:VEVENT
DTSTART;TZID=America/Chicago:20240403T100000
DTEND;TZID=America/Chicago:20240403T113000
DTSTAMP:20260425T085548
CREATED:20230829T193211Z
LAST-MODIFIED:20230829T193211Z
UID:10004884-1712138400-1712143800@www.flcduluth.org
SUMMARY:Staff Meeting
DESCRIPTION:
URL:https://www.flcduluth.org/event/staff-meeting-3/2024-04-03/
CATEGORIES:Staff
END:VEVENT
BEGIN:VEVENT
DTSTART;TZID=America/Chicago:20240402T063000
DTEND;TZID=America/Chicago:20240402T193000
DTSTAMP:20260425T085548
CREATED:20230110T220428Z
LAST-MODIFIED:20230110T220428Z
UID:10002537-1712039400-1712086200@www.flcduluth.org
SUMMARY:Tai-Chi
DESCRIPTION:
URL:https://www.flcduluth.org/event/tai-chi-3/2024-04-02/
CATEGORIES:Outside Group
END:VEVENT
BEGIN:VEVENT
DTSTART;TZID=America/Chicago:20240401T193000
DTEND;TZID=America/Chicago:20240401T210000
DTSTAMP:20260425T085548
CREATED:20230110T215936Z
LAST-MODIFIED:20230110T215936Z
UID:10002261-1711999800-1712005200@www.flcduluth.org
SUMMARY:Nar-Anon Meeting
DESCRIPTION:
URL:https://www.flcduluth.org/event/nar-anon-meeting/2024-04-01/
CATEGORIES:Outside Group
END:VEVENT
BEGIN:VEVENT
DTSTART;TZID=America/Chicago:20240401T190000
DTEND;TZID=America/Chicago:20240401T203000
DTSTAMP:20260425T085548
CREATED:20230201T213018Z
LAST-MODIFIED:20230201T213018Z
UID:10003982-1711998000-1712003400@www.flcduluth.org
SUMMARY:Ruth Gathering
DESCRIPTION:
URL:https://www.flcduluth.org/event/ruth-gathering-3/2024-04-01/
LOCATION:First Lutheran Church\, 1100 E. Superior St.\, Duluth\, MN\, 55802\, United States
CATEGORIES:Women's Ministry
END:VEVENT
BEGIN:VEVENT
DTSTART;TZID=America/Chicago:20240331T120000
DTEND;TZID=America/Chicago:20240331T133000
DTSTAMP:20260425T085548
CREATED:20230110T224319Z
LAST-MODIFIED:20230110T224319Z
UID:10003713-1711886400-1711891800@www.flcduluth.org
SUMMARY:Community Meal
DESCRIPTION:
URL:https://www.flcduluth.org/event/community-meal-3/2024-03-31/
END:VEVENT
END:VCALENDAR