BEGIN:VCALENDAR
VERSION:2.0
PRODID:-//First Lutheran Church - ECPv6.15.20//NONSGML v1.0//EN
CALSCALE:GREGORIAN
METHOD:PUBLISH
X-WR-CALNAME:First Lutheran Church
X-ORIGINAL-URL:https://www.flcduluth.org
X-WR-CALDESC:Events for First Lutheran Church
REFRESH-INTERVAL;VALUE=DURATION:PT1H
X-Robots-Tag:noindex
X-PUBLISHED-TTL:PT1H
BEGIN:VTIMEZONE
TZID:America/Chicago
BEGIN:DAYLIGHT
TZOFFSETFROM:-0600
TZOFFSETTO:-0500
TZNAME:CDT
DTSTART:20250309T080000
END:DAYLIGHT
BEGIN:STANDARD
TZOFFSETFROM:-0500
TZOFFSETTO:-0600
TZNAME:CST
DTSTART:20251102T070000
END:STANDARD
BEGIN:DAYLIGHT
TZOFFSETFROM:-0600
TZOFFSETTO:-0500
TZNAME:CDT
DTSTART:20260308T080000
END:DAYLIGHT
BEGIN:STANDARD
TZOFFSETFROM:-0500
TZOFFSETTO:-0600
TZNAME:CST
DTSTART:20261101T070000
END:STANDARD
BEGIN:DAYLIGHT
TZOFFSETFROM:-0600
TZOFFSETTO:-0500
TZNAME:CDT
DTSTART:20270314T080000
END:DAYLIGHT
BEGIN:STANDARD
TZOFFSETFROM:-0500
TZOFFSETTO:-0600
TZNAME:CST
DTSTART:20271107T070000
END:STANDARD
END:VTIMEZONE
BEGIN:VEVENT
DTSTART;TZID=America/Chicago:20260715T100000
DTEND;TZID=America/Chicago:20260715T113000
DTSTAMP:20260423T162408
CREATED:20230829T193211Z
LAST-MODIFIED:20230829T193211Z
UID:10005003-1784109600-1784115000@www.flcduluth.org
SUMMARY:Staff Meeting
DESCRIPTION:
URL:https://www.flcduluth.org/event/staff-meeting-3/2026-07-15/
CATEGORIES:Staff
END:VEVENT
BEGIN:VEVENT
DTSTART;TZID=America/Chicago:20260715T113000
DTEND;TZID=America/Chicago:20260715T130000
DTSTAMP:20260423T162408
CREATED:20230110T220749Z
LAST-MODIFIED:20230110T220749Z
UID:10002917-1784115000-1784120400@www.flcduluth.org
SUMMARY:Al-Anon
DESCRIPTION:
URL:https://www.flcduluth.org/event/al-anon/2026-07-15/
CATEGORIES:Outside Group
END:VEVENT
BEGIN:VEVENT
DTSTART;TZID=America/Chicago:20260715T170000
DTEND;TZID=America/Chicago:20260715T210000
DTSTAMP:20260423T162408
CREATED:20260204T184019Z
LAST-MODIFIED:20260204T184019Z
UID:10007157-1784134800-1784149200@www.flcduluth.org
SUMMARY:Community Event
DESCRIPTION:
URL:https://www.flcduluth.org/event/community-event/2026-07-15/
END:VEVENT
BEGIN:VEVENT
DTSTART;TZID=America/Chicago:20260716T073000
DTEND;TZID=America/Chicago:20260716T090000
DTSTAMP:20260423T162408
CREATED:20260204T183751Z
LAST-MODIFIED:20260204T183751Z
UID:10006820-1784187000-1784192400@www.flcduluth.org
SUMMARY:Men's Group
DESCRIPTION:
URL:https://www.flcduluth.org/event/mens-group-4/2026-07-16/
END:VEVENT
BEGIN:VEVENT
DTSTART;TZID=America/Chicago:20260716T170000
DTEND;TZID=America/Chicago:20260716T183000
DTSTAMP:20260423T162408
CREATED:20230706T191139Z
LAST-MODIFIED:20230706T191139Z
UID:10004551-1784221200-1784226600@www.flcduluth.org
SUMMARY:Finance Meeting
DESCRIPTION:
URL:https://www.flcduluth.org/event/finance-meeting-8/2026-07-16/
CATEGORIES:Committee Meetings
END:VEVENT
BEGIN:VEVENT
DTSTART;TZID=America/Chicago:20260716T183000
DTEND;TZID=America/Chicago:20260716T200000
DTSTAMP:20260423T162408
CREATED:20230110T223406Z
LAST-MODIFIED:20230110T223406Z
UID:10003674-1784226600-1784232000@www.flcduluth.org
SUMMARY:District AA Meeting
DESCRIPTION:
URL:https://www.flcduluth.org/event/district-aa-meeting-4/2026-07-16/
CATEGORIES:Outside Group
END:VEVENT
BEGIN:VEVENT
DTSTART;TZID=America/Chicago:20260718T090000
DTEND;TZID=America/Chicago:20260718T110000
DTSTAMP:20260423T162408
CREATED:20230110T222829Z
LAST-MODIFIED:20230110T223030Z
UID:10003552-1784365200-1784372400@www.flcduluth.org
SUMMARY:AA
DESCRIPTION:
URL:https://www.flcduluth.org/event/aa-3/2026-07-18/
CATEGORIES:Outside Group
END:VEVENT
BEGIN:VEVENT
DTSTART;TZID=America/Chicago:20260720T193000
DTEND;TZID=America/Chicago:20260720T210000
DTSTAMP:20260423T162408
CREATED:20230110T215936Z
LAST-MODIFIED:20230110T215936Z
UID:10002381-1784575800-1784581200@www.flcduluth.org
SUMMARY:Nar-Anon Meeting
DESCRIPTION:
URL:https://www.flcduluth.org/event/nar-anon-meeting/2026-07-20/
CATEGORIES:Outside Group
END:VEVENT
BEGIN:VEVENT
DTSTART;TZID=America/Chicago:20260721T063000
DTEND;TZID=America/Chicago:20260721T193000
DTSTAMP:20260423T162408
CREATED:20230110T220428Z
LAST-MODIFIED:20230110T220428Z
UID:10002657-1784615400-1784662200@www.flcduluth.org
SUMMARY:Tai-Chi
DESCRIPTION:
URL:https://www.flcduluth.org/event/tai-chi-3/2026-07-21/
CATEGORIES:Outside Group
END:VEVENT
BEGIN:VEVENT
DTSTART;TZID=America/Chicago:20260722T100000
DTEND;TZID=America/Chicago:20260722T113000
DTSTAMP:20260423T162408
CREATED:20230829T193211Z
LAST-MODIFIED:20230829T193211Z
UID:10005004-1784714400-1784719800@www.flcduluth.org
SUMMARY:Staff Meeting
DESCRIPTION:
URL:https://www.flcduluth.org/event/staff-meeting-3/2026-07-22/
CATEGORIES:Staff
END:VEVENT
BEGIN:VEVENT
DTSTART;TZID=America/Chicago:20260722T113000
DTEND;TZID=America/Chicago:20260722T130000
DTSTAMP:20260423T162408
CREATED:20230110T220749Z
LAST-MODIFIED:20230110T220749Z
UID:10002918-1784719800-1784725200@www.flcduluth.org
SUMMARY:Al-Anon
DESCRIPTION:
URL:https://www.flcduluth.org/event/al-anon/2026-07-22/
CATEGORIES:Outside Group
END:VEVENT
BEGIN:VEVENT
DTSTART;TZID=America/Chicago:20260722T170000
DTEND;TZID=America/Chicago:20260722T210000
DTSTAMP:20260423T162408
CREATED:20260204T184019Z
LAST-MODIFIED:20260204T184019Z
UID:10007158-1784739600-1784754000@www.flcduluth.org
SUMMARY:Community Event
DESCRIPTION:
URL:https://www.flcduluth.org/event/community-event/2026-07-22/
END:VEVENT
BEGIN:VEVENT
DTSTART;TZID=America/Chicago:20260723T073000
DTEND;TZID=America/Chicago:20260723T090000
DTSTAMP:20260423T162408
CREATED:20260204T183751Z
LAST-MODIFIED:20260204T183751Z
UID:10006821-1784791800-1784797200@www.flcduluth.org
SUMMARY:Men's Group
DESCRIPTION:
URL:https://www.flcduluth.org/event/mens-group-4/2026-07-23/
END:VEVENT
BEGIN:VEVENT
DTSTART;TZID=America/Chicago:20260725T090000
DTEND;TZID=America/Chicago:20260725T110000
DTSTAMP:20260423T162408
CREATED:20230110T222829Z
LAST-MODIFIED:20230110T223030Z
UID:10003553-1784970000-1784977200@www.flcduluth.org
SUMMARY:AA
DESCRIPTION:
URL:https://www.flcduluth.org/event/aa-3/2026-07-25/
CATEGORIES:Outside Group
END:VEVENT
BEGIN:VEVENT
DTSTART;TZID=America/Chicago:20260726T120000
DTEND;TZID=America/Chicago:20260726T133000
DTSTAMP:20260423T162408
CREATED:20230110T224319Z
LAST-MODIFIED:20230110T224319Z
UID:10003741-1785067200-1785072600@www.flcduluth.org
SUMMARY:Community Meal
DESCRIPTION:
URL:https://www.flcduluth.org/event/community-meal-3/2026-07-26/
END:VEVENT
BEGIN:VEVENT
DTSTART;TZID=America/Chicago:20260727T193000
DTEND;TZID=America/Chicago:20260727T210000
DTSTAMP:20260423T162408
CREATED:20230110T215936Z
LAST-MODIFIED:20230110T215936Z
UID:10002382-1785180600-1785186000@www.flcduluth.org
SUMMARY:Nar-Anon Meeting
DESCRIPTION:
URL:https://www.flcduluth.org/event/nar-anon-meeting/2026-07-27/
CATEGORIES:Outside Group
END:VEVENT
BEGIN:VEVENT
DTSTART;TZID=America/Chicago:20260728T063000
DTEND;TZID=America/Chicago:20260728T193000
DTSTAMP:20260423T162408
CREATED:20230110T220428Z
LAST-MODIFIED:20230110T220428Z
UID:10002658-1785220200-1785267000@www.flcduluth.org
SUMMARY:Tai-Chi
DESCRIPTION:
URL:https://www.flcduluth.org/event/tai-chi-3/2026-07-28/
CATEGORIES:Outside Group
END:VEVENT
BEGIN:VEVENT
DTSTART;TZID=America/Chicago:20260729T100000
DTEND;TZID=America/Chicago:20260729T113000
DTSTAMP:20260423T162408
CREATED:20230829T193211Z
LAST-MODIFIED:20230829T193211Z
UID:10005005-1785319200-1785324600@www.flcduluth.org
SUMMARY:Staff Meeting
DESCRIPTION:
URL:https://www.flcduluth.org/event/staff-meeting-3/2026-07-29/
CATEGORIES:Staff
END:VEVENT
BEGIN:VEVENT
DTSTART;TZID=America/Chicago:20260729T113000
DTEND;TZID=America/Chicago:20260729T130000
DTSTAMP:20260423T162408
CREATED:20230110T220749Z
LAST-MODIFIED:20230110T220749Z
UID:10002919-1785324600-1785330000@www.flcduluth.org
SUMMARY:Al-Anon
DESCRIPTION:
URL:https://www.flcduluth.org/event/al-anon/2026-07-29/
CATEGORIES:Outside Group
END:VEVENT
BEGIN:VEVENT
DTSTART;TZID=America/Chicago:20260729T170000
DTEND;TZID=America/Chicago:20260729T210000
DTSTAMP:20260423T162408
CREATED:20260204T184019Z
LAST-MODIFIED:20260204T184019Z
UID:10007159-1785344400-1785358800@www.flcduluth.org
SUMMARY:Community Event
DESCRIPTION:
URL:https://www.flcduluth.org/event/community-event/2026-07-29/
END:VEVENT
BEGIN:VEVENT
DTSTART;TZID=America/Chicago:20260730T073000
DTEND;TZID=America/Chicago:20260730T090000
DTSTAMP:20260423T162408
CREATED:20260204T183751Z
LAST-MODIFIED:20260204T183751Z
UID:10006822-1785396600-1785402000@www.flcduluth.org
SUMMARY:Men's Group
DESCRIPTION:
URL:https://www.flcduluth.org/event/mens-group-4/2026-07-30/
END:VEVENT
BEGIN:VEVENT
DTSTART;TZID=America/Chicago:20260801T090000
DTEND;TZID=America/Chicago:20260801T110000
DTSTAMP:20260423T162408
CREATED:20230110T222829Z
LAST-MODIFIED:20230110T223030Z
UID:10003554-1785574800-1785582000@www.flcduluth.org
SUMMARY:AA
DESCRIPTION:
URL:https://www.flcduluth.org/event/aa-3/2026-08-01/
CATEGORIES:Outside Group
END:VEVENT
BEGIN:VEVENT
DTSTART;TZID=America/Chicago:20260803T190000
DTEND;TZID=America/Chicago:20260803T203000
DTSTAMP:20260423T162408
CREATED:20230201T213018Z
LAST-MODIFIED:20230201T213018Z
UID:10004010-1785783600-1785789000@www.flcduluth.org
SUMMARY:Ruth Gathering
DESCRIPTION:
URL:https://www.flcduluth.org/event/ruth-gathering-3/2026-08-03/
LOCATION:First Lutheran Church\, 1100 E. Superior St.\, Duluth\, MN\, 55802\, United States
CATEGORIES:Women's Ministry
END:VEVENT
BEGIN:VEVENT
DTSTART;TZID=America/Chicago:20260803T193000
DTEND;TZID=America/Chicago:20260803T210000
DTSTAMP:20260423T162408
CREATED:20230110T215936Z
LAST-MODIFIED:20230110T215936Z
UID:10002383-1785785400-1785790800@www.flcduluth.org
SUMMARY:Nar-Anon Meeting
DESCRIPTION:
URL:https://www.flcduluth.org/event/nar-anon-meeting/2026-08-03/
CATEGORIES:Outside Group
END:VEVENT
BEGIN:VEVENT
DTSTART;TZID=America/Chicago:20260804T063000
DTEND;TZID=America/Chicago:20260804T193000
DTSTAMP:20260423T162408
CREATED:20230110T220428Z
LAST-MODIFIED:20230110T220428Z
UID:10002659-1785825000-1785871800@www.flcduluth.org
SUMMARY:Tai-Chi
DESCRIPTION:
URL:https://www.flcduluth.org/event/tai-chi-3/2026-08-04/
CATEGORIES:Outside Group
END:VEVENT
BEGIN:VEVENT
DTSTART;TZID=America/Chicago:20260805T100000
DTEND;TZID=America/Chicago:20260805T113000
DTSTAMP:20260423T162408
CREATED:20230829T193211Z
LAST-MODIFIED:20230829T193211Z
UID:10005006-1785924000-1785929400@www.flcduluth.org
SUMMARY:Staff Meeting
DESCRIPTION:
URL:https://www.flcduluth.org/event/staff-meeting-3/2026-08-05/
CATEGORIES:Staff
END:VEVENT
BEGIN:VEVENT
DTSTART;TZID=America/Chicago:20260805T113000
DTEND;TZID=America/Chicago:20260805T130000
DTSTAMP:20260423T162408
CREATED:20230110T220749Z
LAST-MODIFIED:20230110T220749Z
UID:10002920-1785929400-1785934800@www.flcduluth.org
SUMMARY:Al-Anon
DESCRIPTION:
URL:https://www.flcduluth.org/event/al-anon/2026-08-05/
CATEGORIES:Outside Group
END:VEVENT
BEGIN:VEVENT
DTSTART;TZID=America/Chicago:20260805T170000
DTEND;TZID=America/Chicago:20260805T210000
DTSTAMP:20260423T162408
CREATED:20260204T184019Z
LAST-MODIFIED:20260204T184019Z
UID:10007160-1785949200-1785963600@www.flcduluth.org
SUMMARY:Community Event
DESCRIPTION:
URL:https://www.flcduluth.org/event/community-event/2026-08-05/
END:VEVENT
BEGIN:VEVENT
DTSTART;TZID=America/Chicago:20260806T073000
DTEND;TZID=America/Chicago:20260806T090000
DTSTAMP:20260423T162408
CREATED:20260204T183751Z
LAST-MODIFIED:20260204T183751Z
UID:10006823-1786001400-1786006800@www.flcduluth.org
SUMMARY:Men's Group
DESCRIPTION:
URL:https://www.flcduluth.org/event/mens-group-4/2026-08-06/
END:VEVENT
BEGIN:VEVENT
DTSTART;TZID=America/Chicago:20260806T090000
DTEND;TZID=America/Chicago:20260806T113000
DTSTAMP:20260423T162408
CREATED:20260204T183825Z
LAST-MODIFIED:20260204T183825Z
UID:10007064-1786006800-1786015800@www.flcduluth.org
SUMMARY:Quilters Gathering
DESCRIPTION:
URL:https://www.flcduluth.org/event/quilters-gathering/2026-08-06/
END:VEVENT
END:VCALENDAR