BEGIN:VCALENDAR
VERSION:2.0
PRODID:-//First Lutheran Church - ECPv6.15.20//NONSGML v1.0//EN
CALSCALE:GREGORIAN
METHOD:PUBLISH
X-ORIGINAL-URL:https://www.flcduluth.org
X-WR-CALDESC:Events for First Lutheran Church
REFRESH-INTERVAL;VALUE=DURATION:PT1H
X-Robots-Tag:noindex
X-PUBLISHED-TTL:PT1H
BEGIN:VTIMEZONE
TZID:America/Chicago
BEGIN:DAYLIGHT
TZOFFSETFROM:-0600
TZOFFSETTO:-0500
TZNAME:CDT
DTSTART:20250309T080000
END:DAYLIGHT
BEGIN:STANDARD
TZOFFSETFROM:-0500
TZOFFSETTO:-0600
TZNAME:CST
DTSTART:20251102T070000
END:STANDARD
BEGIN:DAYLIGHT
TZOFFSETFROM:-0600
TZOFFSETTO:-0500
TZNAME:CDT
DTSTART:20260308T080000
END:DAYLIGHT
BEGIN:STANDARD
TZOFFSETFROM:-0500
TZOFFSETTO:-0600
TZNAME:CST
DTSTART:20261101T070000
END:STANDARD
BEGIN:DAYLIGHT
TZOFFSETFROM:-0600
TZOFFSETTO:-0500
TZNAME:CDT
DTSTART:20270314T080000
END:DAYLIGHT
BEGIN:STANDARD
TZOFFSETFROM:-0500
TZOFFSETTO:-0600
TZNAME:CST
DTSTART:20271107T070000
END:STANDARD
END:VTIMEZONE
BEGIN:VEVENT
DTSTART;TZID=America/Chicago:20260322T173000
DTEND;TZID=America/Chicago:20260322T200000
DTSTAMP:20260423T181506
CREATED:20260204T184658Z
LAST-MODIFIED:20260204T184658Z
UID:10007469-1774200600-1774209600@www.flcduluth.org
SUMMARY:Middle School Gathering
DESCRIPTION:
URL:https://www.flcduluth.org/event/middle-school-gathering/2026-03-22/
END:VEVENT
BEGIN:VEVENT
DTSTART;TZID=America/Chicago:20260322T173000
DTEND;TZID=America/Chicago:20260322T200000
DTSTAMP:20260423T181506
CREATED:20260204T184745Z
LAST-MODIFIED:20260204T184745Z
UID:10007483-1774200600-1774209600@www.flcduluth.org
SUMMARY:Confirmation
DESCRIPTION:
URL:https://www.flcduluth.org/event/confirmation/2026-03-22/
END:VEVENT
BEGIN:VEVENT
DTSTART;TZID=America/Chicago:20260323T193000
DTEND;TZID=America/Chicago:20260323T210000
DTSTAMP:20260423T181506
CREATED:20230110T215936Z
LAST-MODIFIED:20230110T215936Z
UID:10002364-1774294200-1774299600@www.flcduluth.org
SUMMARY:Nar-Anon Meeting
DESCRIPTION:
URL:https://www.flcduluth.org/event/nar-anon-meeting/2026-03-23/
CATEGORIES:Outside Group
END:VEVENT
BEGIN:VEVENT
DTSTART;TZID=America/Chicago:20260324T063000
DTEND;TZID=America/Chicago:20260324T193000
DTSTAMP:20260423T181506
CREATED:20230110T220428Z
LAST-MODIFIED:20230110T220428Z
UID:10002640-1774333800-1774380600@www.flcduluth.org
SUMMARY:Tai-Chi
DESCRIPTION:
URL:https://www.flcduluth.org/event/tai-chi-3/2026-03-24/
CATEGORIES:Outside Group
END:VEVENT
BEGIN:VEVENT
DTSTART;TZID=America/Chicago:20260325T100000
DTEND;TZID=America/Chicago:20260325T113000
DTSTAMP:20260423T181506
CREATED:20230829T193211Z
LAST-MODIFIED:20230829T193211Z
UID:10004987-1774432800-1774438200@www.flcduluth.org
SUMMARY:Staff Meeting
DESCRIPTION:
URL:https://www.flcduluth.org/event/staff-meeting-3/2026-03-25/
CATEGORIES:Staff
END:VEVENT
BEGIN:VEVENT
DTSTART;TZID=America/Chicago:20260325T113000
DTEND;TZID=America/Chicago:20260325T130000
DTSTAMP:20260423T181506
CREATED:20230110T220749Z
LAST-MODIFIED:20230110T220749Z
UID:10002901-1774438200-1774443600@www.flcduluth.org
SUMMARY:Al-Anon
DESCRIPTION:
URL:https://www.flcduluth.org/event/al-anon/2026-03-25/
CATEGORIES:Outside Group
END:VEVENT
BEGIN:VEVENT
DTSTART;TZID=America/Chicago:20260325T170000
DTEND;TZID=America/Chicago:20260325T210000
DTSTAMP:20260423T181506
CREATED:20260204T184019Z
LAST-MODIFIED:20260204T184019Z
UID:10007141-1774458000-1774472400@www.flcduluth.org
SUMMARY:Community Event
DESCRIPTION:
URL:https://www.flcduluth.org/event/community-event/2026-03-25/
END:VEVENT
BEGIN:VEVENT
DTSTART;TZID=America/Chicago:20260325T174500
DTEND;TZID=America/Chicago:20260325T190000
DTSTAMP:20260423T181506
CREATED:20260204T183502Z
LAST-MODIFIED:20260204T183529Z
UID:10006526-1774460700-1774465200@www.flcduluth.org
SUMMARY:Handbells
DESCRIPTION:
URL:https://www.flcduluth.org/event/handbells-2/2026-03-25/
CATEGORIES:Music Rehearsal
END:VEVENT
BEGIN:VEVENT
DTSTART;TZID=America/Chicago:20260325T180000
DTEND;TZID=America/Chicago:20260325T190000
DTSTAMP:20260423T181506
CREATED:20260204T185416Z
LAST-MODIFIED:20260204T185439Z
UID:10007514-1774461600-1774465200@www.flcduluth.org
SUMMARY:Lenten Midweek Service
DESCRIPTION:
URL:https://www.flcduluth.org/event/lenten-midweek-service/2026-03-25/
END:VEVENT
BEGIN:VEVENT
DTSTART;TZID=America/Chicago:20260325T192000
DTEND;TZID=America/Chicago:20260325T211500
DTSTAMP:20260423T181506
CREATED:20260204T183637Z
LAST-MODIFIED:20260204T183637Z
UID:10006787-1774466400-1774473300@www.flcduluth.org
SUMMARY:Choir Rehearsal
DESCRIPTION:
URL:https://www.flcduluth.org/event/choir-rehearsal/2026-03-25/
END:VEVENT
BEGIN:VEVENT
DTSTART;TZID=America/Chicago:20260326T073000
DTEND;TZID=America/Chicago:20260326T090000
DTSTAMP:20260423T181506
CREATED:20260204T183751Z
LAST-MODIFIED:20260204T183751Z
UID:10006804-1774510200-1774515600@www.flcduluth.org
SUMMARY:Men's Group
DESCRIPTION:
URL:https://www.flcduluth.org/event/mens-group-4/2026-03-26/
END:VEVENT
BEGIN:VEVENT
DTSTART;TZID=America/Chicago:20260327T093000
DTEND;TZID=America/Chicago:20260327T110000
DTSTAMP:20260423T181506
CREATED:20260204T183927Z
LAST-MODIFIED:20260204T183927Z
UID:10007125-1774603800-1774609200@www.flcduluth.org
SUMMARY:Bible Study
DESCRIPTION:
URL:https://www.flcduluth.org/event/bible-study/2026-03-27/
END:VEVENT
BEGIN:VEVENT
DTSTART;TZID=America/Chicago:20260328T090000
DTEND;TZID=America/Chicago:20260328T110000
DTSTAMP:20260423T181506
CREATED:20230110T222829Z
LAST-MODIFIED:20230110T223030Z
UID:10003536-1774688400-1774695600@www.flcduluth.org
SUMMARY:AA
DESCRIPTION:
URL:https://www.flcduluth.org/event/aa-3/2026-03-28/
CATEGORIES:Outside Group
END:VEVENT
BEGIN:VEVENT
DTSTART;TZID=America/Chicago:20260329T083000
DTEND;TZID=America/Chicago:20260329T093000
DTSTAMP:20260423T181506
CREATED:20260204T184311Z
LAST-MODIFIED:20260204T184311Z
UID:10007405-1774773000-1774776600@www.flcduluth.org
SUMMARY:Worship Service
DESCRIPTION:
URL:https://www.flcduluth.org/event/worship-service-3/2026-03-29/
END:VEVENT
BEGIN:VEVENT
DTSTART;TZID=America/Chicago:20260329T100000
DTEND;TZID=America/Chicago:20260329T110000
DTSTAMP:20260423T181506
CREATED:20260204T184346Z
LAST-MODIFIED:20260204T184418Z
UID:10007436-1774778400-1774782000@www.flcduluth.org
SUMMARY:Worship Service
DESCRIPTION:
URL:https://www.flcduluth.org/event/worship-service-4/2026-03-29/
END:VEVENT
BEGIN:VEVENT
DTSTART;TZID=America/Chicago:20260329T120000
DTEND;TZID=America/Chicago:20260329T133000
DTSTAMP:20260423T181506
CREATED:20230110T224319Z
LAST-MODIFIED:20230110T224319Z
UID:10003737-1774785600-1774791000@www.flcduluth.org
SUMMARY:Community Meal
DESCRIPTION:
URL:https://www.flcduluth.org/event/community-meal-3/2026-03-29/
END:VEVENT
BEGIN:VEVENT
DTSTART;TZID=America/Chicago:20260329T153000
DTEND;TZID=America/Chicago:20260329T173000
DTSTAMP:20260423T181506
CREATED:20260204T184607Z
LAST-MODIFIED:20260204T184607Z
UID:10007456-1774798200-1774805400@www.flcduluth.org
SUMMARY:OWL
DESCRIPTION:
URL:https://www.flcduluth.org/event/owl/2026-03-29/
END:VEVENT
BEGIN:VEVENT
DTSTART;TZID=America/Chicago:20260329T173000
DTEND;TZID=America/Chicago:20260329T200000
DTSTAMP:20260423T181506
CREATED:20260204T184658Z
LAST-MODIFIED:20260204T184658Z
UID:10007470-1774805400-1774814400@www.flcduluth.org
SUMMARY:Middle School Gathering
DESCRIPTION:
URL:https://www.flcduluth.org/event/middle-school-gathering/2026-03-29/
END:VEVENT
BEGIN:VEVENT
DTSTART;TZID=America/Chicago:20260329T173000
DTEND;TZID=America/Chicago:20260329T200000
DTSTAMP:20260423T181506
CREATED:20260204T184745Z
LAST-MODIFIED:20260204T184745Z
UID:10007484-1774805400-1774814400@www.flcduluth.org
SUMMARY:Confirmation
DESCRIPTION:
URL:https://www.flcduluth.org/event/confirmation/2026-03-29/
END:VEVENT
BEGIN:VEVENT
DTSTART;TZID=America/Chicago:20260330T193000
DTEND;TZID=America/Chicago:20260330T210000
DTSTAMP:20260423T181506
CREATED:20230110T215936Z
LAST-MODIFIED:20230110T215936Z
UID:10002365-1774899000-1774904400@www.flcduluth.org
SUMMARY:Nar-Anon Meeting
DESCRIPTION:
URL:https://www.flcduluth.org/event/nar-anon-meeting/2026-03-30/
CATEGORIES:Outside Group
END:VEVENT
BEGIN:VEVENT
DTSTART;TZID=America/Chicago:20260331T063000
DTEND;TZID=America/Chicago:20260331T193000
DTSTAMP:20260423T181506
CREATED:20230110T220428Z
LAST-MODIFIED:20230110T220428Z
UID:10002641-1774938600-1774985400@www.flcduluth.org
SUMMARY:Tai-Chi
DESCRIPTION:
URL:https://www.flcduluth.org/event/tai-chi-3/2026-03-31/
CATEGORIES:Outside Group
END:VEVENT
BEGIN:VEVENT
DTSTART;TZID=America/Chicago:20260401T100000
DTEND;TZID=America/Chicago:20260401T113000
DTSTAMP:20260423T181506
CREATED:20230829T193211Z
LAST-MODIFIED:20230829T193211Z
UID:10004988-1775037600-1775043000@www.flcduluth.org
SUMMARY:Staff Meeting
DESCRIPTION:
URL:https://www.flcduluth.org/event/staff-meeting-3/2026-04-01/
CATEGORIES:Staff
END:VEVENT
BEGIN:VEVENT
DTSTART;TZID=America/Chicago:20260401T113000
DTEND;TZID=America/Chicago:20260401T130000
DTSTAMP:20260423T181506
CREATED:20230110T220749Z
LAST-MODIFIED:20230110T220749Z
UID:10002902-1775043000-1775048400@www.flcduluth.org
SUMMARY:Al-Anon
DESCRIPTION:
URL:https://www.flcduluth.org/event/al-anon/2026-04-01/
CATEGORIES:Outside Group
END:VEVENT
BEGIN:VEVENT
DTSTART;TZID=America/Chicago:20260401T170000
DTEND;TZID=America/Chicago:20260401T210000
DTSTAMP:20260423T181506
CREATED:20260204T184019Z
LAST-MODIFIED:20260204T184019Z
UID:10007142-1775062800-1775077200@www.flcduluth.org
SUMMARY:Community Event
DESCRIPTION:
URL:https://www.flcduluth.org/event/community-event/2026-04-01/
END:VEVENT
BEGIN:VEVENT
DTSTART;TZID=America/Chicago:20260401T174500
DTEND;TZID=America/Chicago:20260401T190000
DTSTAMP:20260423T181506
CREATED:20260204T183502Z
LAST-MODIFIED:20260204T183529Z
UID:10006527-1775065500-1775070000@www.flcduluth.org
SUMMARY:Handbells
DESCRIPTION:
URL:https://www.flcduluth.org/event/handbells-2/2026-04-01/
CATEGORIES:Music Rehearsal
END:VEVENT
BEGIN:VEVENT
DTSTART;TZID=America/Chicago:20260401T192000
DTEND;TZID=America/Chicago:20260401T211500
DTSTAMP:20260423T181506
CREATED:20260204T183637Z
LAST-MODIFIED:20260204T183637Z
UID:10006788-1775071200-1775078100@www.flcduluth.org
SUMMARY:Choir Rehearsal
DESCRIPTION:
URL:https://www.flcduluth.org/event/choir-rehearsal/2026-04-01/
END:VEVENT
BEGIN:VEVENT
DTSTART;TZID=America/Chicago:20260402T073000
DTEND;TZID=America/Chicago:20260402T090000
DTSTAMP:20260423T181506
CREATED:20260204T183751Z
LAST-MODIFIED:20260204T183751Z
UID:10006805-1775115000-1775120400@www.flcduluth.org
SUMMARY:Men's Group
DESCRIPTION:
URL:https://www.flcduluth.org/event/mens-group-4/2026-04-02/
END:VEVENT
BEGIN:VEVENT
DTSTART;TZID=America/Chicago:20260402T090000
DTEND;TZID=America/Chicago:20260402T113000
DTSTAMP:20260423T181506
CREATED:20260204T183825Z
LAST-MODIFIED:20260204T183825Z
UID:10007060-1775120400-1775129400@www.flcduluth.org
SUMMARY:Quilters Gathering
DESCRIPTION:
URL:https://www.flcduluth.org/event/quilters-gathering/2026-04-02/
END:VEVENT
BEGIN:VEVENT
DTSTART;TZID=America/Chicago:20260402T180000
DTEND;TZID=America/Chicago:20260402T193000
DTSTAMP:20260423T181506
CREATED:20260204T190054Z
LAST-MODIFIED:20260204T190054Z
UID:10007521-1775152800-1775158200@www.flcduluth.org
SUMMARY:Maundy Thursday Service
DESCRIPTION:
URL:https://www.flcduluth.org/event/maundy-thursday-service-3/
END:VEVENT
BEGIN:VEVENT
DTSTART;TZID=America/Chicago:20260402T180000
DTEND;TZID=America/Chicago:20260402T200000
DTSTAMP:20260423T181506
CREATED:20230706T191437Z
LAST-MODIFIED:20230706T191439Z
UID:10004607-1775152800-1775160000@www.flcduluth.org
SUMMARY:Vision Council Meeting
DESCRIPTION:
URL:https://www.flcduluth.org/event/vision-council-meeting-2-2-2/2026-04-02/
CATEGORIES:Committee Meetings
END:VEVENT
END:VCALENDAR