BEGIN:VCALENDAR
VERSION:2.0
PRODID:-//First Lutheran Church - ECPv6.15.20//NONSGML v1.0//EN
CALSCALE:GREGORIAN
METHOD:PUBLISH
X-WR-CALNAME:First Lutheran Church
X-ORIGINAL-URL:https://www.flcduluth.org
X-WR-CALDESC:Events for First Lutheran Church
REFRESH-INTERVAL;VALUE=DURATION:PT1H
X-Robots-Tag:noindex
X-PUBLISHED-TTL:PT1H
BEGIN:VTIMEZONE
TZID:America/Chicago
BEGIN:DAYLIGHT
TZOFFSETFROM:-0600
TZOFFSETTO:-0500
TZNAME:CDT
DTSTART:20230312T080000
END:DAYLIGHT
BEGIN:STANDARD
TZOFFSETFROM:-0500
TZOFFSETTO:-0600
TZNAME:CST
DTSTART:20231105T070000
END:STANDARD
BEGIN:DAYLIGHT
TZOFFSETFROM:-0600
TZOFFSETTO:-0500
TZNAME:CDT
DTSTART:20240310T080000
END:DAYLIGHT
BEGIN:STANDARD
TZOFFSETFROM:-0500
TZOFFSETTO:-0600
TZNAME:CST
DTSTART:20241103T070000
END:STANDARD
BEGIN:DAYLIGHT
TZOFFSETFROM:-0600
TZOFFSETTO:-0500
TZNAME:CDT
DTSTART:20250309T080000
END:DAYLIGHT
BEGIN:STANDARD
TZOFFSETFROM:-0500
TZOFFSETTO:-0600
TZNAME:CST
DTSTART:20251102T070000
END:STANDARD
END:VTIMEZONE
BEGIN:VEVENT
DTSTART;TZID=America/Chicago:20240805T193000
DTEND;TZID=America/Chicago:20240805T210000
DTSTAMP:20260425T060400
CREATED:20230110T215936Z
LAST-MODIFIED:20230110T215936Z
UID:10002279-1722886200-1722891600@www.flcduluth.org
SUMMARY:Nar-Anon Meeting
DESCRIPTION:
URL:https://www.flcduluth.org/event/nar-anon-meeting/2024-08-05/
CATEGORIES:Outside Group
END:VEVENT
BEGIN:VEVENT
DTSTART;TZID=America/Chicago:20240805T190000
DTEND;TZID=America/Chicago:20240805T203000
DTSTAMP:20260425T060400
CREATED:20230201T213018Z
LAST-MODIFIED:20230201T213018Z
UID:10003986-1722884400-1722889800@www.flcduluth.org
SUMMARY:Ruth Gathering
DESCRIPTION:
URL:https://www.flcduluth.org/event/ruth-gathering-3/2024-08-05/
LOCATION:First Lutheran Church\, 1100 E. Superior St.\, Duluth\, MN\, 55802\, United States
CATEGORIES:Women's Ministry
END:VEVENT
BEGIN:VEVENT
DTSTART;TZID=America/Chicago:20240804T110000
DTEND;TZID=America/Chicago:20240804T120000
DTSTAMP:20260425T060401
CREATED:20240515T191948Z
LAST-MODIFIED:20250411T173105Z
UID:10006433-1722769200-1722772800@www.flcduluth.org
SUMMARY:Contemporary Worship
DESCRIPTION:
URL:https://www.flcduluth.org/event/worship-15/2024-08-04/
CATEGORIES:Worship
END:VEVENT
BEGIN:VEVENT
DTSTART;TZID=America/Chicago:20240804T083000
DTEND;TZID=America/Chicago:20240804T093000
DTSTAMP:20260425T060401
CREATED:20240515T192107Z
LAST-MODIFIED:20250411T172815Z
UID:10005874-1722760200-1722763800@www.flcduluth.org
SUMMARY:Traditional Worship
DESCRIPTION:
URL:https://www.flcduluth.org/event/worship-16/2024-08-04/
CATEGORIES:Worship
END:VEVENT
BEGIN:VEVENT
DTSTART;TZID=America/Chicago:20240803T090000
DTEND;TZID=America/Chicago:20240803T110000
DTSTAMP:20260425T060401
CREATED:20230110T222829Z
LAST-MODIFIED:20230110T223030Z
UID:10003450-1722675600-1722682800@www.flcduluth.org
SUMMARY:AA
DESCRIPTION:
URL:https://www.flcduluth.org/event/aa-3/2024-08-03/
CATEGORIES:Outside Group
END:VEVENT
BEGIN:VEVENT
DTSTART;TZID=America/Chicago:20240801T180000
DTEND;TZID=America/Chicago:20240801T200000
DTSTAMP:20260425T060401
CREATED:20230706T191437Z
LAST-MODIFIED:20230706T191439Z
UID:10004587-1722535200-1722542400@www.flcduluth.org
SUMMARY:Vision Council Meeting
DESCRIPTION:
URL:https://www.flcduluth.org/event/vision-council-meeting-2-2-2/2024-08-01/
CATEGORIES:Committee Meetings
END:VEVENT
BEGIN:VEVENT
DTSTART;TZID=America/Chicago:20240731T113000
DTEND;TZID=America/Chicago:20240731T130000
DTSTAMP:20260425T060401
CREATED:20230110T220749Z
LAST-MODIFIED:20230110T220749Z
UID:10002815-1722425400-1722430800@www.flcduluth.org
SUMMARY:Al-Anon
DESCRIPTION:
URL:https://www.flcduluth.org/event/al-anon/2024-07-31/
CATEGORIES:Outside Group
END:VEVENT
BEGIN:VEVENT
DTSTART;TZID=America/Chicago:20240731T100000
DTEND;TZID=America/Chicago:20240731T113000
DTSTAMP:20260425T060401
CREATED:20230829T193211Z
LAST-MODIFIED:20230829T193211Z
UID:10004901-1722420000-1722425400@www.flcduluth.org
SUMMARY:Staff Meeting
DESCRIPTION:
URL:https://www.flcduluth.org/event/staff-meeting-3/2024-07-31/
CATEGORIES:Staff
END:VEVENT
BEGIN:VEVENT
DTSTART;TZID=America/Chicago:20240730T063000
DTEND;TZID=America/Chicago:20240730T193000
DTSTAMP:20260425T060401
CREATED:20230110T220428Z
LAST-MODIFIED:20230110T220428Z
UID:10002554-1722321000-1722367800@www.flcduluth.org
SUMMARY:Tai-Chi
DESCRIPTION:
URL:https://www.flcduluth.org/event/tai-chi-3/2024-07-30/
CATEGORIES:Outside Group
END:VEVENT
BEGIN:VEVENT
DTSTART;TZID=America/Chicago:20240729T193000
DTEND;TZID=America/Chicago:20240729T210000
DTSTAMP:20260425T060401
CREATED:20230110T215936Z
LAST-MODIFIED:20230110T215936Z
UID:10002278-1722281400-1722286800@www.flcduluth.org
SUMMARY:Nar-Anon Meeting
DESCRIPTION:
URL:https://www.flcduluth.org/event/nar-anon-meeting/2024-07-29/
CATEGORIES:Outside Group
END:VEVENT
BEGIN:VEVENT
DTSTART;TZID=America/Chicago:20240728T120000
DTEND;TZID=America/Chicago:20240728T133000
DTSTAMP:20260425T060401
CREATED:20230110T224319Z
LAST-MODIFIED:20230110T224319Z
UID:10003717-1722168000-1722173400@www.flcduluth.org
SUMMARY:Community Meal
DESCRIPTION:
URL:https://www.flcduluth.org/event/community-meal-3/2024-07-28/
END:VEVENT
BEGIN:VEVENT
DTSTART;TZID=America/Chicago:20240728T110000
DTEND;TZID=America/Chicago:20240728T120000
DTSTAMP:20260425T060401
CREATED:20240515T191948Z
LAST-MODIFIED:20250411T173105Z
UID:10006432-1722164400-1722168000@www.flcduluth.org
SUMMARY:Contemporary Worship
DESCRIPTION:
URL:https://www.flcduluth.org/event/worship-15/2024-07-28/
CATEGORIES:Worship
END:VEVENT
BEGIN:VEVENT
DTSTART;TZID=America/Chicago:20240728T083000
DTEND;TZID=America/Chicago:20240728T093000
DTSTAMP:20260425T060401
CREATED:20240515T192107Z
LAST-MODIFIED:20250411T172815Z
UID:10005873-1722155400-1722159000@www.flcduluth.org
SUMMARY:Traditional Worship
DESCRIPTION:
URL:https://www.flcduluth.org/event/worship-16/2024-07-28/
CATEGORIES:Worship
END:VEVENT
BEGIN:VEVENT
DTSTART;TZID=America/Chicago:20240727T090000
DTEND;TZID=America/Chicago:20240727T110000
DTSTAMP:20260425T060401
CREATED:20230110T222829Z
LAST-MODIFIED:20230110T223030Z
UID:10003449-1722070800-1722078000@www.flcduluth.org
SUMMARY:AA
DESCRIPTION:
URL:https://www.flcduluth.org/event/aa-3/2024-07-27/
CATEGORIES:Outside Group
END:VEVENT
BEGIN:VEVENT
DTSTART;TZID=America/Chicago:20240724T113000
DTEND;TZID=America/Chicago:20240724T130000
DTSTAMP:20260425T060401
CREATED:20230110T220749Z
LAST-MODIFIED:20230110T220749Z
UID:10002814-1721820600-1721826000@www.flcduluth.org
SUMMARY:Al-Anon
DESCRIPTION:
URL:https://www.flcduluth.org/event/al-anon/2024-07-24/
CATEGORIES:Outside Group
END:VEVENT
BEGIN:VEVENT
DTSTART;TZID=America/Chicago:20240724T100000
DTEND;TZID=America/Chicago:20240724T113000
DTSTAMP:20260425T060401
CREATED:20230829T193211Z
LAST-MODIFIED:20230829T193211Z
UID:10004900-1721815200-1721820600@www.flcduluth.org
SUMMARY:Staff Meeting
DESCRIPTION:
URL:https://www.flcduluth.org/event/staff-meeting-3/2024-07-24/
CATEGORIES:Staff
END:VEVENT
BEGIN:VEVENT
DTSTART;TZID=America/Chicago:20240723T063000
DTEND;TZID=America/Chicago:20240723T193000
DTSTAMP:20260425T060401
CREATED:20230110T220428Z
LAST-MODIFIED:20230110T220428Z
UID:10002553-1721716200-1721763000@www.flcduluth.org
SUMMARY:Tai-Chi
DESCRIPTION:
URL:https://www.flcduluth.org/event/tai-chi-3/2024-07-23/
CATEGORIES:Outside Group
END:VEVENT
BEGIN:VEVENT
DTSTART;TZID=America/Chicago:20240722T193000
DTEND;TZID=America/Chicago:20240722T210000
DTSTAMP:20260425T060401
CREATED:20230110T215936Z
LAST-MODIFIED:20230110T215936Z
UID:10002277-1721676600-1721682000@www.flcduluth.org
SUMMARY:Nar-Anon Meeting
DESCRIPTION:
URL:https://www.flcduluth.org/event/nar-anon-meeting/2024-07-22/
CATEGORIES:Outside Group
END:VEVENT
BEGIN:VEVENT
DTSTART;TZID=America/Chicago:20240721T110000
DTEND;TZID=America/Chicago:20240721T120000
DTSTAMP:20260425T060401
CREATED:20240515T191948Z
LAST-MODIFIED:20250411T173105Z
UID:10006431-1721559600-1721563200@www.flcduluth.org
SUMMARY:Contemporary Worship
DESCRIPTION:
URL:https://www.flcduluth.org/event/worship-15/2024-07-21/
CATEGORIES:Worship
END:VEVENT
BEGIN:VEVENT
DTSTART;TZID=America/Chicago:20240721T083000
DTEND;TZID=America/Chicago:20240721T093000
DTSTAMP:20260425T060401
CREATED:20240515T192107Z
LAST-MODIFIED:20250411T172815Z
UID:10005872-1721550600-1721554200@www.flcduluth.org
SUMMARY:Traditional Worship
DESCRIPTION:
URL:https://www.flcduluth.org/event/worship-16/2024-07-21/
CATEGORIES:Worship
END:VEVENT
BEGIN:VEVENT
DTSTART;TZID=America/Chicago:20240720T090000
DTEND;TZID=America/Chicago:20240720T110000
DTSTAMP:20260425T060401
CREATED:20230110T222829Z
LAST-MODIFIED:20230110T223030Z
UID:10003448-1721466000-1721473200@www.flcduluth.org
SUMMARY:AA
DESCRIPTION:
URL:https://www.flcduluth.org/event/aa-3/2024-07-20/
CATEGORIES:Outside Group
END:VEVENT
BEGIN:VEVENT
DTSTART;TZID=America/Chicago:20240718T183000
DTEND;TZID=America/Chicago:20240718T200000
DTSTAMP:20260425T060401
CREATED:20230110T223406Z
LAST-MODIFIED:20230110T223406Z
UID:10003650-1721327400-1721332800@www.flcduluth.org
SUMMARY:District AA Meeting
DESCRIPTION:
URL:https://www.flcduluth.org/event/district-aa-meeting-4/2024-07-18/
CATEGORIES:Outside Group
END:VEVENT
BEGIN:VEVENT
DTSTART;TZID=America/Chicago:20240718T170000
DTEND;TZID=America/Chicago:20240718T183000
DTSTAMP:20260425T060401
CREATED:20230706T191139Z
LAST-MODIFIED:20230706T191139Z
UID:10004527-1721322000-1721327400@www.flcduluth.org
SUMMARY:Finance Meeting
DESCRIPTION:
URL:https://www.flcduluth.org/event/finance-meeting-8/2024-07-18/
CATEGORIES:Committee Meetings
END:VEVENT
BEGIN:VEVENT
DTSTART;TZID=America/Chicago:20240717T113000
DTEND;TZID=America/Chicago:20240717T130000
DTSTAMP:20260425T060401
CREATED:20230110T220749Z
LAST-MODIFIED:20230110T220749Z
UID:10002813-1721215800-1721221200@www.flcduluth.org
SUMMARY:Al-Anon
DESCRIPTION:
URL:https://www.flcduluth.org/event/al-anon/2024-07-17/
CATEGORIES:Outside Group
END:VEVENT
BEGIN:VEVENT
DTSTART;TZID=America/Chicago:20240717T100000
DTEND;TZID=America/Chicago:20240717T113000
DTSTAMP:20260425T060401
CREATED:20230829T193211Z
LAST-MODIFIED:20230829T193211Z
UID:10004899-1721210400-1721215800@www.flcduluth.org
SUMMARY:Staff Meeting
DESCRIPTION:
URL:https://www.flcduluth.org/event/staff-meeting-3/2024-07-17/
CATEGORIES:Staff
END:VEVENT
BEGIN:VEVENT
DTSTART;TZID=America/Chicago:20240716T063000
DTEND;TZID=America/Chicago:20240716T193000
DTSTAMP:20260425T060401
CREATED:20230110T220428Z
LAST-MODIFIED:20230110T220428Z
UID:10002552-1721111400-1721158200@www.flcduluth.org
SUMMARY:Tai-Chi
DESCRIPTION:
URL:https://www.flcduluth.org/event/tai-chi-3/2024-07-16/
CATEGORIES:Outside Group
END:VEVENT
BEGIN:VEVENT
DTSTART;TZID=America/Chicago:20240715T193000
DTEND;TZID=America/Chicago:20240715T210000
DTSTAMP:20260425T060401
CREATED:20230110T215936Z
LAST-MODIFIED:20230110T215936Z
UID:10002276-1721071800-1721077200@www.flcduluth.org
SUMMARY:Nar-Anon Meeting
DESCRIPTION:
URL:https://www.flcduluth.org/event/nar-anon-meeting/2024-07-15/
CATEGORIES:Outside Group
END:VEVENT
BEGIN:VEVENT
DTSTART;TZID=America/Chicago:20240714T110000
DTEND;TZID=America/Chicago:20240714T120000
DTSTAMP:20260425T060401
CREATED:20240515T191948Z
LAST-MODIFIED:20250411T173105Z
UID:10006430-1720954800-1720958400@www.flcduluth.org
SUMMARY:Contemporary Worship
DESCRIPTION:
URL:https://www.flcduluth.org/event/worship-15/2024-07-14/
CATEGORIES:Worship
END:VEVENT
BEGIN:VEVENT
DTSTART;TZID=America/Chicago:20240714T083000
DTEND;TZID=America/Chicago:20240714T093000
DTSTAMP:20260425T060401
CREATED:20240515T192107Z
LAST-MODIFIED:20250411T172815Z
UID:10005871-1720945800-1720949400@www.flcduluth.org
SUMMARY:Traditional Worship
DESCRIPTION:
URL:https://www.flcduluth.org/event/worship-16/2024-07-14/
CATEGORIES:Worship
END:VEVENT
BEGIN:VEVENT
DTSTART;TZID=America/Chicago:20240713T090000
DTEND;TZID=America/Chicago:20240713T110000
DTSTAMP:20260425T060401
CREATED:20230110T222829Z
LAST-MODIFIED:20230110T223030Z
UID:10003447-1720861200-1720868400@www.flcduluth.org
SUMMARY:AA
DESCRIPTION:
URL:https://www.flcduluth.org/event/aa-3/2024-07-13/
CATEGORIES:Outside Group
END:VEVENT
END:VCALENDAR