BEGIN:VCALENDAR
VERSION:2.0
PRODID:-//First Lutheran Church - ECPv6.15.20//NONSGML v1.0//EN
CALSCALE:GREGORIAN
METHOD:PUBLISH
X-WR-CALNAME:First Lutheran Church
X-ORIGINAL-URL:https://www.flcduluth.org
X-WR-CALDESC:Events for First Lutheran Church
REFRESH-INTERVAL;VALUE=DURATION:PT1H
X-Robots-Tag:noindex
X-PUBLISHED-TTL:PT1H
BEGIN:VTIMEZONE
TZID:America/Chicago
BEGIN:DAYLIGHT
TZOFFSETFROM:-0600
TZOFFSETTO:-0500
TZNAME:CDT
DTSTART:20260308T080000
END:DAYLIGHT
BEGIN:STANDARD
TZOFFSETFROM:-0500
TZOFFSETTO:-0600
TZNAME:CST
DTSTART:20261101T070000
END:STANDARD
BEGIN:DAYLIGHT
TZOFFSETFROM:-0600
TZOFFSETTO:-0500
TZNAME:CDT
DTSTART:20270314T080000
END:DAYLIGHT
BEGIN:STANDARD
TZOFFSETFROM:-0500
TZOFFSETTO:-0600
TZNAME:CST
DTSTART:20271107T070000
END:STANDARD
BEGIN:DAYLIGHT
TZOFFSETFROM:-0600
TZOFFSETTO:-0500
TZNAME:CDT
DTSTART:20280312T080000
END:DAYLIGHT
BEGIN:STANDARD
TZOFFSETFROM:-0500
TZOFFSETTO:-0600
TZNAME:CST
DTSTART:20281105T070000
END:STANDARD
END:VTIMEZONE
BEGIN:VEVENT
DTSTART;TZID=America/Chicago:20270720T063000
DTEND;TZID=America/Chicago:20270720T193000
DTSTAMP:20260425T090706
CREATED:20230110T220428Z
LAST-MODIFIED:20230110T220428Z
UID:10002709-1816065000-1816111800@www.flcduluth.org
SUMMARY:Tai-Chi
DESCRIPTION:
URL:https://www.flcduluth.org/event/tai-chi-3/2027-07-20/
CATEGORIES:Outside Group
END:VEVENT
BEGIN:VEVENT
DTSTART;TZID=America/Chicago:20270719T193000
DTEND;TZID=America/Chicago:20270719T210000
DTSTAMP:20260425T090706
CREATED:20230110T215936Z
LAST-MODIFIED:20230110T215936Z
UID:10002433-1816025400-1816030800@www.flcduluth.org
SUMMARY:Nar-Anon Meeting
DESCRIPTION:
URL:https://www.flcduluth.org/event/nar-anon-meeting/2027-07-19/
CATEGORIES:Outside Group
END:VEVENT
BEGIN:VEVENT
DTSTART;TZID=America/Chicago:20270717T090000
DTEND;TZID=America/Chicago:20270717T110000
DTSTAMP:20260425T090706
CREATED:20230110T222829Z
LAST-MODIFIED:20230110T223030Z
UID:10003604-1815814800-1815822000@www.flcduluth.org
SUMMARY:AA
DESCRIPTION:
URL:https://www.flcduluth.org/event/aa-3/2027-07-17/
CATEGORIES:Outside Group
END:VEVENT
BEGIN:VEVENT
DTSTART;TZID=America/Chicago:20270715T183000
DTEND;TZID=America/Chicago:20270715T200000
DTSTAMP:20260425T090706
CREATED:20230110T223406Z
LAST-MODIFIED:20230110T223406Z
UID:10003686-1815676200-1815681600@www.flcduluth.org
SUMMARY:District AA Meeting
DESCRIPTION:
URL:https://www.flcduluth.org/event/district-aa-meeting-4/2027-07-15/
CATEGORIES:Outside Group
END:VEVENT
BEGIN:VEVENT
DTSTART;TZID=America/Chicago:20270715T170000
DTEND;TZID=America/Chicago:20270715T183000
DTSTAMP:20260425T090706
CREATED:20230706T191139Z
LAST-MODIFIED:20230706T191139Z
UID:10004563-1815670800-1815676200@www.flcduluth.org
SUMMARY:Finance Meeting
DESCRIPTION:
URL:https://www.flcduluth.org/event/finance-meeting-8/2027-07-15/
CATEGORIES:Committee Meetings
END:VEVENT
BEGIN:VEVENT
DTSTART;TZID=America/Chicago:20270715T073000
DTEND;TZID=America/Chicago:20270715T090000
DTSTAMP:20260425T090706
CREATED:20260204T183751Z
LAST-MODIFIED:20260204T183751Z
UID:10006872-1815636600-1815642000@www.flcduluth.org
SUMMARY:Men's Group
DESCRIPTION:
URL:https://www.flcduluth.org/event/mens-group-4/2027-07-15/
END:VEVENT
BEGIN:VEVENT
DTSTART;TZID=America/Chicago:20270714T170000
DTEND;TZID=America/Chicago:20270714T210000
DTSTAMP:20260425T090706
CREATED:20260204T184019Z
LAST-MODIFIED:20260204T184019Z
UID:10007209-1815584400-1815598800@www.flcduluth.org
SUMMARY:Community Event
DESCRIPTION:
URL:https://www.flcduluth.org/event/community-event/2027-07-14/
END:VEVENT
BEGIN:VEVENT
DTSTART;TZID=America/Chicago:20270714T113000
DTEND;TZID=America/Chicago:20270714T130000
DTSTAMP:20260425T090706
CREATED:20230110T220749Z
LAST-MODIFIED:20230110T220749Z
UID:10002969-1815564600-1815570000@www.flcduluth.org
SUMMARY:Al-Anon
DESCRIPTION:
URL:https://www.flcduluth.org/event/al-anon/2027-07-14/
CATEGORIES:Outside Group
END:VEVENT
BEGIN:VEVENT
DTSTART;TZID=America/Chicago:20270714T100000
DTEND;TZID=America/Chicago:20270714T113000
DTSTAMP:20260425T090706
CREATED:20230829T193211Z
LAST-MODIFIED:20230829T193211Z
UID:10005055-1815559200-1815564600@www.flcduluth.org
SUMMARY:Staff Meeting
DESCRIPTION:
URL:https://www.flcduluth.org/event/staff-meeting-3/2027-07-14/
CATEGORIES:Staff
END:VEVENT
BEGIN:VEVENT
DTSTART;TZID=America/Chicago:20270713T063000
DTEND;TZID=America/Chicago:20270713T193000
DTSTAMP:20260425T090706
CREATED:20230110T220428Z
LAST-MODIFIED:20230110T220428Z
UID:10002708-1815460200-1815507000@www.flcduluth.org
SUMMARY:Tai-Chi
DESCRIPTION:
URL:https://www.flcduluth.org/event/tai-chi-3/2027-07-13/
CATEGORIES:Outside Group
END:VEVENT
BEGIN:VEVENT
DTSTART;TZID=America/Chicago:20270712T193000
DTEND;TZID=America/Chicago:20270712T210000
DTSTAMP:20260425T090706
CREATED:20230110T215936Z
LAST-MODIFIED:20230110T215936Z
UID:10002432-1815420600-1815426000@www.flcduluth.org
SUMMARY:Nar-Anon Meeting
DESCRIPTION:
URL:https://www.flcduluth.org/event/nar-anon-meeting/2027-07-12/
CATEGORIES:Outside Group
END:VEVENT
BEGIN:VEVENT
DTSTART;TZID=America/Chicago:20270710T090000
DTEND;TZID=America/Chicago:20270710T110000
DTSTAMP:20260425T090706
CREATED:20230110T222829Z
LAST-MODIFIED:20230110T223030Z
UID:10003603-1815210000-1815217200@www.flcduluth.org
SUMMARY:AA
DESCRIPTION:
URL:https://www.flcduluth.org/event/aa-3/2027-07-10/
CATEGORIES:Outside Group
END:VEVENT
BEGIN:VEVENT
DTSTART;TZID=America/Chicago:20270708T073000
DTEND;TZID=America/Chicago:20270708T090000
DTSTAMP:20260425T090706
CREATED:20260204T183751Z
LAST-MODIFIED:20260204T183751Z
UID:10006871-1815031800-1815037200@www.flcduluth.org
SUMMARY:Men's Group
DESCRIPTION:
URL:https://www.flcduluth.org/event/mens-group-4/2027-07-08/
END:VEVENT
BEGIN:VEVENT
DTSTART;TZID=America/Chicago:20270707T170000
DTEND;TZID=America/Chicago:20270707T210000
DTSTAMP:20260425T090706
CREATED:20260204T184019Z
LAST-MODIFIED:20260204T184019Z
UID:10007208-1814979600-1814994000@www.flcduluth.org
SUMMARY:Community Event
DESCRIPTION:
URL:https://www.flcduluth.org/event/community-event/2027-07-07/
END:VEVENT
BEGIN:VEVENT
DTSTART;TZID=America/Chicago:20270707T113000
DTEND;TZID=America/Chicago:20270707T130000
DTSTAMP:20260425T090706
CREATED:20230110T220749Z
LAST-MODIFIED:20230110T220749Z
UID:10002968-1814959800-1814965200@www.flcduluth.org
SUMMARY:Al-Anon
DESCRIPTION:
URL:https://www.flcduluth.org/event/al-anon/2027-07-07/
CATEGORIES:Outside Group
END:VEVENT
BEGIN:VEVENT
DTSTART;TZID=America/Chicago:20270707T100000
DTEND;TZID=America/Chicago:20270707T113000
DTSTAMP:20260425T090706
CREATED:20230829T193211Z
LAST-MODIFIED:20230829T193211Z
UID:10005054-1814954400-1814959800@www.flcduluth.org
SUMMARY:Staff Meeting
DESCRIPTION:
URL:https://www.flcduluth.org/event/staff-meeting-3/2027-07-07/
CATEGORIES:Staff
END:VEVENT
BEGIN:VEVENT
DTSTART;TZID=America/Chicago:20270706T063000
DTEND;TZID=America/Chicago:20270706T193000
DTSTAMP:20260425T090706
CREATED:20230110T220428Z
LAST-MODIFIED:20230110T220428Z
UID:10002707-1814855400-1814902200@www.flcduluth.org
SUMMARY:Tai-Chi
DESCRIPTION:
URL:https://www.flcduluth.org/event/tai-chi-3/2027-07-06/
CATEGORIES:Outside Group
END:VEVENT
BEGIN:VEVENT
DTSTART;TZID=America/Chicago:20270705T193000
DTEND;TZID=America/Chicago:20270705T210000
DTSTAMP:20260425T090706
CREATED:20230110T215936Z
LAST-MODIFIED:20230110T215936Z
UID:10002431-1814815800-1814821200@www.flcduluth.org
SUMMARY:Nar-Anon Meeting
DESCRIPTION:
URL:https://www.flcduluth.org/event/nar-anon-meeting/2027-07-05/
CATEGORIES:Outside Group
END:VEVENT
BEGIN:VEVENT
DTSTART;TZID=America/Chicago:20270705T190000
DTEND;TZID=America/Chicago:20270705T203000
DTSTAMP:20260425T090706
CREATED:20230201T213018Z
LAST-MODIFIED:20230201T213018Z
UID:10004021-1814814000-1814819400@www.flcduluth.org
SUMMARY:Ruth Gathering
DESCRIPTION:
URL:https://www.flcduluth.org/event/ruth-gathering-3/2027-07-05/
LOCATION:First Lutheran Church\, 1100 E. Superior St.\, Duluth\, MN\, 55802\, United States
CATEGORIES:Women's Ministry
END:VEVENT
BEGIN:VEVENT
DTSTART;TZID=America/Chicago:20270703T090000
DTEND;TZID=America/Chicago:20270703T110000
DTSTAMP:20260425T090706
CREATED:20230110T222829Z
LAST-MODIFIED:20230110T223030Z
UID:10003602-1814605200-1814612400@www.flcduluth.org
SUMMARY:AA
DESCRIPTION:
URL:https://www.flcduluth.org/event/aa-3/2027-07-03/
CATEGORIES:Outside Group
END:VEVENT
BEGIN:VEVENT
DTSTART;TZID=America/Chicago:20270701T180000
DTEND;TZID=America/Chicago:20270701T200000
DTSTAMP:20260425T090706
CREATED:20230706T191437Z
LAST-MODIFIED:20230706T191439Z
UID:10004622-1814464800-1814472000@www.flcduluth.org
SUMMARY:Vision Council Meeting
DESCRIPTION:
URL:https://www.flcduluth.org/event/vision-council-meeting-2-2-2/2027-07-01/
CATEGORIES:Committee Meetings
END:VEVENT
BEGIN:VEVENT
DTSTART;TZID=America/Chicago:20270701T090000
DTEND;TZID=America/Chicago:20270701T113000
DTSTAMP:20260425T090706
CREATED:20260204T183825Z
LAST-MODIFIED:20260204T183825Z
UID:10007075-1814432400-1814441400@www.flcduluth.org
SUMMARY:Quilters Gathering
DESCRIPTION:
URL:https://www.flcduluth.org/event/quilters-gathering/2027-07-01/
END:VEVENT
BEGIN:VEVENT
DTSTART;TZID=America/Chicago:20270701T073000
DTEND;TZID=America/Chicago:20270701T090000
DTSTAMP:20260425T090706
CREATED:20260204T183751Z
LAST-MODIFIED:20260204T183751Z
UID:10006870-1814427000-1814432400@www.flcduluth.org
SUMMARY:Men's Group
DESCRIPTION:
URL:https://www.flcduluth.org/event/mens-group-4/2027-07-01/
END:VEVENT
BEGIN:VEVENT
DTSTART;TZID=America/Chicago:20270630T170000
DTEND;TZID=America/Chicago:20270630T210000
DTSTAMP:20260425T090706
CREATED:20260204T184019Z
LAST-MODIFIED:20260204T184019Z
UID:10007207-1814374800-1814389200@www.flcduluth.org
SUMMARY:Community Event
DESCRIPTION:
URL:https://www.flcduluth.org/event/community-event/2027-06-30/
END:VEVENT
BEGIN:VEVENT
DTSTART;TZID=America/Chicago:20270630T113000
DTEND;TZID=America/Chicago:20270630T130000
DTSTAMP:20260425T090706
CREATED:20230110T220749Z
LAST-MODIFIED:20230110T220749Z
UID:10002967-1814355000-1814360400@www.flcduluth.org
SUMMARY:Al-Anon
DESCRIPTION:
URL:https://www.flcduluth.org/event/al-anon/2027-06-30/
CATEGORIES:Outside Group
END:VEVENT
BEGIN:VEVENT
DTSTART;TZID=America/Chicago:20270630T100000
DTEND;TZID=America/Chicago:20270630T113000
DTSTAMP:20260425T090706
CREATED:20230829T193211Z
LAST-MODIFIED:20230829T193211Z
UID:10005053-1814349600-1814355000@www.flcduluth.org
SUMMARY:Staff Meeting
DESCRIPTION:
URL:https://www.flcduluth.org/event/staff-meeting-3/2027-06-30/
CATEGORIES:Staff
END:VEVENT
BEGIN:VEVENT
DTSTART;TZID=America/Chicago:20270629T063000
DTEND;TZID=America/Chicago:20270629T193000
DTSTAMP:20260425T090706
CREATED:20230110T220428Z
LAST-MODIFIED:20230110T220428Z
UID:10002706-1814250600-1814297400@www.flcduluth.org
SUMMARY:Tai-Chi
DESCRIPTION:
URL:https://www.flcduluth.org/event/tai-chi-3/2027-06-29/
CATEGORIES:Outside Group
END:VEVENT
BEGIN:VEVENT
DTSTART;TZID=America/Chicago:20270628T193000
DTEND;TZID=America/Chicago:20270628T210000
DTSTAMP:20260425T090706
CREATED:20230110T215936Z
LAST-MODIFIED:20230110T215936Z
UID:10002430-1814211000-1814216400@www.flcduluth.org
SUMMARY:Nar-Anon Meeting
DESCRIPTION:
URL:https://www.flcduluth.org/event/nar-anon-meeting/2027-06-28/
CATEGORIES:Outside Group
END:VEVENT
BEGIN:VEVENT
DTSTART;TZID=America/Chicago:20270627T120000
DTEND;TZID=America/Chicago:20270627T133000
DTSTAMP:20260425T090706
CREATED:20230110T224319Z
LAST-MODIFIED:20230110T224319Z
UID:10003752-1814097600-1814103000@www.flcduluth.org
SUMMARY:Community Meal
DESCRIPTION:
URL:https://www.flcduluth.org/event/community-meal-3/2027-06-27/
END:VEVENT
BEGIN:VEVENT
DTSTART;TZID=America/Chicago:20270626T090000
DTEND;TZID=America/Chicago:20270626T110000
DTSTAMP:20260425T090706
CREATED:20230110T222829Z
LAST-MODIFIED:20230110T223030Z
UID:10003601-1814000400-1814007600@www.flcduluth.org
SUMMARY:AA
DESCRIPTION:
URL:https://www.flcduluth.org/event/aa-3/2027-06-26/
CATEGORIES:Outside Group
END:VEVENT
END:VCALENDAR