BEGIN:VCALENDAR
VERSION:2.0
PRODID:-//First Lutheran Church - ECPv6.15.20//NONSGML v1.0//EN
CALSCALE:GREGORIAN
METHOD:PUBLISH
X-WR-CALNAME:First Lutheran Church
X-ORIGINAL-URL:https://www.flcduluth.org
X-WR-CALDESC:Events for First Lutheran Church
REFRESH-INTERVAL;VALUE=DURATION:PT1H
X-Robots-Tag:noindex
X-PUBLISHED-TTL:PT1H
BEGIN:VTIMEZONE
TZID:America/Chicago
BEGIN:DAYLIGHT
TZOFFSETFROM:-0600
TZOFFSETTO:-0500
TZNAME:CDT
DTSTART:20260308T080000
END:DAYLIGHT
BEGIN:STANDARD
TZOFFSETFROM:-0500
TZOFFSETTO:-0600
TZNAME:CST
DTSTART:20261101T070000
END:STANDARD
BEGIN:DAYLIGHT
TZOFFSETFROM:-0600
TZOFFSETTO:-0500
TZNAME:CDT
DTSTART:20270314T080000
END:DAYLIGHT
BEGIN:STANDARD
TZOFFSETFROM:-0500
TZOFFSETTO:-0600
TZNAME:CST
DTSTART:20271107T070000
END:STANDARD
BEGIN:DAYLIGHT
TZOFFSETFROM:-0600
TZOFFSETTO:-0500
TZNAME:CDT
DTSTART:20280312T080000
END:DAYLIGHT
BEGIN:STANDARD
TZOFFSETFROM:-0500
TZOFFSETTO:-0600
TZNAME:CST
DTSTART:20281105T070000
END:STANDARD
END:VTIMEZONE
BEGIN:VEVENT
DTSTART;TZID=America/Chicago:20270929T100000
DTEND;TZID=America/Chicago:20270929T113000
DTSTAMP:20260425T085829
CREATED:20230829T193211Z
LAST-MODIFIED:20230829T193211Z
UID:10005066-1822212000-1822217400@www.flcduluth.org
SUMMARY:Staff Meeting
DESCRIPTION:
URL:https://www.flcduluth.org/event/staff-meeting-3/2027-09-29/
CATEGORIES:Staff
END:VEVENT
BEGIN:VEVENT
DTSTART;TZID=America/Chicago:20270928T063000
DTEND;TZID=America/Chicago:20270928T193000
DTSTAMP:20260425T085829
CREATED:20230110T220428Z
LAST-MODIFIED:20230110T220428Z
UID:10002719-1822113000-1822159800@www.flcduluth.org
SUMMARY:Tai-Chi
DESCRIPTION:
URL:https://www.flcduluth.org/event/tai-chi-3/2027-09-28/
CATEGORIES:Outside Group
END:VEVENT
BEGIN:VEVENT
DTSTART;TZID=America/Chicago:20270927T193000
DTEND;TZID=America/Chicago:20270927T210000
DTSTAMP:20260425T085829
CREATED:20230110T215936Z
LAST-MODIFIED:20230110T215936Z
UID:10002443-1822073400-1822078800@www.flcduluth.org
SUMMARY:Nar-Anon Meeting
DESCRIPTION:
URL:https://www.flcduluth.org/event/nar-anon-meeting/2027-09-27/
CATEGORIES:Outside Group
END:VEVENT
BEGIN:VEVENT
DTSTART;TZID=America/Chicago:20270926T120000
DTEND;TZID=America/Chicago:20270926T133000
DTSTAMP:20260425T085829
CREATED:20230110T224319Z
LAST-MODIFIED:20230110T224319Z
UID:10003755-1821960000-1821965400@www.flcduluth.org
SUMMARY:Community Meal
DESCRIPTION:
URL:https://www.flcduluth.org/event/community-meal-3/2027-09-26/
END:VEVENT
BEGIN:VEVENT
DTSTART;TZID=America/Chicago:20270925T090000
DTEND;TZID=America/Chicago:20270925T110000
DTSTAMP:20260425T085829
CREATED:20230110T222829Z
LAST-MODIFIED:20230110T223030Z
UID:10003614-1821862800-1821870000@www.flcduluth.org
SUMMARY:AA
DESCRIPTION:
URL:https://www.flcduluth.org/event/aa-3/2027-09-25/
CATEGORIES:Outside Group
END:VEVENT
BEGIN:VEVENT
DTSTART;TZID=America/Chicago:20270923T073000
DTEND;TZID=America/Chicago:20270923T090000
DTSTAMP:20260425T085829
CREATED:20260204T183751Z
LAST-MODIFIED:20260204T183751Z
UID:10006882-1821684600-1821690000@www.flcduluth.org
SUMMARY:Men's Group
DESCRIPTION:
URL:https://www.flcduluth.org/event/mens-group-4/2027-09-23/
END:VEVENT
BEGIN:VEVENT
DTSTART;TZID=America/Chicago:20270922T170000
DTEND;TZID=America/Chicago:20270922T210000
DTSTAMP:20260425T085829
CREATED:20260204T184019Z
LAST-MODIFIED:20260204T184019Z
UID:10007219-1821632400-1821646800@www.flcduluth.org
SUMMARY:Community Event
DESCRIPTION:
URL:https://www.flcduluth.org/event/community-event/2027-09-22/
END:VEVENT
BEGIN:VEVENT
DTSTART;TZID=America/Chicago:20270922T113000
DTEND;TZID=America/Chicago:20270922T130000
DTSTAMP:20260425T085829
CREATED:20230110T220749Z
LAST-MODIFIED:20230110T220749Z
UID:10002979-1821612600-1821618000@www.flcduluth.org
SUMMARY:Al-Anon
DESCRIPTION:
URL:https://www.flcduluth.org/event/al-anon/2027-09-22/
CATEGORIES:Outside Group
END:VEVENT
BEGIN:VEVENT
DTSTART;TZID=America/Chicago:20270922T100000
DTEND;TZID=America/Chicago:20270922T113000
DTSTAMP:20260425T085829
CREATED:20230829T193211Z
LAST-MODIFIED:20230829T193211Z
UID:10005065-1821607200-1821612600@www.flcduluth.org
SUMMARY:Staff Meeting
DESCRIPTION:
URL:https://www.flcduluth.org/event/staff-meeting-3/2027-09-22/
CATEGORIES:Staff
END:VEVENT
BEGIN:VEVENT
DTSTART;TZID=America/Chicago:20270921T063000
DTEND;TZID=America/Chicago:20270921T193000
DTSTAMP:20260425T085829
CREATED:20230110T220428Z
LAST-MODIFIED:20230110T220428Z
UID:10002718-1821508200-1821555000@www.flcduluth.org
SUMMARY:Tai-Chi
DESCRIPTION:
URL:https://www.flcduluth.org/event/tai-chi-3/2027-09-21/
CATEGORIES:Outside Group
END:VEVENT
BEGIN:VEVENT
DTSTART;TZID=America/Chicago:20270920T193000
DTEND;TZID=America/Chicago:20270920T210000
DTSTAMP:20260425T085829
CREATED:20230110T215936Z
LAST-MODIFIED:20230110T215936Z
UID:10002442-1821468600-1821474000@www.flcduluth.org
SUMMARY:Nar-Anon Meeting
DESCRIPTION:
URL:https://www.flcduluth.org/event/nar-anon-meeting/2027-09-20/
CATEGORIES:Outside Group
END:VEVENT
BEGIN:VEVENT
DTSTART;TZID=America/Chicago:20270918T090000
DTEND;TZID=America/Chicago:20270918T110000
DTSTAMP:20260425T085829
CREATED:20230110T222829Z
LAST-MODIFIED:20230110T223030Z
UID:10003613-1821258000-1821265200@www.flcduluth.org
SUMMARY:AA
DESCRIPTION:
URL:https://www.flcduluth.org/event/aa-3/2027-09-18/
CATEGORIES:Outside Group
END:VEVENT
BEGIN:VEVENT
DTSTART;TZID=America/Chicago:20270916T183000
DTEND;TZID=America/Chicago:20270916T200000
DTSTAMP:20260425T085829
CREATED:20230110T223406Z
LAST-MODIFIED:20230110T223406Z
UID:10003688-1821119400-1821124800@www.flcduluth.org
SUMMARY:District AA Meeting
DESCRIPTION:
URL:https://www.flcduluth.org/event/district-aa-meeting-4/2027-09-16/
CATEGORIES:Outside Group
END:VEVENT
BEGIN:VEVENT
DTSTART;TZID=America/Chicago:20270916T170000
DTEND;TZID=America/Chicago:20270916T183000
DTSTAMP:20260425T085829
CREATED:20230706T191139Z
LAST-MODIFIED:20230706T191139Z
UID:10004565-1821114000-1821119400@www.flcduluth.org
SUMMARY:Finance Meeting
DESCRIPTION:
URL:https://www.flcduluth.org/event/finance-meeting-8/2027-09-16/
CATEGORIES:Committee Meetings
END:VEVENT
BEGIN:VEVENT
DTSTART;TZID=America/Chicago:20270916T073000
DTEND;TZID=America/Chicago:20270916T090000
DTSTAMP:20260425T085829
CREATED:20260204T183751Z
LAST-MODIFIED:20260204T183751Z
UID:10006881-1821079800-1821085200@www.flcduluth.org
SUMMARY:Men's Group
DESCRIPTION:
URL:https://www.flcduluth.org/event/mens-group-4/2027-09-16/
END:VEVENT
BEGIN:VEVENT
DTSTART;TZID=America/Chicago:20270915T170000
DTEND;TZID=America/Chicago:20270915T210000
DTSTAMP:20260425T085829
CREATED:20260204T184019Z
LAST-MODIFIED:20260204T184019Z
UID:10007218-1821027600-1821042000@www.flcduluth.org
SUMMARY:Community Event
DESCRIPTION:
URL:https://www.flcduluth.org/event/community-event/2027-09-15/
END:VEVENT
BEGIN:VEVENT
DTSTART;TZID=America/Chicago:20270915T113000
DTEND;TZID=America/Chicago:20270915T130000
DTSTAMP:20260425T085829
CREATED:20230110T220749Z
LAST-MODIFIED:20230110T220749Z
UID:10002978-1821007800-1821013200@www.flcduluth.org
SUMMARY:Al-Anon
DESCRIPTION:
URL:https://www.flcduluth.org/event/al-anon/2027-09-15/
CATEGORIES:Outside Group
END:VEVENT
BEGIN:VEVENT
DTSTART;TZID=America/Chicago:20270915T100000
DTEND;TZID=America/Chicago:20270915T113000
DTSTAMP:20260425T085829
CREATED:20230829T193211Z
LAST-MODIFIED:20230829T193211Z
UID:10005064-1821002400-1821007800@www.flcduluth.org
SUMMARY:Staff Meeting
DESCRIPTION:
URL:https://www.flcduluth.org/event/staff-meeting-3/2027-09-15/
CATEGORIES:Staff
END:VEVENT
BEGIN:VEVENT
DTSTART;TZID=America/Chicago:20270914T063000
DTEND;TZID=America/Chicago:20270914T193000
DTSTAMP:20260425T085829
CREATED:20230110T220428Z
LAST-MODIFIED:20230110T220428Z
UID:10002717-1820903400-1820950200@www.flcduluth.org
SUMMARY:Tai-Chi
DESCRIPTION:
URL:https://www.flcduluth.org/event/tai-chi-3/2027-09-14/
CATEGORIES:Outside Group
END:VEVENT
BEGIN:VEVENT
DTSTART;TZID=America/Chicago:20270913T193000
DTEND;TZID=America/Chicago:20270913T210000
DTSTAMP:20260425T085829
CREATED:20230110T215936Z
LAST-MODIFIED:20230110T215936Z
UID:10002441-1820863800-1820869200@www.flcduluth.org
SUMMARY:Nar-Anon Meeting
DESCRIPTION:
URL:https://www.flcduluth.org/event/nar-anon-meeting/2027-09-13/
CATEGORIES:Outside Group
END:VEVENT
BEGIN:VEVENT
DTSTART;TZID=America/Chicago:20270911T090000
DTEND;TZID=America/Chicago:20270911T110000
DTSTAMP:20260425T085829
CREATED:20230110T222829Z
LAST-MODIFIED:20230110T223030Z
UID:10003612-1820653200-1820660400@www.flcduluth.org
SUMMARY:AA
DESCRIPTION:
URL:https://www.flcduluth.org/event/aa-3/2027-09-11/
CATEGORIES:Outside Group
END:VEVENT
BEGIN:VEVENT
DTSTART;TZID=America/Chicago:20270909T073000
DTEND;TZID=America/Chicago:20270909T090000
DTSTAMP:20260425T085829
CREATED:20260204T183751Z
LAST-MODIFIED:20260204T183751Z
UID:10006880-1820475000-1820480400@www.flcduluth.org
SUMMARY:Men's Group
DESCRIPTION:
URL:https://www.flcduluth.org/event/mens-group-4/2027-09-09/
END:VEVENT
BEGIN:VEVENT
DTSTART;TZID=America/Chicago:20270908T170000
DTEND;TZID=America/Chicago:20270908T210000
DTSTAMP:20260425T085829
CREATED:20260204T184019Z
LAST-MODIFIED:20260204T184019Z
UID:10007217-1820422800-1820437200@www.flcduluth.org
SUMMARY:Community Event
DESCRIPTION:
URL:https://www.flcduluth.org/event/community-event/2027-09-08/
END:VEVENT
BEGIN:VEVENT
DTSTART;TZID=America/Chicago:20270908T113000
DTEND;TZID=America/Chicago:20270908T130000
DTSTAMP:20260425T085829
CREATED:20230110T220749Z
LAST-MODIFIED:20230110T220749Z
UID:10002977-1820403000-1820408400@www.flcduluth.org
SUMMARY:Al-Anon
DESCRIPTION:
URL:https://www.flcduluth.org/event/al-anon/2027-09-08/
CATEGORIES:Outside Group
END:VEVENT
BEGIN:VEVENT
DTSTART;TZID=America/Chicago:20270908T100000
DTEND;TZID=America/Chicago:20270908T113000
DTSTAMP:20260425T085829
CREATED:20230829T193211Z
LAST-MODIFIED:20230829T193211Z
UID:10005063-1820397600-1820403000@www.flcduluth.org
SUMMARY:Staff Meeting
DESCRIPTION:
URL:https://www.flcduluth.org/event/staff-meeting-3/2027-09-08/
CATEGORIES:Staff
END:VEVENT
BEGIN:VEVENT
DTSTART;TZID=America/Chicago:20270907T063000
DTEND;TZID=America/Chicago:20270907T193000
DTSTAMP:20260425T085829
CREATED:20230110T220428Z
LAST-MODIFIED:20230110T220428Z
UID:10002716-1820298600-1820345400@www.flcduluth.org
SUMMARY:Tai-Chi
DESCRIPTION:
URL:https://www.flcduluth.org/event/tai-chi-3/2027-09-07/
CATEGORIES:Outside Group
END:VEVENT
BEGIN:VEVENT
DTSTART;TZID=America/Chicago:20270906T193000
DTEND;TZID=America/Chicago:20270906T210000
DTSTAMP:20260425T085829
CREATED:20230110T215936Z
LAST-MODIFIED:20230110T215936Z
UID:10002440-1820259000-1820264400@www.flcduluth.org
SUMMARY:Nar-Anon Meeting
DESCRIPTION:
URL:https://www.flcduluth.org/event/nar-anon-meeting/2027-09-06/
CATEGORIES:Outside Group
END:VEVENT
BEGIN:VEVENT
DTSTART;TZID=America/Chicago:20270906T190000
DTEND;TZID=America/Chicago:20270906T203000
DTSTAMP:20260425T085829
CREATED:20230201T213018Z
LAST-MODIFIED:20230201T213018Z
UID:10004023-1820257200-1820262600@www.flcduluth.org
SUMMARY:Ruth Gathering
DESCRIPTION:
URL:https://www.flcduluth.org/event/ruth-gathering-3/2027-09-06/
LOCATION:First Lutheran Church\, 1100 E. Superior St.\, Duluth\, MN\, 55802\, United States
CATEGORIES:Women's Ministry
END:VEVENT
BEGIN:VEVENT
DTSTART;TZID=America/Chicago:20270904T090000
DTEND;TZID=America/Chicago:20270904T110000
DTSTAMP:20260425T085829
CREATED:20230110T222829Z
LAST-MODIFIED:20230110T223030Z
UID:10003611-1820048400-1820055600@www.flcduluth.org
SUMMARY:AA
DESCRIPTION:
URL:https://www.flcduluth.org/event/aa-3/2027-09-04/
CATEGORIES:Outside Group
END:VEVENT
BEGIN:VEVENT
DTSTART;TZID=America/Chicago:20270902T180000
DTEND;TZID=America/Chicago:20270902T200000
DTSTAMP:20260425T085829
CREATED:20230706T191437Z
LAST-MODIFIED:20230706T191439Z
UID:10004624-1819908000-1819915200@www.flcduluth.org
SUMMARY:Vision Council Meeting
DESCRIPTION:
URL:https://www.flcduluth.org/event/vision-council-meeting-2-2-2/2027-09-02/
CATEGORIES:Committee Meetings
END:VEVENT
END:VCALENDAR