BEGIN:VCALENDAR
VERSION:2.0
PRODID:-//First Lutheran Church - ECPv6.15.20//NONSGML v1.0//EN
CALSCALE:GREGORIAN
METHOD:PUBLISH
X-WR-CALNAME:First Lutheran Church
X-ORIGINAL-URL:https://www.flcduluth.org
X-WR-CALDESC:Events for First Lutheran Church
REFRESH-INTERVAL;VALUE=DURATION:PT1H
X-Robots-Tag:noindex
X-PUBLISHED-TTL:PT1H
BEGIN:VTIMEZONE
TZID:America/Chicago
BEGIN:DAYLIGHT
TZOFFSETFROM:-0600
TZOFFSETTO:-0500
TZNAME:CDT
DTSTART:20260308T080000
END:DAYLIGHT
BEGIN:STANDARD
TZOFFSETFROM:-0500
TZOFFSETTO:-0600
TZNAME:CST
DTSTART:20261101T070000
END:STANDARD
BEGIN:DAYLIGHT
TZOFFSETFROM:-0600
TZOFFSETTO:-0500
TZNAME:CDT
DTSTART:20270314T080000
END:DAYLIGHT
BEGIN:STANDARD
TZOFFSETFROM:-0500
TZOFFSETTO:-0600
TZNAME:CST
DTSTART:20271107T070000
END:STANDARD
BEGIN:DAYLIGHT
TZOFFSETFROM:-0600
TZOFFSETTO:-0500
TZNAME:CDT
DTSTART:20280312T080000
END:DAYLIGHT
BEGIN:STANDARD
TZOFFSETFROM:-0500
TZOFFSETTO:-0600
TZNAME:CST
DTSTART:20281105T070000
END:STANDARD
END:VTIMEZONE
BEGIN:VEVENT
DTSTART;TZID=America/Chicago:20271117T100000
DTEND;TZID=America/Chicago:20271117T113000
DTSTAMP:20260425T071138
CREATED:20230829T193211Z
LAST-MODIFIED:20230829T193211Z
UID:10005073-1826445600-1826451000@www.flcduluth.org
SUMMARY:Staff Meeting
DESCRIPTION:
URL:https://www.flcduluth.org/event/staff-meeting-3/2027-11-17/
CATEGORIES:Staff
END:VEVENT
BEGIN:VEVENT
DTSTART;TZID=America/Chicago:20271117T113000
DTEND;TZID=America/Chicago:20271117T130000
DTSTAMP:20260425T071138
CREATED:20230110T220749Z
LAST-MODIFIED:20230110T220749Z
UID:10002987-1826451000-1826456400@www.flcduluth.org
SUMMARY:Al-Anon
DESCRIPTION:
URL:https://www.flcduluth.org/event/al-anon/2027-11-17/
CATEGORIES:Outside Group
END:VEVENT
BEGIN:VEVENT
DTSTART;TZID=America/Chicago:20271117T170000
DTEND;TZID=America/Chicago:20271117T210000
DTSTAMP:20260425T071138
CREATED:20260204T184019Z
LAST-MODIFIED:20260204T184019Z
UID:10007227-1826470800-1826485200@www.flcduluth.org
SUMMARY:Community Event
DESCRIPTION:
URL:https://www.flcduluth.org/event/community-event/2027-11-17/
END:VEVENT
BEGIN:VEVENT
DTSTART;TZID=America/Chicago:20271118T073000
DTEND;TZID=America/Chicago:20271118T090000
DTSTAMP:20260425T071138
CREATED:20260204T183751Z
LAST-MODIFIED:20260204T183751Z
UID:10006890-1826523000-1826528400@www.flcduluth.org
SUMMARY:Men's Group
DESCRIPTION:
URL:https://www.flcduluth.org/event/mens-group-4/2027-11-18/
END:VEVENT
BEGIN:VEVENT
DTSTART;TZID=America/Chicago:20271118T170000
DTEND;TZID=America/Chicago:20271118T183000
DTSTAMP:20260425T071138
CREATED:20230706T191139Z
LAST-MODIFIED:20230706T191139Z
UID:10004567-1826557200-1826562600@www.flcduluth.org
SUMMARY:Finance Meeting
DESCRIPTION:
URL:https://www.flcduluth.org/event/finance-meeting-8/2027-11-18/
CATEGORIES:Committee Meetings
END:VEVENT
BEGIN:VEVENT
DTSTART;TZID=America/Chicago:20271118T183000
DTEND;TZID=America/Chicago:20271118T200000
DTSTAMP:20260425T071138
CREATED:20230110T223406Z
LAST-MODIFIED:20230110T223406Z
UID:10003690-1826562600-1826568000@www.flcduluth.org
SUMMARY:District AA Meeting
DESCRIPTION:
URL:https://www.flcduluth.org/event/district-aa-meeting-4/2027-11-18/
CATEGORIES:Outside Group
END:VEVENT
BEGIN:VEVENT
DTSTART;TZID=America/Chicago:20271120T090000
DTEND;TZID=America/Chicago:20271120T110000
DTSTAMP:20260425T071138
CREATED:20230110T222829Z
LAST-MODIFIED:20230110T223030Z
UID:10003622-1826701200-1826708400@www.flcduluth.org
SUMMARY:AA
DESCRIPTION:
URL:https://www.flcduluth.org/event/aa-3/2027-11-20/
CATEGORIES:Outside Group
END:VEVENT
BEGIN:VEVENT
DTSTART;TZID=America/Chicago:20271122T193000
DTEND;TZID=America/Chicago:20271122T210000
DTSTAMP:20260425T071138
CREATED:20230110T215936Z
LAST-MODIFIED:20230110T215936Z
UID:10002451-1826911800-1826917200@www.flcduluth.org
SUMMARY:Nar-Anon Meeting
DESCRIPTION:
URL:https://www.flcduluth.org/event/nar-anon-meeting/2027-11-22/
CATEGORIES:Outside Group
END:VEVENT
BEGIN:VEVENT
DTSTART;TZID=America/Chicago:20271123T063000
DTEND;TZID=America/Chicago:20271123T193000
DTSTAMP:20260425T071138
CREATED:20230110T220428Z
LAST-MODIFIED:20230110T220428Z
UID:10002727-1826951400-1826998200@www.flcduluth.org
SUMMARY:Tai-Chi
DESCRIPTION:
URL:https://www.flcduluth.org/event/tai-chi-3/2027-11-23/
CATEGORIES:Outside Group
END:VEVENT
BEGIN:VEVENT
DTSTART;TZID=America/Chicago:20271124T100000
DTEND;TZID=America/Chicago:20271124T113000
DTSTAMP:20260425T071138
CREATED:20230829T193211Z
LAST-MODIFIED:20230829T193211Z
UID:10005074-1827050400-1827055800@www.flcduluth.org
SUMMARY:Staff Meeting
DESCRIPTION:
URL:https://www.flcduluth.org/event/staff-meeting-3/2027-11-24/
CATEGORIES:Staff
END:VEVENT
BEGIN:VEVENT
DTSTART;TZID=America/Chicago:20271124T113000
DTEND;TZID=America/Chicago:20271124T130000
DTSTAMP:20260425T071138
CREATED:20230110T220749Z
LAST-MODIFIED:20230110T220749Z
UID:10002988-1827055800-1827061200@www.flcduluth.org
SUMMARY:Al-Anon
DESCRIPTION:
URL:https://www.flcduluth.org/event/al-anon/2027-11-24/
CATEGORIES:Outside Group
END:VEVENT
BEGIN:VEVENT
DTSTART;TZID=America/Chicago:20271124T170000
DTEND;TZID=America/Chicago:20271124T210000
DTSTAMP:20260425T071138
CREATED:20260204T184019Z
LAST-MODIFIED:20260204T184019Z
UID:10007228-1827075600-1827090000@www.flcduluth.org
SUMMARY:Community Event
DESCRIPTION:
URL:https://www.flcduluth.org/event/community-event/2027-11-24/
END:VEVENT
BEGIN:VEVENT
DTSTART;TZID=America/Chicago:20271125T073000
DTEND;TZID=America/Chicago:20271125T090000
DTSTAMP:20260425T071138
CREATED:20260204T183751Z
LAST-MODIFIED:20260204T183751Z
UID:10006891-1827127800-1827133200@www.flcduluth.org
SUMMARY:Men's Group
DESCRIPTION:
URL:https://www.flcduluth.org/event/mens-group-4/2027-11-25/
END:VEVENT
BEGIN:VEVENT
DTSTART;TZID=America/Chicago:20271127T090000
DTEND;TZID=America/Chicago:20271127T110000
DTSTAMP:20260425T071138
CREATED:20230110T222829Z
LAST-MODIFIED:20230110T223030Z
UID:10003623-1827306000-1827313200@www.flcduluth.org
SUMMARY:AA
DESCRIPTION:
URL:https://www.flcduluth.org/event/aa-3/2027-11-27/
CATEGORIES:Outside Group
END:VEVENT
BEGIN:VEVENT
DTSTART;TZID=America/Chicago:20271128T120000
DTEND;TZID=America/Chicago:20271128T133000
DTSTAMP:20260425T071138
CREATED:20230110T224319Z
LAST-MODIFIED:20230110T224319Z
UID:10003757-1827403200-1827408600@www.flcduluth.org
SUMMARY:Community Meal
DESCRIPTION:
URL:https://www.flcduluth.org/event/community-meal-3/2027-11-28/
END:VEVENT
BEGIN:VEVENT
DTSTART;TZID=America/Chicago:20271129T193000
DTEND;TZID=America/Chicago:20271129T210000
DTSTAMP:20260425T071138
CREATED:20230110T215936Z
LAST-MODIFIED:20230110T215936Z
UID:10002452-1827516600-1827522000@www.flcduluth.org
SUMMARY:Nar-Anon Meeting
DESCRIPTION:
URL:https://www.flcduluth.org/event/nar-anon-meeting/2027-11-29/
CATEGORIES:Outside Group
END:VEVENT
BEGIN:VEVENT
DTSTART;TZID=America/Chicago:20271130T063000
DTEND;TZID=America/Chicago:20271130T193000
DTSTAMP:20260425T071138
CREATED:20230110T220428Z
LAST-MODIFIED:20230110T220428Z
UID:10002728-1827556200-1827603000@www.flcduluth.org
SUMMARY:Tai-Chi
DESCRIPTION:
URL:https://www.flcduluth.org/event/tai-chi-3/2027-11-30/
CATEGORIES:Outside Group
END:VEVENT
BEGIN:VEVENT
DTSTART;TZID=America/Chicago:20271201T100000
DTEND;TZID=America/Chicago:20271201T113000
DTSTAMP:20260425T071138
CREATED:20230829T193211Z
LAST-MODIFIED:20230829T193211Z
UID:10005075-1827655200-1827660600@www.flcduluth.org
SUMMARY:Staff Meeting
DESCRIPTION:
URL:https://www.flcduluth.org/event/staff-meeting-3/2027-12-01/
CATEGORIES:Staff
END:VEVENT
BEGIN:VEVENT
DTSTART;TZID=America/Chicago:20271201T113000
DTEND;TZID=America/Chicago:20271201T130000
DTSTAMP:20260425T071138
CREATED:20230110T220749Z
LAST-MODIFIED:20230110T220749Z
UID:10002989-1827660600-1827666000@www.flcduluth.org
SUMMARY:Al-Anon
DESCRIPTION:
URL:https://www.flcduluth.org/event/al-anon/2027-12-01/
CATEGORIES:Outside Group
END:VEVENT
BEGIN:VEVENT
DTSTART;TZID=America/Chicago:20271201T170000
DTEND;TZID=America/Chicago:20271201T210000
DTSTAMP:20260425T071138
CREATED:20260204T184019Z
LAST-MODIFIED:20260204T184019Z
UID:10007229-1827680400-1827694800@www.flcduluth.org
SUMMARY:Community Event
DESCRIPTION:
URL:https://www.flcduluth.org/event/community-event/2027-12-01/
END:VEVENT
BEGIN:VEVENT
DTSTART;TZID=America/Chicago:20271202T073000
DTEND;TZID=America/Chicago:20271202T090000
DTSTAMP:20260425T071138
CREATED:20260204T183751Z
LAST-MODIFIED:20260204T183751Z
UID:10006892-1827732600-1827738000@www.flcduluth.org
SUMMARY:Men's Group
DESCRIPTION:
URL:https://www.flcduluth.org/event/mens-group-4/2027-12-02/
END:VEVENT
BEGIN:VEVENT
DTSTART;TZID=America/Chicago:20271202T090000
DTEND;TZID=America/Chicago:20271202T113000
DTSTAMP:20260425T071138
CREATED:20260204T183825Z
LAST-MODIFIED:20260204T183825Z
UID:10007080-1827738000-1827747000@www.flcduluth.org
SUMMARY:Quilters Gathering
DESCRIPTION:
URL:https://www.flcduluth.org/event/quilters-gathering/2027-12-02/
END:VEVENT
BEGIN:VEVENT
DTSTART;TZID=America/Chicago:20271202T180000
DTEND;TZID=America/Chicago:20271202T200000
DTSTAMP:20260425T071138
CREATED:20230706T191437Z
LAST-MODIFIED:20230706T191439Z
UID:10004627-1827770400-1827777600@www.flcduluth.org
SUMMARY:Vision Council Meeting
DESCRIPTION:
URL:https://www.flcduluth.org/event/vision-council-meeting-2-2-2/2027-12-02/
CATEGORIES:Committee Meetings
END:VEVENT
BEGIN:VEVENT
DTSTART;TZID=America/Chicago:20271204T090000
DTEND;TZID=America/Chicago:20271204T110000
DTSTAMP:20260425T071138
CREATED:20230110T222829Z
LAST-MODIFIED:20230110T223030Z
UID:10003624-1827910800-1827918000@www.flcduluth.org
SUMMARY:AA
DESCRIPTION:
URL:https://www.flcduluth.org/event/aa-3/2027-12-04/
CATEGORIES:Outside Group
END:VEVENT
BEGIN:VEVENT
DTSTART;TZID=America/Chicago:20271206T190000
DTEND;TZID=America/Chicago:20271206T203000
DTSTAMP:20260425T071138
CREATED:20230201T213018Z
LAST-MODIFIED:20230201T213018Z
UID:10004026-1828119600-1828125000@www.flcduluth.org
SUMMARY:Ruth Gathering
DESCRIPTION:
URL:https://www.flcduluth.org/event/ruth-gathering-3/2027-12-06/
LOCATION:First Lutheran Church\, 1100 E. Superior St.\, Duluth\, MN\, 55802\, United States
CATEGORIES:Women's Ministry
END:VEVENT
BEGIN:VEVENT
DTSTART;TZID=America/Chicago:20271206T193000
DTEND;TZID=America/Chicago:20271206T210000
DTSTAMP:20260425T071138
CREATED:20230110T215936Z
LAST-MODIFIED:20230110T215936Z
UID:10002453-1828121400-1828126800@www.flcduluth.org
SUMMARY:Nar-Anon Meeting
DESCRIPTION:
URL:https://www.flcduluth.org/event/nar-anon-meeting/2027-12-06/
CATEGORIES:Outside Group
END:VEVENT
BEGIN:VEVENT
DTSTART;TZID=America/Chicago:20271207T063000
DTEND;TZID=America/Chicago:20271207T193000
DTSTAMP:20260425T071138
CREATED:20230110T220428Z
LAST-MODIFIED:20230110T220428Z
UID:10002729-1828161000-1828207800@www.flcduluth.org
SUMMARY:Tai-Chi
DESCRIPTION:
URL:https://www.flcduluth.org/event/tai-chi-3/2027-12-07/
CATEGORIES:Outside Group
END:VEVENT
BEGIN:VEVENT
DTSTART;TZID=America/Chicago:20271208T100000
DTEND;TZID=America/Chicago:20271208T113000
DTSTAMP:20260425T071138
CREATED:20230829T193211Z
LAST-MODIFIED:20230829T193211Z
UID:10005076-1828260000-1828265400@www.flcduluth.org
SUMMARY:Staff Meeting
DESCRIPTION:
URL:https://www.flcduluth.org/event/staff-meeting-3/2027-12-08/
CATEGORIES:Staff
END:VEVENT
BEGIN:VEVENT
DTSTART;TZID=America/Chicago:20271208T113000
DTEND;TZID=America/Chicago:20271208T130000
DTSTAMP:20260425T071138
CREATED:20230110T220749Z
LAST-MODIFIED:20230110T220749Z
UID:10002990-1828265400-1828270800@www.flcduluth.org
SUMMARY:Al-Anon
DESCRIPTION:
URL:https://www.flcduluth.org/event/al-anon/2027-12-08/
CATEGORIES:Outside Group
END:VEVENT
BEGIN:VEVENT
DTSTART;TZID=America/Chicago:20271208T170000
DTEND;TZID=America/Chicago:20271208T210000
DTSTAMP:20260425T071138
CREATED:20260204T184019Z
LAST-MODIFIED:20260204T184019Z
UID:10007230-1828285200-1828299600@www.flcduluth.org
SUMMARY:Community Event
DESCRIPTION:
URL:https://www.flcduluth.org/event/community-event/2027-12-08/
END:VEVENT
END:VCALENDAR