BEGIN:VCALENDAR
VERSION:2.0
PRODID:-//First Lutheran Church - ECPv6.15.20//NONSGML v1.0//EN
CALSCALE:GREGORIAN
METHOD:PUBLISH
X-ORIGINAL-URL:https://www.flcduluth.org
X-WR-CALDESC:Events for First Lutheran Church
REFRESH-INTERVAL;VALUE=DURATION:PT1H
X-Robots-Tag:noindex
X-PUBLISHED-TTL:PT1H
BEGIN:VTIMEZONE
TZID:America/Chicago
BEGIN:DAYLIGHT
TZOFFSETFROM:-0600
TZOFFSETTO:-0500
TZNAME:CDT
DTSTART:20260308T080000
END:DAYLIGHT
BEGIN:STANDARD
TZOFFSETFROM:-0500
TZOFFSETTO:-0600
TZNAME:CST
DTSTART:20261101T070000
END:STANDARD
BEGIN:DAYLIGHT
TZOFFSETFROM:-0600
TZOFFSETTO:-0500
TZNAME:CDT
DTSTART:20270314T080000
END:DAYLIGHT
BEGIN:STANDARD
TZOFFSETFROM:-0500
TZOFFSETTO:-0600
TZNAME:CST
DTSTART:20271107T070000
END:STANDARD
BEGIN:DAYLIGHT
TZOFFSETFROM:-0600
TZOFFSETTO:-0500
TZNAME:CDT
DTSTART:20280312T080000
END:DAYLIGHT
BEGIN:STANDARD
TZOFFSETFROM:-0500
TZOFFSETTO:-0600
TZNAME:CST
DTSTART:20281105T070000
END:STANDARD
BEGIN:DAYLIGHT
TZOFFSETFROM:-0600
TZOFFSETTO:-0500
TZNAME:CDT
DTSTART:20290311T080000
END:DAYLIGHT
BEGIN:STANDARD
TZOFFSETFROM:-0500
TZOFFSETTO:-0600
TZNAME:CST
DTSTART:20291104T070000
END:STANDARD
END:VTIMEZONE
BEGIN:VEVENT
DTSTART;TZID=America/Chicago:20271229T100000
DTEND;TZID=America/Chicago:20271229T113000
DTSTAMP:20260425T065207
CREATED:20230829T193211Z
LAST-MODIFIED:20230829T193211Z
UID:10005079-1830074400-1830079800@www.flcduluth.org
SUMMARY:Staff Meeting
DESCRIPTION:
URL:https://www.flcduluth.org/event/staff-meeting-3/2027-12-29/
CATEGORIES:Staff
END:VEVENT
BEGIN:VEVENT
DTSTART;TZID=America/Chicago:20271229T113000
DTEND;TZID=America/Chicago:20271229T130000
DTSTAMP:20260425T065207
CREATED:20230110T220749Z
LAST-MODIFIED:20230110T220749Z
UID:10002993-1830079800-1830085200@www.flcduluth.org
SUMMARY:Al-Anon
DESCRIPTION:
URL:https://www.flcduluth.org/event/al-anon/2027-12-29/
CATEGORIES:Outside Group
END:VEVENT
BEGIN:VEVENT
DTSTART;TZID=America/Chicago:20271229T170000
DTEND;TZID=America/Chicago:20271229T210000
DTSTAMP:20260425T065207
CREATED:20260204T184019Z
LAST-MODIFIED:20260204T184019Z
UID:10007233-1830099600-1830114000@www.flcduluth.org
SUMMARY:Community Event
DESCRIPTION:
URL:https://www.flcduluth.org/event/community-event/2027-12-29/
END:VEVENT
BEGIN:VEVENT
DTSTART;TZID=America/Chicago:20271230T073000
DTEND;TZID=America/Chicago:20271230T090000
DTSTAMP:20260425T065207
CREATED:20260204T183751Z
LAST-MODIFIED:20260204T183751Z
UID:10006896-1830151800-1830157200@www.flcduluth.org
SUMMARY:Men's Group
DESCRIPTION:
URL:https://www.flcduluth.org/event/mens-group-4/2027-12-30/
END:VEVENT
BEGIN:VEVENT
DTSTART;TZID=America/Chicago:20280101T090000
DTEND;TZID=America/Chicago:20280101T110000
DTSTAMP:20260425T065207
CREATED:20230110T222829Z
LAST-MODIFIED:20230110T223030Z
UID:10003628-1830330000-1830337200@www.flcduluth.org
SUMMARY:AA
DESCRIPTION:
URL:https://www.flcduluth.org/event/aa-3/2028-01-01/
CATEGORIES:Outside Group
END:VEVENT
BEGIN:VEVENT
DTSTART;TZID=America/Chicago:20280103T190000
DTEND;TZID=America/Chicago:20280103T203000
DTSTAMP:20260425T065207
CREATED:20230201T213018Z
LAST-MODIFIED:20230201T213018Z
UID:10004027-1830538800-1830544200@www.flcduluth.org
SUMMARY:Ruth Gathering
DESCRIPTION:
URL:https://www.flcduluth.org/event/ruth-gathering-3/2028-01-03/
LOCATION:First Lutheran Church\, 1100 E. Superior St.\, Duluth\, MN\, 55802\, United States
CATEGORIES:Women's Ministry
END:VEVENT
BEGIN:VEVENT
DTSTART;TZID=America/Chicago:20280103T193000
DTEND;TZID=America/Chicago:20280103T210000
DTSTAMP:20260425T065207
CREATED:20230110T215936Z
LAST-MODIFIED:20230110T215936Z
UID:10002457-1830540600-1830546000@www.flcduluth.org
SUMMARY:Nar-Anon Meeting
DESCRIPTION:
URL:https://www.flcduluth.org/event/nar-anon-meeting/2028-01-03/
CATEGORIES:Outside Group
END:VEVENT
BEGIN:VEVENT
DTSTART;TZID=America/Chicago:20280104T063000
DTEND;TZID=America/Chicago:20280104T193000
DTSTAMP:20260425T065207
CREATED:20230110T220428Z
LAST-MODIFIED:20230110T220428Z
UID:10002733-1830580200-1830627000@www.flcduluth.org
SUMMARY:Tai-Chi
DESCRIPTION:
URL:https://www.flcduluth.org/event/tai-chi-3/2028-01-04/
CATEGORIES:Outside Group
END:VEVENT
BEGIN:VEVENT
DTSTART;TZID=America/Chicago:20280105T100000
DTEND;TZID=America/Chicago:20280105T113000
DTSTAMP:20260425T065207
CREATED:20230829T193211Z
LAST-MODIFIED:20230829T193211Z
UID:10005080-1830679200-1830684600@www.flcduluth.org
SUMMARY:Staff Meeting
DESCRIPTION:
URL:https://www.flcduluth.org/event/staff-meeting-3/2028-01-05/
CATEGORIES:Staff
END:VEVENT
BEGIN:VEVENT
DTSTART;TZID=America/Chicago:20280105T113000
DTEND;TZID=America/Chicago:20280105T130000
DTSTAMP:20260425T065207
CREATED:20230110T220749Z
LAST-MODIFIED:20230110T220749Z
UID:10002994-1830684600-1830690000@www.flcduluth.org
SUMMARY:Al-Anon
DESCRIPTION:
URL:https://www.flcduluth.org/event/al-anon/2028-01-05/
CATEGORIES:Outside Group
END:VEVENT
BEGIN:VEVENT
DTSTART;TZID=America/Chicago:20280105T170000
DTEND;TZID=America/Chicago:20280105T210000
DTSTAMP:20260425T065207
CREATED:20260204T184019Z
LAST-MODIFIED:20260204T184019Z
UID:10007234-1830704400-1830718800@www.flcduluth.org
SUMMARY:Community Event
DESCRIPTION:
URL:https://www.flcduluth.org/event/community-event/2028-01-05/
END:VEVENT
BEGIN:VEVENT
DTSTART;TZID=America/Chicago:20280106T073000
DTEND;TZID=America/Chicago:20280106T090000
DTSTAMP:20260425T065207
CREATED:20260204T183751Z
LAST-MODIFIED:20260204T183751Z
UID:10006897-1830756600-1830762000@www.flcduluth.org
SUMMARY:Men's Group
DESCRIPTION:
URL:https://www.flcduluth.org/event/mens-group-4/2028-01-06/
END:VEVENT
BEGIN:VEVENT
DTSTART;TZID=America/Chicago:20280106T090000
DTEND;TZID=America/Chicago:20280106T113000
DTSTAMP:20260425T065207
CREATED:20260204T183825Z
LAST-MODIFIED:20260204T183825Z
UID:10007081-1830762000-1830771000@www.flcduluth.org
SUMMARY:Quilters Gathering
DESCRIPTION:
URL:https://www.flcduluth.org/event/quilters-gathering/2028-01-06/
END:VEVENT
BEGIN:VEVENT
DTSTART;TZID=America/Chicago:20280106T180000
DTEND;TZID=America/Chicago:20280106T200000
DTSTAMP:20260425T065207
CREATED:20230706T191437Z
LAST-MODIFIED:20230706T191439Z
UID:10004628-1830794400-1830801600@www.flcduluth.org
SUMMARY:Vision Council Meeting
DESCRIPTION:
URL:https://www.flcduluth.org/event/vision-council-meeting-2-2-2/2028-01-06/
CATEGORIES:Committee Meetings
END:VEVENT
BEGIN:VEVENT
DTSTART;TZID=America/Chicago:20280108T090000
DTEND;TZID=America/Chicago:20280108T110000
DTSTAMP:20260425T065207
CREATED:20230110T222829Z
LAST-MODIFIED:20230110T223030Z
UID:10003629-1830934800-1830942000@www.flcduluth.org
SUMMARY:AA
DESCRIPTION:
URL:https://www.flcduluth.org/event/aa-3/2028-01-08/
CATEGORIES:Outside Group
END:VEVENT
BEGIN:VEVENT
DTSTART;TZID=America/Chicago:20280110T193000
DTEND;TZID=America/Chicago:20280110T210000
DTSTAMP:20260425T065207
CREATED:20230110T215936Z
LAST-MODIFIED:20230110T215936Z
UID:10002458-1831145400-1831150800@www.flcduluth.org
SUMMARY:Nar-Anon Meeting
DESCRIPTION:
URL:https://www.flcduluth.org/event/nar-anon-meeting/2028-01-10/
CATEGORIES:Outside Group
END:VEVENT
BEGIN:VEVENT
DTSTART;TZID=America/Chicago:20280112T100000
DTEND;TZID=America/Chicago:20280112T113000
DTSTAMP:20260425T065207
CREATED:20230829T193211Z
LAST-MODIFIED:20230829T193211Z
UID:10005081-1831284000-1831289400@www.flcduluth.org
SUMMARY:Staff Meeting
DESCRIPTION:
URL:https://www.flcduluth.org/event/staff-meeting-3/2028-01-12/
CATEGORIES:Staff
END:VEVENT
BEGIN:VEVENT
DTSTART;TZID=America/Chicago:20280112T170000
DTEND;TZID=America/Chicago:20280112T210000
DTSTAMP:20260425T065207
CREATED:20260204T184019Z
LAST-MODIFIED:20260204T184019Z
UID:10007235-1831309200-1831323600@www.flcduluth.org
SUMMARY:Community Event
DESCRIPTION:
URL:https://www.flcduluth.org/event/community-event/2028-01-12/
END:VEVENT
BEGIN:VEVENT
DTSTART;TZID=America/Chicago:20280113T073000
DTEND;TZID=America/Chicago:20280113T090000
DTSTAMP:20260425T065207
CREATED:20260204T183751Z
LAST-MODIFIED:20260204T183751Z
UID:10006898-1831361400-1831366800@www.flcduluth.org
SUMMARY:Men's Group
DESCRIPTION:
URL:https://www.flcduluth.org/event/mens-group-4/2028-01-13/
END:VEVENT
BEGIN:VEVENT
DTSTART;TZID=America/Chicago:20280119T100000
DTEND;TZID=America/Chicago:20280119T113000
DTSTAMP:20260425T065207
CREATED:20230829T193211Z
LAST-MODIFIED:20230829T193211Z
UID:10005082-1831888800-1831894200@www.flcduluth.org
SUMMARY:Staff Meeting
DESCRIPTION:
URL:https://www.flcduluth.org/event/staff-meeting-3/2028-01-19/
CATEGORIES:Staff
END:VEVENT
BEGIN:VEVENT
DTSTART;TZID=America/Chicago:20280119T170000
DTEND;TZID=America/Chicago:20280119T210000
DTSTAMP:20260425T065207
CREATED:20260204T184019Z
LAST-MODIFIED:20260204T184019Z
UID:10007236-1831914000-1831928400@www.flcduluth.org
SUMMARY:Community Event
DESCRIPTION:
URL:https://www.flcduluth.org/event/community-event/2028-01-19/
END:VEVENT
BEGIN:VEVENT
DTSTART;TZID=America/Chicago:20280120T073000
DTEND;TZID=America/Chicago:20280120T090000
DTSTAMP:20260425T065207
CREATED:20260204T183751Z
LAST-MODIFIED:20260204T183751Z
UID:10006899-1831966200-1831971600@www.flcduluth.org
SUMMARY:Men's Group
DESCRIPTION:
URL:https://www.flcduluth.org/event/mens-group-4/2028-01-20/
END:VEVENT
BEGIN:VEVENT
DTSTART;TZID=America/Chicago:20280120T170000
DTEND;TZID=America/Chicago:20280120T183000
DTSTAMP:20260425T065207
CREATED:20230706T191139Z
LAST-MODIFIED:20230706T191139Z
UID:10004569-1832000400-1832005800@www.flcduluth.org
SUMMARY:Finance Meeting
DESCRIPTION:
URL:https://www.flcduluth.org/event/finance-meeting-8/2028-01-20/
CATEGORIES:Committee Meetings
END:VEVENT
BEGIN:VEVENT
DTSTART;TZID=America/Chicago:20280126T100000
DTEND;TZID=America/Chicago:20280126T113000
DTSTAMP:20260425T065207
CREATED:20230829T193211Z
LAST-MODIFIED:20230829T193211Z
UID:10005083-1832493600-1832499000@www.flcduluth.org
SUMMARY:Staff Meeting
DESCRIPTION:
URL:https://www.flcduluth.org/event/staff-meeting-3/2028-01-26/
CATEGORIES:Staff
END:VEVENT
BEGIN:VEVENT
DTSTART;TZID=America/Chicago:20280126T170000
DTEND;TZID=America/Chicago:20280126T210000
DTSTAMP:20260425T065207
CREATED:20260204T184019Z
LAST-MODIFIED:20260204T184019Z
UID:10007237-1832518800-1832533200@www.flcduluth.org
SUMMARY:Community Event
DESCRIPTION:
URL:https://www.flcduluth.org/event/community-event/2028-01-26/
END:VEVENT
BEGIN:VEVENT
DTSTART;TZID=America/Chicago:20280127T073000
DTEND;TZID=America/Chicago:20280127T090000
DTSTAMP:20260425T065207
CREATED:20260204T183751Z
LAST-MODIFIED:20260204T183751Z
UID:10006900-1832571000-1832576400@www.flcduluth.org
SUMMARY:Men's Group
DESCRIPTION:
URL:https://www.flcduluth.org/event/mens-group-4/2028-01-27/
END:VEVENT
BEGIN:VEVENT
DTSTART;TZID=America/Chicago:20280202T100000
DTEND;TZID=America/Chicago:20280202T113000
DTSTAMP:20260425T065207
CREATED:20230829T193211Z
LAST-MODIFIED:20230829T193211Z
UID:10005084-1833098400-1833103800@www.flcduluth.org
SUMMARY:Staff Meeting
DESCRIPTION:
URL:https://www.flcduluth.org/event/staff-meeting-3/2028-02-02/
CATEGORIES:Staff
END:VEVENT
BEGIN:VEVENT
DTSTART;TZID=America/Chicago:20280202T170000
DTEND;TZID=America/Chicago:20280202T210000
DTSTAMP:20260425T065207
CREATED:20260204T184019Z
LAST-MODIFIED:20260204T184019Z
UID:10007238-1833123600-1833138000@www.flcduluth.org
SUMMARY:Community Event
DESCRIPTION:
URL:https://www.flcduluth.org/event/community-event/2028-02-02/
END:VEVENT
BEGIN:VEVENT
DTSTART;TZID=America/Chicago:20280203T073000
DTEND;TZID=America/Chicago:20280203T090000
DTSTAMP:20260425T065207
CREATED:20260204T183751Z
LAST-MODIFIED:20260204T183751Z
UID:10006901-1833175800-1833181200@www.flcduluth.org
SUMMARY:Men's Group
DESCRIPTION:
URL:https://www.flcduluth.org/event/mens-group-4/2028-02-03/
END:VEVENT
BEGIN:VEVENT
DTSTART;TZID=America/Chicago:20280203T090000
DTEND;TZID=America/Chicago:20280203T113000
DTSTAMP:20260425T065207
CREATED:20260204T183825Z
LAST-MODIFIED:20260204T183825Z
UID:10007082-1833181200-1833190200@www.flcduluth.org
SUMMARY:Quilters Gathering
DESCRIPTION:
URL:https://www.flcduluth.org/event/quilters-gathering/2028-02-03/
END:VEVENT
END:VCALENDAR