BEGIN:VCALENDAR
VERSION:2.0
PRODID:-//First Lutheran Church - ECPv6.15.20//NONSGML v1.0//EN
CALSCALE:GREGORIAN
METHOD:PUBLISH
X-WR-CALNAME:First Lutheran Church
X-ORIGINAL-URL:https://www.flcduluth.org
X-WR-CALDESC:Events for First Lutheran Church
REFRESH-INTERVAL;VALUE=DURATION:PT1H
X-Robots-Tag:noindex
X-PUBLISHED-TTL:PT1H
BEGIN:VTIMEZONE
TZID:America/Chicago
BEGIN:DAYLIGHT
TZOFFSETFROM:-0600
TZOFFSETTO:-0500
TZNAME:CDT
DTSTART:20260308T080000
END:DAYLIGHT
BEGIN:STANDARD
TZOFFSETFROM:-0500
TZOFFSETTO:-0600
TZNAME:CST
DTSTART:20261101T070000
END:STANDARD
BEGIN:DAYLIGHT
TZOFFSETFROM:-0600
TZOFFSETTO:-0500
TZNAME:CDT
DTSTART:20270314T080000
END:DAYLIGHT
BEGIN:STANDARD
TZOFFSETFROM:-0500
TZOFFSETTO:-0600
TZNAME:CST
DTSTART:20271107T070000
END:STANDARD
BEGIN:DAYLIGHT
TZOFFSETFROM:-0600
TZOFFSETTO:-0500
TZNAME:CDT
DTSTART:20280312T080000
END:DAYLIGHT
BEGIN:STANDARD
TZOFFSETFROM:-0500
TZOFFSETTO:-0600
TZNAME:CST
DTSTART:20281105T070000
END:STANDARD
END:VTIMEZONE
BEGIN:VEVENT
DTSTART;TZID=America/Chicago:20271026T063000
DTEND;TZID=America/Chicago:20271026T193000
DTSTAMP:20260425T052351
CREATED:20230110T220428Z
LAST-MODIFIED:20230110T220428Z
UID:10002723-1824532200-1824579000@www.flcduluth.org
SUMMARY:Tai-Chi
DESCRIPTION:
URL:https://www.flcduluth.org/event/tai-chi-3/2027-10-26/
CATEGORIES:Outside Group
END:VEVENT
BEGIN:VEVENT
DTSTART;TZID=America/Chicago:20271027T100000
DTEND;TZID=America/Chicago:20271027T113000
DTSTAMP:20260425T052351
CREATED:20230829T193211Z
LAST-MODIFIED:20230829T193211Z
UID:10005070-1824631200-1824636600@www.flcduluth.org
SUMMARY:Staff Meeting
DESCRIPTION:
URL:https://www.flcduluth.org/event/staff-meeting-3/2027-10-27/
CATEGORIES:Staff
END:VEVENT
BEGIN:VEVENT
DTSTART;TZID=America/Chicago:20271027T113000
DTEND;TZID=America/Chicago:20271027T130000
DTSTAMP:20260425T052351
CREATED:20230110T220749Z
LAST-MODIFIED:20230110T220749Z
UID:10002984-1824636600-1824642000@www.flcduluth.org
SUMMARY:Al-Anon
DESCRIPTION:
URL:https://www.flcduluth.org/event/al-anon/2027-10-27/
CATEGORIES:Outside Group
END:VEVENT
BEGIN:VEVENT
DTSTART;TZID=America/Chicago:20271027T170000
DTEND;TZID=America/Chicago:20271027T210000
DTSTAMP:20260425T052351
CREATED:20260204T184019Z
LAST-MODIFIED:20260204T184019Z
UID:10007224-1824656400-1824670800@www.flcduluth.org
SUMMARY:Community Event
DESCRIPTION:
URL:https://www.flcduluth.org/event/community-event/2027-10-27/
END:VEVENT
BEGIN:VEVENT
DTSTART;TZID=America/Chicago:20271028T073000
DTEND;TZID=America/Chicago:20271028T090000
DTSTAMP:20260425T052351
CREATED:20260204T183751Z
LAST-MODIFIED:20260204T183751Z
UID:10006887-1824708600-1824714000@www.flcduluth.org
SUMMARY:Men's Group
DESCRIPTION:
URL:https://www.flcduluth.org/event/mens-group-4/2027-10-28/
END:VEVENT
BEGIN:VEVENT
DTSTART;TZID=America/Chicago:20271030T090000
DTEND;TZID=America/Chicago:20271030T110000
DTSTAMP:20260425T052351
CREATED:20230110T222829Z
LAST-MODIFIED:20230110T223030Z
UID:10003619-1824886800-1824894000@www.flcduluth.org
SUMMARY:AA
DESCRIPTION:
URL:https://www.flcduluth.org/event/aa-3/2027-10-30/
CATEGORIES:Outside Group
END:VEVENT
BEGIN:VEVENT
DTSTART;TZID=America/Chicago:20271031T120000
DTEND;TZID=America/Chicago:20271031T133000
DTSTAMP:20260425T052351
CREATED:20230110T224319Z
LAST-MODIFIED:20230110T224319Z
UID:10003756-1824984000-1824989400@www.flcduluth.org
SUMMARY:Community Meal
DESCRIPTION:
URL:https://www.flcduluth.org/event/community-meal-3/2027-10-31/
END:VEVENT
BEGIN:VEVENT
DTSTART;TZID=America/Chicago:20271101T190000
DTEND;TZID=America/Chicago:20271101T203000
DTSTAMP:20260425T052351
CREATED:20230201T213018Z
LAST-MODIFIED:20230201T213018Z
UID:10004025-1825095600-1825101000@www.flcduluth.org
SUMMARY:Ruth Gathering
DESCRIPTION:
URL:https://www.flcduluth.org/event/ruth-gathering-3/2027-11-01/
LOCATION:First Lutheran Church\, 1100 E. Superior St.\, Duluth\, MN\, 55802\, United States
CATEGORIES:Women's Ministry
END:VEVENT
BEGIN:VEVENT
DTSTART;TZID=America/Chicago:20271101T193000
DTEND;TZID=America/Chicago:20271101T210000
DTSTAMP:20260425T052351
CREATED:20230110T215936Z
LAST-MODIFIED:20230110T215936Z
UID:10002448-1825097400-1825102800@www.flcduluth.org
SUMMARY:Nar-Anon Meeting
DESCRIPTION:
URL:https://www.flcduluth.org/event/nar-anon-meeting/2027-11-01/
CATEGORIES:Outside Group
END:VEVENT
BEGIN:VEVENT
DTSTART;TZID=America/Chicago:20271102T063000
DTEND;TZID=America/Chicago:20271102T193000
DTSTAMP:20260425T052351
CREATED:20230110T220428Z
LAST-MODIFIED:20230110T220428Z
UID:10002724-1825137000-1825183800@www.flcduluth.org
SUMMARY:Tai-Chi
DESCRIPTION:
URL:https://www.flcduluth.org/event/tai-chi-3/2027-11-02/
CATEGORIES:Outside Group
END:VEVENT
BEGIN:VEVENT
DTSTART;TZID=America/Chicago:20271103T100000
DTEND;TZID=America/Chicago:20271103T113000
DTSTAMP:20260425T052351
CREATED:20230829T193211Z
LAST-MODIFIED:20230829T193211Z
UID:10005071-1825236000-1825241400@www.flcduluth.org
SUMMARY:Staff Meeting
DESCRIPTION:
URL:https://www.flcduluth.org/event/staff-meeting-3/2027-11-03/
CATEGORIES:Staff
END:VEVENT
BEGIN:VEVENT
DTSTART;TZID=America/Chicago:20271103T113000
DTEND;TZID=America/Chicago:20271103T130000
DTSTAMP:20260425T052351
CREATED:20230110T220749Z
LAST-MODIFIED:20230110T220749Z
UID:10002985-1825241400-1825246800@www.flcduluth.org
SUMMARY:Al-Anon
DESCRIPTION:
URL:https://www.flcduluth.org/event/al-anon/2027-11-03/
CATEGORIES:Outside Group
END:VEVENT
BEGIN:VEVENT
DTSTART;TZID=America/Chicago:20271103T170000
DTEND;TZID=America/Chicago:20271103T210000
DTSTAMP:20260425T052352
CREATED:20260204T184019Z
LAST-MODIFIED:20260204T184019Z
UID:10007225-1825261200-1825275600@www.flcduluth.org
SUMMARY:Community Event
DESCRIPTION:
URL:https://www.flcduluth.org/event/community-event/2027-11-03/
END:VEVENT
BEGIN:VEVENT
DTSTART;TZID=America/Chicago:20271104T073000
DTEND;TZID=America/Chicago:20271104T090000
DTSTAMP:20260425T052352
CREATED:20260204T183751Z
LAST-MODIFIED:20260204T183751Z
UID:10006888-1825313400-1825318800@www.flcduluth.org
SUMMARY:Men's Group
DESCRIPTION:
URL:https://www.flcduluth.org/event/mens-group-4/2027-11-04/
END:VEVENT
BEGIN:VEVENT
DTSTART;TZID=America/Chicago:20271104T090000
DTEND;TZID=America/Chicago:20271104T113000
DTSTAMP:20260425T052352
CREATED:20260204T183825Z
LAST-MODIFIED:20260204T183825Z
UID:10007079-1825318800-1825327800@www.flcduluth.org
SUMMARY:Quilters Gathering
DESCRIPTION:
URL:https://www.flcduluth.org/event/quilters-gathering/2027-11-04/
END:VEVENT
BEGIN:VEVENT
DTSTART;TZID=America/Chicago:20271104T180000
DTEND;TZID=America/Chicago:20271104T200000
DTSTAMP:20260425T052352
CREATED:20230706T191437Z
LAST-MODIFIED:20230706T191439Z
UID:10004626-1825351200-1825358400@www.flcduluth.org
SUMMARY:Vision Council Meeting
DESCRIPTION:
URL:https://www.flcduluth.org/event/vision-council-meeting-2-2-2/2027-11-04/
CATEGORIES:Committee Meetings
END:VEVENT
BEGIN:VEVENT
DTSTART;TZID=America/Chicago:20271106T090000
DTEND;TZID=America/Chicago:20271106T110000
DTSTAMP:20260425T052352
CREATED:20230110T222829Z
LAST-MODIFIED:20230110T223030Z
UID:10003620-1825491600-1825498800@www.flcduluth.org
SUMMARY:AA
DESCRIPTION:
URL:https://www.flcduluth.org/event/aa-3/2027-11-06/
CATEGORIES:Outside Group
END:VEVENT
BEGIN:VEVENT
DTSTART;TZID=America/Chicago:20271108T193000
DTEND;TZID=America/Chicago:20271108T210000
DTSTAMP:20260425T052352
CREATED:20230110T215936Z
LAST-MODIFIED:20230110T215936Z
UID:10002449-1825702200-1825707600@www.flcduluth.org
SUMMARY:Nar-Anon Meeting
DESCRIPTION:
URL:https://www.flcduluth.org/event/nar-anon-meeting/2027-11-08/
CATEGORIES:Outside Group
END:VEVENT
BEGIN:VEVENT
DTSTART;TZID=America/Chicago:20271109T063000
DTEND;TZID=America/Chicago:20271109T193000
DTSTAMP:20260425T052352
CREATED:20230110T220428Z
LAST-MODIFIED:20230110T220428Z
UID:10002725-1825741800-1825788600@www.flcduluth.org
SUMMARY:Tai-Chi
DESCRIPTION:
URL:https://www.flcduluth.org/event/tai-chi-3/2027-11-09/
CATEGORIES:Outside Group
END:VEVENT
BEGIN:VEVENT
DTSTART;TZID=America/Chicago:20271110T100000
DTEND;TZID=America/Chicago:20271110T113000
DTSTAMP:20260425T052352
CREATED:20230829T193211Z
LAST-MODIFIED:20230829T193211Z
UID:10005072-1825840800-1825846200@www.flcduluth.org
SUMMARY:Staff Meeting
DESCRIPTION:
URL:https://www.flcduluth.org/event/staff-meeting-3/2027-11-10/
CATEGORIES:Staff
END:VEVENT
BEGIN:VEVENT
DTSTART;TZID=America/Chicago:20271110T113000
DTEND;TZID=America/Chicago:20271110T130000
DTSTAMP:20260425T052352
CREATED:20230110T220749Z
LAST-MODIFIED:20230110T220749Z
UID:10002986-1825846200-1825851600@www.flcduluth.org
SUMMARY:Al-Anon
DESCRIPTION:
URL:https://www.flcduluth.org/event/al-anon/2027-11-10/
CATEGORIES:Outside Group
END:VEVENT
BEGIN:VEVENT
DTSTART;TZID=America/Chicago:20271110T170000
DTEND;TZID=America/Chicago:20271110T210000
DTSTAMP:20260425T052352
CREATED:20260204T184019Z
LAST-MODIFIED:20260204T184019Z
UID:10007226-1825866000-1825880400@www.flcduluth.org
SUMMARY:Community Event
DESCRIPTION:
URL:https://www.flcduluth.org/event/community-event/2027-11-10/
END:VEVENT
BEGIN:VEVENT
DTSTART;TZID=America/Chicago:20271111T073000
DTEND;TZID=America/Chicago:20271111T090000
DTSTAMP:20260425T052352
CREATED:20260204T183751Z
LAST-MODIFIED:20260204T183751Z
UID:10006889-1825918200-1825923600@www.flcduluth.org
SUMMARY:Men's Group
DESCRIPTION:
URL:https://www.flcduluth.org/event/mens-group-4/2027-11-11/
END:VEVENT
BEGIN:VEVENT
DTSTART;TZID=America/Chicago:20271113T090000
DTEND;TZID=America/Chicago:20271113T110000
DTSTAMP:20260425T052352
CREATED:20230110T222829Z
LAST-MODIFIED:20230110T223030Z
UID:10003621-1826096400-1826103600@www.flcduluth.org
SUMMARY:AA
DESCRIPTION:
URL:https://www.flcduluth.org/event/aa-3/2027-11-13/
CATEGORIES:Outside Group
END:VEVENT
BEGIN:VEVENT
DTSTART;TZID=America/Chicago:20271115T193000
DTEND;TZID=America/Chicago:20271115T210000
DTSTAMP:20260425T052352
CREATED:20230110T215936Z
LAST-MODIFIED:20230110T215936Z
UID:10002450-1826307000-1826312400@www.flcduluth.org
SUMMARY:Nar-Anon Meeting
DESCRIPTION:
URL:https://www.flcduluth.org/event/nar-anon-meeting/2027-11-15/
CATEGORIES:Outside Group
END:VEVENT
BEGIN:VEVENT
DTSTART;TZID=America/Chicago:20271116T063000
DTEND;TZID=America/Chicago:20271116T193000
DTSTAMP:20260425T052352
CREATED:20230110T220428Z
LAST-MODIFIED:20230110T220428Z
UID:10002726-1826346600-1826393400@www.flcduluth.org
SUMMARY:Tai-Chi
DESCRIPTION:
URL:https://www.flcduluth.org/event/tai-chi-3/2027-11-16/
CATEGORIES:Outside Group
END:VEVENT
BEGIN:VEVENT
DTSTART;TZID=America/Chicago:20271117T100000
DTEND;TZID=America/Chicago:20271117T113000
DTSTAMP:20260425T052352
CREATED:20230829T193211Z
LAST-MODIFIED:20230829T193211Z
UID:10005073-1826445600-1826451000@www.flcduluth.org
SUMMARY:Staff Meeting
DESCRIPTION:
URL:https://www.flcduluth.org/event/staff-meeting-3/2027-11-17/
CATEGORIES:Staff
END:VEVENT
BEGIN:VEVENT
DTSTART;TZID=America/Chicago:20271117T113000
DTEND;TZID=America/Chicago:20271117T130000
DTSTAMP:20260425T052352
CREATED:20230110T220749Z
LAST-MODIFIED:20230110T220749Z
UID:10002987-1826451000-1826456400@www.flcduluth.org
SUMMARY:Al-Anon
DESCRIPTION:
URL:https://www.flcduluth.org/event/al-anon/2027-11-17/
CATEGORIES:Outside Group
END:VEVENT
BEGIN:VEVENT
DTSTART;TZID=America/Chicago:20271117T170000
DTEND;TZID=America/Chicago:20271117T210000
DTSTAMP:20260425T052352
CREATED:20260204T184019Z
LAST-MODIFIED:20260204T184019Z
UID:10007227-1826470800-1826485200@www.flcduluth.org
SUMMARY:Community Event
DESCRIPTION:
URL:https://www.flcduluth.org/event/community-event/2027-11-17/
END:VEVENT
BEGIN:VEVENT
DTSTART;TZID=America/Chicago:20271118T073000
DTEND;TZID=America/Chicago:20271118T090000
DTSTAMP:20260425T052352
CREATED:20260204T183751Z
LAST-MODIFIED:20260204T183751Z
UID:10006890-1826523000-1826528400@www.flcduluth.org
SUMMARY:Men's Group
DESCRIPTION:
URL:https://www.flcduluth.org/event/mens-group-4/2027-11-18/
END:VEVENT
END:VCALENDAR