BEGIN:VCALENDAR
VERSION:2.0
PRODID:-//First Lutheran Church - ECPv6.15.20//NONSGML v1.0//EN
CALSCALE:GREGORIAN
METHOD:PUBLISH
X-WR-CALNAME:First Lutheran Church
X-ORIGINAL-URL:https://www.flcduluth.org
X-WR-CALDESC:Events for First Lutheran Church
REFRESH-INTERVAL;VALUE=DURATION:PT1H
X-Robots-Tag:noindex
X-PUBLISHED-TTL:PT1H
BEGIN:VTIMEZONE
TZID:America/Chicago
BEGIN:DAYLIGHT
TZOFFSETFROM:-0600
TZOFFSETTO:-0500
TZNAME:CDT
DTSTART:20250309T080000
END:DAYLIGHT
BEGIN:STANDARD
TZOFFSETFROM:-0500
TZOFFSETTO:-0600
TZNAME:CST
DTSTART:20251102T070000
END:STANDARD
BEGIN:DAYLIGHT
TZOFFSETFROM:-0600
TZOFFSETTO:-0500
TZNAME:CDT
DTSTART:20260308T080000
END:DAYLIGHT
BEGIN:STANDARD
TZOFFSETFROM:-0500
TZOFFSETTO:-0600
TZNAME:CST
DTSTART:20261101T070000
END:STANDARD
BEGIN:DAYLIGHT
TZOFFSETFROM:-0600
TZOFFSETTO:-0500
TZNAME:CDT
DTSTART:20270314T080000
END:DAYLIGHT
BEGIN:STANDARD
TZOFFSETFROM:-0500
TZOFFSETTO:-0600
TZNAME:CST
DTSTART:20271107T070000
END:STANDARD
END:VTIMEZONE
BEGIN:VEVENT
DTSTART;TZID=America/Chicago:20260428T063000
DTEND;TZID=America/Chicago:20260428T193000
DTSTAMP:20260423T034603
CREATED:20230110T220428Z
LAST-MODIFIED:20230110T220428Z
UID:10002645-1777357800-1777404600@www.flcduluth.org
SUMMARY:Tai-Chi
DESCRIPTION:
URL:https://www.flcduluth.org/event/tai-chi-3/2026-04-28/
CATEGORIES:Outside Group
END:VEVENT
BEGIN:VEVENT
DTSTART;TZID=America/Chicago:20260505T063000
DTEND;TZID=America/Chicago:20260505T193000
DTSTAMP:20260423T034603
CREATED:20230110T220428Z
LAST-MODIFIED:20230110T220428Z
UID:10002646-1777962600-1778009400@www.flcduluth.org
SUMMARY:Tai-Chi
DESCRIPTION:
URL:https://www.flcduluth.org/event/tai-chi-3/2026-05-05/
CATEGORIES:Outside Group
END:VEVENT
BEGIN:VEVENT
DTSTART;TZID=America/Chicago:20260512T063000
DTEND;TZID=America/Chicago:20260512T193000
DTSTAMP:20260423T034603
CREATED:20230110T220428Z
LAST-MODIFIED:20230110T220428Z
UID:10002647-1778567400-1778614200@www.flcduluth.org
SUMMARY:Tai-Chi
DESCRIPTION:
URL:https://www.flcduluth.org/event/tai-chi-3/2026-05-12/
CATEGORIES:Outside Group
END:VEVENT
BEGIN:VEVENT
DTSTART;TZID=America/Chicago:20260519T063000
DTEND;TZID=America/Chicago:20260519T193000
DTSTAMP:20260423T034603
CREATED:20230110T220428Z
LAST-MODIFIED:20230110T220428Z
UID:10002648-1779172200-1779219000@www.flcduluth.org
SUMMARY:Tai-Chi
DESCRIPTION:
URL:https://www.flcduluth.org/event/tai-chi-3/2026-05-19/
CATEGORIES:Outside Group
END:VEVENT
BEGIN:VEVENT
DTSTART;TZID=America/Chicago:20260526T063000
DTEND;TZID=America/Chicago:20260526T193000
DTSTAMP:20260423T034603
CREATED:20230110T220428Z
LAST-MODIFIED:20230110T220428Z
UID:10002649-1779777000-1779823800@www.flcduluth.org
SUMMARY:Tai-Chi
DESCRIPTION:
URL:https://www.flcduluth.org/event/tai-chi-3/2026-05-26/
CATEGORIES:Outside Group
END:VEVENT
BEGIN:VEVENT
DTSTART;TZID=America/Chicago:20260602T063000
DTEND;TZID=America/Chicago:20260602T193000
DTSTAMP:20260423T034603
CREATED:20230110T220428Z
LAST-MODIFIED:20230110T220428Z
UID:10002650-1780381800-1780428600@www.flcduluth.org
SUMMARY:Tai-Chi
DESCRIPTION:
URL:https://www.flcduluth.org/event/tai-chi-3/2026-06-02/
CATEGORIES:Outside Group
END:VEVENT
BEGIN:VEVENT
DTSTART;TZID=America/Chicago:20260609T063000
DTEND;TZID=America/Chicago:20260609T193000
DTSTAMP:20260423T034603
CREATED:20230110T220428Z
LAST-MODIFIED:20230110T220428Z
UID:10002651-1780986600-1781033400@www.flcduluth.org
SUMMARY:Tai-Chi
DESCRIPTION:
URL:https://www.flcduluth.org/event/tai-chi-3/2026-06-09/
CATEGORIES:Outside Group
END:VEVENT
BEGIN:VEVENT
DTSTART;TZID=America/Chicago:20260616T063000
DTEND;TZID=America/Chicago:20260616T193000
DTSTAMP:20260423T034603
CREATED:20230110T220428Z
LAST-MODIFIED:20230110T220428Z
UID:10002652-1781591400-1781638200@www.flcduluth.org
SUMMARY:Tai-Chi
DESCRIPTION:
URL:https://www.flcduluth.org/event/tai-chi-3/2026-06-16/
CATEGORIES:Outside Group
END:VEVENT
BEGIN:VEVENT
DTSTART;TZID=America/Chicago:20260623T063000
DTEND;TZID=America/Chicago:20260623T193000
DTSTAMP:20260423T034603
CREATED:20230110T220428Z
LAST-MODIFIED:20230110T220428Z
UID:10002653-1782196200-1782243000@www.flcduluth.org
SUMMARY:Tai-Chi
DESCRIPTION:
URL:https://www.flcduluth.org/event/tai-chi-3/2026-06-23/
CATEGORIES:Outside Group
END:VEVENT
BEGIN:VEVENT
DTSTART;TZID=America/Chicago:20260630T063000
DTEND;TZID=America/Chicago:20260630T193000
DTSTAMP:20260423T034603
CREATED:20230110T220428Z
LAST-MODIFIED:20230110T220428Z
UID:10002654-1782801000-1782847800@www.flcduluth.org
SUMMARY:Tai-Chi
DESCRIPTION:
URL:https://www.flcduluth.org/event/tai-chi-3/2026-06-30/
CATEGORIES:Outside Group
END:VEVENT
BEGIN:VEVENT
DTSTART;TZID=America/Chicago:20260707T063000
DTEND;TZID=America/Chicago:20260707T193000
DTSTAMP:20260423T034603
CREATED:20230110T220428Z
LAST-MODIFIED:20230110T220428Z
UID:10002655-1783405800-1783452600@www.flcduluth.org
SUMMARY:Tai-Chi
DESCRIPTION:
URL:https://www.flcduluth.org/event/tai-chi-3/2026-07-07/
CATEGORIES:Outside Group
END:VEVENT
BEGIN:VEVENT
DTSTART;TZID=America/Chicago:20260714T063000
DTEND;TZID=America/Chicago:20260714T193000
DTSTAMP:20260423T034603
CREATED:20230110T220428Z
LAST-MODIFIED:20230110T220428Z
UID:10002656-1784010600-1784057400@www.flcduluth.org
SUMMARY:Tai-Chi
DESCRIPTION:
URL:https://www.flcduluth.org/event/tai-chi-3/2026-07-14/
CATEGORIES:Outside Group
END:VEVENT
BEGIN:VEVENT
DTSTART;TZID=America/Chicago:20260721T063000
DTEND;TZID=America/Chicago:20260721T193000
DTSTAMP:20260423T034603
CREATED:20230110T220428Z
LAST-MODIFIED:20230110T220428Z
UID:10002657-1784615400-1784662200@www.flcduluth.org
SUMMARY:Tai-Chi
DESCRIPTION:
URL:https://www.flcduluth.org/event/tai-chi-3/2026-07-21/
CATEGORIES:Outside Group
END:VEVENT
BEGIN:VEVENT
DTSTART;TZID=America/Chicago:20260728T063000
DTEND;TZID=America/Chicago:20260728T193000
DTSTAMP:20260423T034603
CREATED:20230110T220428Z
LAST-MODIFIED:20230110T220428Z
UID:10002658-1785220200-1785267000@www.flcduluth.org
SUMMARY:Tai-Chi
DESCRIPTION:
URL:https://www.flcduluth.org/event/tai-chi-3/2026-07-28/
CATEGORIES:Outside Group
END:VEVENT
BEGIN:VEVENT
DTSTART;TZID=America/Chicago:20260804T063000
DTEND;TZID=America/Chicago:20260804T193000
DTSTAMP:20260423T034603
CREATED:20230110T220428Z
LAST-MODIFIED:20230110T220428Z
UID:10002659-1785825000-1785871800@www.flcduluth.org
SUMMARY:Tai-Chi
DESCRIPTION:
URL:https://www.flcduluth.org/event/tai-chi-3/2026-08-04/
CATEGORIES:Outside Group
END:VEVENT
BEGIN:VEVENT
DTSTART;TZID=America/Chicago:20260811T063000
DTEND;TZID=America/Chicago:20260811T193000
DTSTAMP:20260423T034603
CREATED:20230110T220428Z
LAST-MODIFIED:20230110T220428Z
UID:10002660-1786429800-1786476600@www.flcduluth.org
SUMMARY:Tai-Chi
DESCRIPTION:
URL:https://www.flcduluth.org/event/tai-chi-3/2026-08-11/
CATEGORIES:Outside Group
END:VEVENT
BEGIN:VEVENT
DTSTART;TZID=America/Chicago:20260818T063000
DTEND;TZID=America/Chicago:20260818T193000
DTSTAMP:20260423T034603
CREATED:20230110T220428Z
LAST-MODIFIED:20230110T220428Z
UID:10002661-1787034600-1787081400@www.flcduluth.org
SUMMARY:Tai-Chi
DESCRIPTION:
URL:https://www.flcduluth.org/event/tai-chi-3/2026-08-18/
CATEGORIES:Outside Group
END:VEVENT
BEGIN:VEVENT
DTSTART;TZID=America/Chicago:20260825T063000
DTEND;TZID=America/Chicago:20260825T193000
DTSTAMP:20260423T034603
CREATED:20230110T220428Z
LAST-MODIFIED:20230110T220428Z
UID:10002662-1787639400-1787686200@www.flcduluth.org
SUMMARY:Tai-Chi
DESCRIPTION:
URL:https://www.flcduluth.org/event/tai-chi-3/2026-08-25/
CATEGORIES:Outside Group
END:VEVENT
BEGIN:VEVENT
DTSTART;TZID=America/Chicago:20260901T063000
DTEND;TZID=America/Chicago:20260901T193000
DTSTAMP:20260423T034603
CREATED:20230110T220428Z
LAST-MODIFIED:20230110T220428Z
UID:10002663-1788244200-1788291000@www.flcduluth.org
SUMMARY:Tai-Chi
DESCRIPTION:
URL:https://www.flcduluth.org/event/tai-chi-3/2026-09-01/
CATEGORIES:Outside Group
END:VEVENT
BEGIN:VEVENT
DTSTART;TZID=America/Chicago:20260908T063000
DTEND;TZID=America/Chicago:20260908T193000
DTSTAMP:20260423T034603
CREATED:20230110T220428Z
LAST-MODIFIED:20230110T220428Z
UID:10002664-1788849000-1788895800@www.flcduluth.org
SUMMARY:Tai-Chi
DESCRIPTION:
URL:https://www.flcduluth.org/event/tai-chi-3/2026-09-08/
CATEGORIES:Outside Group
END:VEVENT
BEGIN:VEVENT
DTSTART;TZID=America/Chicago:20260915T063000
DTEND;TZID=America/Chicago:20260915T193000
DTSTAMP:20260423T034603
CREATED:20230110T220428Z
LAST-MODIFIED:20230110T220428Z
UID:10002665-1789453800-1789500600@www.flcduluth.org
SUMMARY:Tai-Chi
DESCRIPTION:
URL:https://www.flcduluth.org/event/tai-chi-3/2026-09-15/
CATEGORIES:Outside Group
END:VEVENT
BEGIN:VEVENT
DTSTART;TZID=America/Chicago:20260922T063000
DTEND;TZID=America/Chicago:20260922T193000
DTSTAMP:20260423T034603
CREATED:20230110T220428Z
LAST-MODIFIED:20230110T220428Z
UID:10002666-1790058600-1790105400@www.flcduluth.org
SUMMARY:Tai-Chi
DESCRIPTION:
URL:https://www.flcduluth.org/event/tai-chi-3/2026-09-22/
CATEGORIES:Outside Group
END:VEVENT
BEGIN:VEVENT
DTSTART;TZID=America/Chicago:20260929T063000
DTEND;TZID=America/Chicago:20260929T193000
DTSTAMP:20260423T034603
CREATED:20230110T220428Z
LAST-MODIFIED:20230110T220428Z
UID:10002667-1790663400-1790710200@www.flcduluth.org
SUMMARY:Tai-Chi
DESCRIPTION:
URL:https://www.flcduluth.org/event/tai-chi-3/2026-09-29/
CATEGORIES:Outside Group
END:VEVENT
BEGIN:VEVENT
DTSTART;TZID=America/Chicago:20261006T063000
DTEND;TZID=America/Chicago:20261006T193000
DTSTAMP:20260423T034603
CREATED:20230110T220428Z
LAST-MODIFIED:20230110T220428Z
UID:10002668-1791268200-1791315000@www.flcduluth.org
SUMMARY:Tai-Chi
DESCRIPTION:
URL:https://www.flcduluth.org/event/tai-chi-3/2026-10-06/
CATEGORIES:Outside Group
END:VEVENT
BEGIN:VEVENT
DTSTART;TZID=America/Chicago:20261013T063000
DTEND;TZID=America/Chicago:20261013T193000
DTSTAMP:20260423T034603
CREATED:20230110T220428Z
LAST-MODIFIED:20230110T220428Z
UID:10002669-1791873000-1791919800@www.flcduluth.org
SUMMARY:Tai-Chi
DESCRIPTION:
URL:https://www.flcduluth.org/event/tai-chi-3/2026-10-13/
CATEGORIES:Outside Group
END:VEVENT
BEGIN:VEVENT
DTSTART;TZID=America/Chicago:20261020T063000
DTEND;TZID=America/Chicago:20261020T193000
DTSTAMP:20260423T034603
CREATED:20230110T220428Z
LAST-MODIFIED:20230110T220428Z
UID:10002670-1792477800-1792524600@www.flcduluth.org
SUMMARY:Tai-Chi
DESCRIPTION:
URL:https://www.flcduluth.org/event/tai-chi-3/2026-10-20/
CATEGORIES:Outside Group
END:VEVENT
BEGIN:VEVENT
DTSTART;TZID=America/Chicago:20261027T063000
DTEND;TZID=America/Chicago:20261027T193000
DTSTAMP:20260423T034603
CREATED:20230110T220428Z
LAST-MODIFIED:20230110T220428Z
UID:10002671-1793082600-1793129400@www.flcduluth.org
SUMMARY:Tai-Chi
DESCRIPTION:
URL:https://www.flcduluth.org/event/tai-chi-3/2026-10-27/
CATEGORIES:Outside Group
END:VEVENT
BEGIN:VEVENT
DTSTART;TZID=America/Chicago:20261103T063000
DTEND;TZID=America/Chicago:20261103T193000
DTSTAMP:20260423T034603
CREATED:20230110T220428Z
LAST-MODIFIED:20230110T220428Z
UID:10002672-1793687400-1793734200@www.flcduluth.org
SUMMARY:Tai-Chi
DESCRIPTION:
URL:https://www.flcduluth.org/event/tai-chi-3/2026-11-03/
CATEGORIES:Outside Group
END:VEVENT
BEGIN:VEVENT
DTSTART;TZID=America/Chicago:20261110T063000
DTEND;TZID=America/Chicago:20261110T193000
DTSTAMP:20260423T034603
CREATED:20230110T220428Z
LAST-MODIFIED:20230110T220428Z
UID:10002673-1794292200-1794339000@www.flcduluth.org
SUMMARY:Tai-Chi
DESCRIPTION:
URL:https://www.flcduluth.org/event/tai-chi-3/2026-11-10/
CATEGORIES:Outside Group
END:VEVENT
BEGIN:VEVENT
DTSTART;TZID=America/Chicago:20261117T063000
DTEND;TZID=America/Chicago:20261117T193000
DTSTAMP:20260423T034603
CREATED:20230110T220428Z
LAST-MODIFIED:20230110T220428Z
UID:10002674-1794897000-1794943800@www.flcduluth.org
SUMMARY:Tai-Chi
DESCRIPTION:
URL:https://www.flcduluth.org/event/tai-chi-3/2026-11-17/
CATEGORIES:Outside Group
END:VEVENT
END:VCALENDAR