BEGIN:VCALENDAR
VERSION:2.0
PRODID:-//First Lutheran Church - ECPv6.15.20//NONSGML v1.0//EN
CALSCALE:GREGORIAN
METHOD:PUBLISH
X-WR-CALNAME:First Lutheran Church
X-ORIGINAL-URL:https://www.flcduluth.org
X-WR-CALDESC:Events for First Lutheran Church
REFRESH-INTERVAL;VALUE=DURATION:PT1H
X-Robots-Tag:noindex
X-PUBLISHED-TTL:PT1H
BEGIN:VTIMEZONE
TZID:America/Chicago
BEGIN:DAYLIGHT
TZOFFSETFROM:-0600
TZOFFSETTO:-0500
TZNAME:CDT
DTSTART:20250309T080000
END:DAYLIGHT
BEGIN:STANDARD
TZOFFSETFROM:-0500
TZOFFSETTO:-0600
TZNAME:CST
DTSTART:20251102T070000
END:STANDARD
BEGIN:DAYLIGHT
TZOFFSETFROM:-0600
TZOFFSETTO:-0500
TZNAME:CDT
DTSTART:20260308T080000
END:DAYLIGHT
BEGIN:STANDARD
TZOFFSETFROM:-0500
TZOFFSETTO:-0600
TZNAME:CST
DTSTART:20261101T070000
END:STANDARD
BEGIN:DAYLIGHT
TZOFFSETFROM:-0600
TZOFFSETTO:-0500
TZNAME:CDT
DTSTART:20270314T080000
END:DAYLIGHT
BEGIN:STANDARD
TZOFFSETFROM:-0500
TZOFFSETTO:-0600
TZNAME:CST
DTSTART:20271107T070000
END:STANDARD
BEGIN:DAYLIGHT
TZOFFSETFROM:-0600
TZOFFSETTO:-0500
TZNAME:CDT
DTSTART:20280312T080000
END:DAYLIGHT
BEGIN:STANDARD
TZOFFSETFROM:-0500
TZOFFSETTO:-0600
TZNAME:CST
DTSTART:20281105T070000
END:STANDARD
END:VTIMEZONE
BEGIN:VEVENT
DTSTART;TZID=America/Chicago:20260426T120000
DTEND;TZID=America/Chicago:20260426T133000
DTSTAMP:20260423T050941
CREATED:20230110T224319Z
LAST-MODIFIED:20230110T224319Z
UID:10003738-1777204800-1777210200@www.flcduluth.org
SUMMARY:Community Meal
DESCRIPTION:
URL:https://www.flcduluth.org/event/community-meal-3/2026-04-26/
END:VEVENT
BEGIN:VEVENT
DTSTART;TZID=America/Chicago:20260531T120000
DTEND;TZID=America/Chicago:20260531T133000
DTSTAMP:20260423T050941
CREATED:20230110T224319Z
LAST-MODIFIED:20230110T224319Z
UID:10003739-1780228800-1780234200@www.flcduluth.org
SUMMARY:Community Meal
DESCRIPTION:
URL:https://www.flcduluth.org/event/community-meal-3/2026-05-31/
END:VEVENT
BEGIN:VEVENT
DTSTART;TZID=America/Chicago:20260628T120000
DTEND;TZID=America/Chicago:20260628T133000
DTSTAMP:20260423T050941
CREATED:20230110T224319Z
LAST-MODIFIED:20230110T224319Z
UID:10003740-1782648000-1782653400@www.flcduluth.org
SUMMARY:Community Meal
DESCRIPTION:
URL:https://www.flcduluth.org/event/community-meal-3/2026-06-28/
END:VEVENT
BEGIN:VEVENT
DTSTART;TZID=America/Chicago:20260726T120000
DTEND;TZID=America/Chicago:20260726T133000
DTSTAMP:20260423T050941
CREATED:20230110T224319Z
LAST-MODIFIED:20230110T224319Z
UID:10003741-1785067200-1785072600@www.flcduluth.org
SUMMARY:Community Meal
DESCRIPTION:
URL:https://www.flcduluth.org/event/community-meal-3/2026-07-26/
END:VEVENT
BEGIN:VEVENT
DTSTART;TZID=America/Chicago:20260830T120000
DTEND;TZID=America/Chicago:20260830T133000
DTSTAMP:20260423T050941
CREATED:20230110T224319Z
LAST-MODIFIED:20230110T224319Z
UID:10003742-1788091200-1788096600@www.flcduluth.org
SUMMARY:Community Meal
DESCRIPTION:
URL:https://www.flcduluth.org/event/community-meal-3/2026-08-30/
END:VEVENT
BEGIN:VEVENT
DTSTART;TZID=America/Chicago:20260927T120000
DTEND;TZID=America/Chicago:20260927T133000
DTSTAMP:20260423T050941
CREATED:20230110T224319Z
LAST-MODIFIED:20230110T224319Z
UID:10003743-1790510400-1790515800@www.flcduluth.org
SUMMARY:Community Meal
DESCRIPTION:
URL:https://www.flcduluth.org/event/community-meal-3/2026-09-27/
END:VEVENT
BEGIN:VEVENT
DTSTART;TZID=America/Chicago:20261025T120000
DTEND;TZID=America/Chicago:20261025T133000
DTSTAMP:20260423T050941
CREATED:20230110T224319Z
LAST-MODIFIED:20230110T224319Z
UID:10003744-1792929600-1792935000@www.flcduluth.org
SUMMARY:Community Meal
DESCRIPTION:
URL:https://www.flcduluth.org/event/community-meal-3/2026-10-25/
END:VEVENT
BEGIN:VEVENT
DTSTART;TZID=America/Chicago:20261129T120000
DTEND;TZID=America/Chicago:20261129T133000
DTSTAMP:20260423T050941
CREATED:20230110T224319Z
LAST-MODIFIED:20230110T224319Z
UID:10003745-1795953600-1795959000@www.flcduluth.org
SUMMARY:Community Meal
DESCRIPTION:
URL:https://www.flcduluth.org/event/community-meal-3/2026-11-29/
END:VEVENT
BEGIN:VEVENT
DTSTART;TZID=America/Chicago:20261227T120000
DTEND;TZID=America/Chicago:20261227T133000
DTSTAMP:20260423T050941
CREATED:20230110T224319Z
LAST-MODIFIED:20230110T224319Z
UID:10003746-1798372800-1798378200@www.flcduluth.org
SUMMARY:Community Meal
DESCRIPTION:
URL:https://www.flcduluth.org/event/community-meal-3/2026-12-27/
END:VEVENT
BEGIN:VEVENT
DTSTART;TZID=America/Chicago:20270131T120000
DTEND;TZID=America/Chicago:20270131T133000
DTSTAMP:20260423T050941
CREATED:20230110T224319Z
LAST-MODIFIED:20230110T224319Z
UID:10003747-1801396800-1801402200@www.flcduluth.org
SUMMARY:Community Meal
DESCRIPTION:
URL:https://www.flcduluth.org/event/community-meal-3/2027-01-31/
END:VEVENT
BEGIN:VEVENT
DTSTART;TZID=America/Chicago:20270228T120000
DTEND;TZID=America/Chicago:20270228T133000
DTSTAMP:20260423T050941
CREATED:20230110T224319Z
LAST-MODIFIED:20230110T224319Z
UID:10003748-1803816000-1803821400@www.flcduluth.org
SUMMARY:Community Meal
DESCRIPTION:
URL:https://www.flcduluth.org/event/community-meal-3/2027-02-28/
END:VEVENT
BEGIN:VEVENT
DTSTART;TZID=America/Chicago:20270328T120000
DTEND;TZID=America/Chicago:20270328T133000
DTSTAMP:20260423T050941
CREATED:20230110T224319Z
LAST-MODIFIED:20230110T224319Z
UID:10003749-1806235200-1806240600@www.flcduluth.org
SUMMARY:Community Meal
DESCRIPTION:
URL:https://www.flcduluth.org/event/community-meal-3/2027-03-28/
END:VEVENT
BEGIN:VEVENT
DTSTART;TZID=America/Chicago:20270425T120000
DTEND;TZID=America/Chicago:20270425T133000
DTSTAMP:20260423T050941
CREATED:20230110T224319Z
LAST-MODIFIED:20230110T224319Z
UID:10003750-1808654400-1808659800@www.flcduluth.org
SUMMARY:Community Meal
DESCRIPTION:
URL:https://www.flcduluth.org/event/community-meal-3/2027-04-25/
END:VEVENT
BEGIN:VEVENT
DTSTART;TZID=America/Chicago:20270530T120000
DTEND;TZID=America/Chicago:20270530T133000
DTSTAMP:20260423T050941
CREATED:20230110T224319Z
LAST-MODIFIED:20230110T224319Z
UID:10003751-1811678400-1811683800@www.flcduluth.org
SUMMARY:Community Meal
DESCRIPTION:
URL:https://www.flcduluth.org/event/community-meal-3/2027-05-30/
END:VEVENT
BEGIN:VEVENT
DTSTART;TZID=America/Chicago:20270627T120000
DTEND;TZID=America/Chicago:20270627T133000
DTSTAMP:20260423T050941
CREATED:20230110T224319Z
LAST-MODIFIED:20230110T224319Z
UID:10003752-1814097600-1814103000@www.flcduluth.org
SUMMARY:Community Meal
DESCRIPTION:
URL:https://www.flcduluth.org/event/community-meal-3/2027-06-27/
END:VEVENT
BEGIN:VEVENT
DTSTART;TZID=America/Chicago:20270725T120000
DTEND;TZID=America/Chicago:20270725T133000
DTSTAMP:20260423T050941
CREATED:20230110T224319Z
LAST-MODIFIED:20230110T224319Z
UID:10003753-1816516800-1816522200@www.flcduluth.org
SUMMARY:Community Meal
DESCRIPTION:
URL:https://www.flcduluth.org/event/community-meal-3/2027-07-25/
END:VEVENT
BEGIN:VEVENT
DTSTART;TZID=America/Chicago:20270829T120000
DTEND;TZID=America/Chicago:20270829T133000
DTSTAMP:20260423T050941
CREATED:20230110T224319Z
LAST-MODIFIED:20230110T224319Z
UID:10003754-1819540800-1819546200@www.flcduluth.org
SUMMARY:Community Meal
DESCRIPTION:
URL:https://www.flcduluth.org/event/community-meal-3/2027-08-29/
END:VEVENT
BEGIN:VEVENT
DTSTART;TZID=America/Chicago:20270926T120000
DTEND;TZID=America/Chicago:20270926T133000
DTSTAMP:20260423T050941
CREATED:20230110T224319Z
LAST-MODIFIED:20230110T224319Z
UID:10003755-1821960000-1821965400@www.flcduluth.org
SUMMARY:Community Meal
DESCRIPTION:
URL:https://www.flcduluth.org/event/community-meal-3/2027-09-26/
END:VEVENT
BEGIN:VEVENT
DTSTART;TZID=America/Chicago:20271031T120000
DTEND;TZID=America/Chicago:20271031T133000
DTSTAMP:20260423T050941
CREATED:20230110T224319Z
LAST-MODIFIED:20230110T224319Z
UID:10003756-1824984000-1824989400@www.flcduluth.org
SUMMARY:Community Meal
DESCRIPTION:
URL:https://www.flcduluth.org/event/community-meal-3/2027-10-31/
END:VEVENT
BEGIN:VEVENT
DTSTART;TZID=America/Chicago:20271128T120000
DTEND;TZID=America/Chicago:20271128T133000
DTSTAMP:20260423T050941
CREATED:20230110T224319Z
LAST-MODIFIED:20230110T224319Z
UID:10003757-1827403200-1827408600@www.flcduluth.org
SUMMARY:Community Meal
DESCRIPTION:
URL:https://www.flcduluth.org/event/community-meal-3/2027-11-28/
END:VEVENT
BEGIN:VEVENT
DTSTART;TZID=America/Chicago:20271226T120000
DTEND;TZID=America/Chicago:20271226T133000
DTSTAMP:20260423T050941
CREATED:20230110T224319Z
LAST-MODIFIED:20230110T224319Z
UID:10003758-1829822400-1829827800@www.flcduluth.org
SUMMARY:Community Meal
DESCRIPTION:
URL:https://www.flcduluth.org/event/community-meal-3/2027-12-26/
END:VEVENT
END:VCALENDAR