BEGIN:VCALENDAR
VERSION:2.0
PRODID:-//First Lutheran Church - ECPv6.15.20//NONSGML v1.0//EN
CALSCALE:GREGORIAN
METHOD:PUBLISH
X-ORIGINAL-URL:https://www.flcduluth.org
X-WR-CALDESC:Events for First Lutheran Church
REFRESH-INTERVAL;VALUE=DURATION:PT1H
X-Robots-Tag:noindex
X-PUBLISHED-TTL:PT1H
BEGIN:VTIMEZONE
TZID:America/Chicago
BEGIN:DAYLIGHT
TZOFFSETFROM:-0600
TZOFFSETTO:-0500
TZNAME:CDT
DTSTART:20200308T080000
END:DAYLIGHT
BEGIN:STANDARD
TZOFFSETFROM:-0500
TZOFFSETTO:-0600
TZNAME:CST
DTSTART:20201101T070000
END:STANDARD
BEGIN:DAYLIGHT
TZOFFSETFROM:-0600
TZOFFSETTO:-0500
TZNAME:CDT
DTSTART:20210314T080000
END:DAYLIGHT
BEGIN:STANDARD
TZOFFSETFROM:-0500
TZOFFSETTO:-0600
TZNAME:CST
DTSTART:20211107T070000
END:STANDARD
BEGIN:DAYLIGHT
TZOFFSETFROM:-0600
TZOFFSETTO:-0500
TZNAME:CDT
DTSTART:20220313T080000
END:DAYLIGHT
BEGIN:STANDARD
TZOFFSETFROM:-0500
TZOFFSETTO:-0600
TZNAME:CST
DTSTART:20221106T070000
END:STANDARD
BEGIN:DAYLIGHT
TZOFFSETFROM:-0600
TZOFFSETTO:-0500
TZNAME:CDT
DTSTART:20230312T080000
END:DAYLIGHT
BEGIN:STANDARD
TZOFFSETFROM:-0500
TZOFFSETTO:-0600
TZNAME:CST
DTSTART:20231105T070000
END:STANDARD
BEGIN:DAYLIGHT
TZOFFSETFROM:-0600
TZOFFSETTO:-0500
TZNAME:CDT
DTSTART:20240310T080000
END:DAYLIGHT
BEGIN:STANDARD
TZOFFSETFROM:-0500
TZOFFSETTO:-0600
TZNAME:CST
DTSTART:20241103T070000
END:STANDARD
END:VTIMEZONE
BEGIN:VEVENT
DTSTART;TZID=America/Chicago:20230122T180000
DTEND;TZID=America/Chicago:20230122T193000
DTSTAMP:20260424T032822
CREATED:20230110T215158Z
LAST-MODIFIED:20230110T215530Z
UID:10002053-1674410400-1674415800@www.flcduluth.org
SUMMARY:Middle School Youth Group
DESCRIPTION:
URL:https://www.flcduluth.org/event/middle-school-youth-group-2/2023-01-22/
LOCATION:First Lutheran Church\, 1100 E. Superior St.\, Duluth\, MN\, 55802\, United States
CATEGORIES:Youth Ministry
END:VEVENT
BEGIN:VEVENT
DTSTART;TZID=America/Chicago:20230122T110000
DTEND;TZID=America/Chicago:20230122T120000
DTSTAMP:20260424T032822
CREATED:20230110T215041Z
LAST-MODIFIED:20230110T215608Z
UID:10001981-1674385200-1674388800@www.flcduluth.org
SUMMARY:Worship
DESCRIPTION:
URL:https://www.flcduluth.org/event/worship-6/2023-01-22/
LOCATION:First Lutheran Church\, 1100 E. Superior St.\, Duluth\, MN\, 55802\, United States
CATEGORIES:Worship
END:VEVENT
BEGIN:VEVENT
DTSTART;TZID=America/Chicago:20230122T083000
DTEND;TZID=America/Chicago:20230122T093000
DTSTAMP:20260424T032822
CREATED:20230110T214941Z
LAST-MODIFIED:20230110T215643Z
UID:10001909-1674376200-1674379800@www.flcduluth.org
SUMMARY:Worship
DESCRIPTION:
URL:https://www.flcduluth.org/event/worship-5/2023-01-22/
LOCATION:First Lutheran Church\, 1100 E. Superior St.\, Duluth\, MN\, 55802\, United States
CATEGORIES:Worship
END:VEVENT
BEGIN:VEVENT
DTSTART;TZID=America/Chicago:20230115T180000
DTEND;TZID=America/Chicago:20230115T193000
DTSTAMP:20260424T032822
CREATED:20230110T215355Z
LAST-MODIFIED:20230110T215449Z
UID:10002124-1673805600-1673811000@www.flcduluth.org
SUMMARY:Confirmation
DESCRIPTION:
URL:https://www.flcduluth.org/event/confirmation-6/2023-01-15/
LOCATION:First Lutheran Church\, 1100 E. Superior St.\, Duluth\, MN\, 55802\, United States
CATEGORIES:Confirmation,Youth Ministry
END:VEVENT
BEGIN:VEVENT
DTSTART;TZID=America/Chicago:20230115T180000
DTEND;TZID=America/Chicago:20230115T193000
DTSTAMP:20260424T032822
CREATED:20230110T215158Z
LAST-MODIFIED:20230110T215530Z
UID:10002052-1673805600-1673811000@www.flcduluth.org
SUMMARY:Middle School Youth Group
DESCRIPTION:
URL:https://www.flcduluth.org/event/middle-school-youth-group-2/2023-01-15/
LOCATION:First Lutheran Church\, 1100 E. Superior St.\, Duluth\, MN\, 55802\, United States
CATEGORIES:Youth Ministry
END:VEVENT
BEGIN:VEVENT
DTSTART;TZID=America/Chicago:20230115T110000
DTEND;TZID=America/Chicago:20230115T120000
DTSTAMP:20260424T032822
CREATED:20230110T215041Z
LAST-MODIFIED:20230110T215608Z
UID:10001980-1673780400-1673784000@www.flcduluth.org
SUMMARY:Worship
DESCRIPTION:
URL:https://www.flcduluth.org/event/worship-6/2023-01-15/
LOCATION:First Lutheran Church\, 1100 E. Superior St.\, Duluth\, MN\, 55802\, United States
CATEGORIES:Worship
END:VEVENT
BEGIN:VEVENT
DTSTART;TZID=America/Chicago:20230115T083000
DTEND;TZID=America/Chicago:20230115T093000
DTSTAMP:20260424T032822
CREATED:20230110T214941Z
LAST-MODIFIED:20230110T215643Z
UID:10001908-1673771400-1673775000@www.flcduluth.org
SUMMARY:Worship
DESCRIPTION:
URL:https://www.flcduluth.org/event/worship-5/2023-01-15/
LOCATION:First Lutheran Church\, 1100 E. Superior St.\, Duluth\, MN\, 55802\, United States
CATEGORIES:Worship
END:VEVENT
BEGIN:VEVENT
DTSTART;TZID=America/Chicago:20230112T190000
DTEND;TZID=America/Chicago:20230112T210000
DTSTAMP:20260424T032822
CREATED:20230110T221209Z
LAST-MODIFIED:20230110T221209Z
UID:10003027-1673550000-1673557200@www.flcduluth.org
SUMMARY:Jazz Concert Rehearsal
DESCRIPTION:
URL:https://www.flcduluth.org/event/jazz-concert-rehearsal/
LOCATION:First Lutheran Church\, 1100 E. Superior St.\, Duluth\, MN\, 55802\, United States
CATEGORIES:Music Rehearsal
END:VEVENT
BEGIN:VEVENT
DTSTART;TZID=America/Chicago:20230110T100000
DTEND;TZID=America/Chicago:20230110T130000
DTSTAMP:20260424T032822
CREATED:20230110T221116Z
LAST-MODIFIED:20230110T221116Z
UID:10003026-1673344800-1673355600@www.flcduluth.org
SUMMARY:NE MN Synod Meeting
DESCRIPTION:
URL:https://www.flcduluth.org/event/ne-mn-synod-meeting/
LOCATION:First Lutheran Church\, 1100 E. Superior St.\, Duluth\, MN\, 55802\, United States
CATEGORIES:Outside Group
END:VEVENT
BEGIN:VEVENT
DTSTART;TZID=America/Chicago:20230109T190000
DTEND;TZID=America/Chicago:20230109T203000
DTSTAMP:20260424T032822
CREATED:20230110T220154Z
LAST-MODIFIED:20230110T220154Z
UID:10002467-1673290800-1673296200@www.flcduluth.org
SUMMARY:Ruth Gathering
DESCRIPTION:
URL:https://www.flcduluth.org/event/ruth-gathering-2/
LOCATION:First Lutheran Church\, 1100 E. Superior St.\, Duluth\, MN\, 55802\, United States
CATEGORIES:Women's Ministry
END:VEVENT
BEGIN:VEVENT
DTSTART;TZID=America/Chicago:20230108T180000
DTEND;TZID=America/Chicago:20230108T193000
DTSTAMP:20260424T032822
CREATED:20230110T215355Z
LAST-MODIFIED:20230110T215449Z
UID:10002123-1673200800-1673206200@www.flcduluth.org
SUMMARY:Confirmation
DESCRIPTION:
URL:https://www.flcduluth.org/event/confirmation-6/2023-01-08/
LOCATION:First Lutheran Church\, 1100 E. Superior St.\, Duluth\, MN\, 55802\, United States
CATEGORIES:Confirmation,Youth Ministry
END:VEVENT
BEGIN:VEVENT
DTSTART;TZID=America/Chicago:20230108T180000
DTEND;TZID=America/Chicago:20230108T193000
DTSTAMP:20260424T032822
CREATED:20230110T215158Z
LAST-MODIFIED:20230110T215530Z
UID:10002051-1673200800-1673206200@www.flcduluth.org
SUMMARY:Middle School Youth Group
DESCRIPTION:
URL:https://www.flcduluth.org/event/middle-school-youth-group-2/2023-01-08/
LOCATION:First Lutheran Church\, 1100 E. Superior St.\, Duluth\, MN\, 55802\, United States
CATEGORIES:Youth Ministry
END:VEVENT
BEGIN:VEVENT
DTSTART;TZID=America/Chicago:20230108T110000
DTEND;TZID=America/Chicago:20230108T120000
DTSTAMP:20260424T032822
CREATED:20230110T215041Z
LAST-MODIFIED:20230110T215608Z
UID:10001979-1673175600-1673179200@www.flcduluth.org
SUMMARY:Worship
DESCRIPTION:
URL:https://www.flcduluth.org/event/worship-6/2023-01-08/
LOCATION:First Lutheran Church\, 1100 E. Superior St.\, Duluth\, MN\, 55802\, United States
CATEGORIES:Worship
END:VEVENT
BEGIN:VEVENT
DTSTART;TZID=America/Chicago:20230108T094500
DTEND;TZID=America/Chicago:20230108T104500
DTSTAMP:20260424T032822
CREATED:20230110T215843Z
LAST-MODIFIED:20230110T215843Z
UID:10002196-1673171100-1673174700@www.flcduluth.org
SUMMARY:Bible Study
DESCRIPTION:
URL:https://www.flcduluth.org/event/bible-study-6/
LOCATION:First Lutheran Church\, 1100 E. Superior St.\, Duluth\, MN\, 55802\, United States
CATEGORIES:Bible Study
END:VEVENT
BEGIN:VEVENT
DTSTART;TZID=America/Chicago:20230108T094500
DTEND;TZID=America/Chicago:20230108T104500
DTSTAMP:20260424T032822
CREATED:20230110T215744Z
LAST-MODIFIED:20230110T215744Z
UID:10002195-1673171100-1673174700@www.flcduluth.org
SUMMARY:Sunday School
DESCRIPTION:
URL:https://www.flcduluth.org/event/sunday-school-2/
LOCATION:First Lutheran Church\, 1100 E. Superior St.\, Duluth\, MN\, 55802\, United States
CATEGORIES:Children's Ministry
END:VEVENT
BEGIN:VEVENT
DTSTART;TZID=America/Chicago:20230108T083000
DTEND;TZID=America/Chicago:20230108T093000
DTSTAMP:20260424T032822
CREATED:20230110T214941Z
LAST-MODIFIED:20230110T215643Z
UID:10001907-1673166600-1673170200@www.flcduluth.org
SUMMARY:Worship
DESCRIPTION:
URL:https://www.flcduluth.org/event/worship-5/2023-01-08/
LOCATION:First Lutheran Church\, 1100 E. Superior St.\, Duluth\, MN\, 55802\, United States
CATEGORIES:Worship
END:VEVENT
BEGIN:VEVENT
DTSTART;TZID=America/Chicago:20220102T100000
DTEND;TZID=America/Chicago:20220102T110000
DTSTAMP:20260424T032822
CREATED:20210818T200100Z
LAST-MODIFIED:20211231T001625Z
UID:10000729-1641117600-1641121200@www.flcduluth.org
SUMMARY:Weekly Worship
DESCRIPTION:Join us for 10:00AM Worship in the Sanctuary\, on the radio and via livestream.
URL:https://www.flcduluth.org/event/weekly-worship-4-2022-01-02/
LOCATION:First Lutheran Church\, 1100 E. Superior St.\, Duluth\, MN\, 55802\, United States
CATEGORIES:Worship
END:VEVENT
BEGIN:VEVENT
DTSTART;TZID=America/Chicago:20211231T160000
DTEND;TZID=America/Chicago:20211231T170000
DTSTAMP:20260424T032822
CREATED:20211006T213931Z
LAST-MODIFIED:20211006T213931Z
UID:10000983-1640966400-1640970000@www.flcduluth.org
SUMMARY:Private Organ Lesson
DESCRIPTION:
URL:https://www.flcduluth.org/event/private-organ-lesson/2021-12-31/
LOCATION:First Lutheran Church\, 1100 E. Superior St.\, Duluth\, MN\, 55802\, United States
CATEGORIES:Music Rehearsal
END:VEVENT
BEGIN:VEVENT
DTSTART;TZID=America/Chicago:20211230T070000
DTEND;TZID=America/Chicago:20211230T090000
DTSTAMP:20260424T032822
CREATED:20211006T213141Z
LAST-MODIFIED:20211006T213141Z
UID:10000945-1640847600-1640854800@www.flcduluth.org
SUMMARY:Men's Group
DESCRIPTION:
URL:https://www.flcduluth.org/event/mens-group/2021-12-30/
LOCATION:First Lutheran Church\, 1100 E. Superior St.\, Duluth\, MN\, 55802\, United States
CATEGORIES:Men's Ministry
END:VEVENT
BEGIN:VEVENT
DTSTART;TZID=America/Chicago:20211226T120000
DTEND;TZID=America/Chicago:20211226T133000
DTSTAMP:20260424T032822
CREATED:20211006T220134Z
LAST-MODIFIED:20211006T220134Z
UID:10000209-1640520000-1640525400@www.flcduluth.org
SUMMARY:Community Meal
DESCRIPTION:
URL:https://www.flcduluth.org/event/community-meal/2021-12-26/
LOCATION:First Lutheran Church\, 1100 E. Superior St.\, Duluth\, MN\, 55802\, United States
END:VEVENT
BEGIN:VEVENT
DTSTART;TZID=America/Chicago:20211226T100000
DTEND;TZID=America/Chicago:20211226T110000
DTSTAMP:20260424T032822
CREATED:20211128T003849Z
LAST-MODIFIED:20211128T003849Z
UID:10001029-1640512800-1640516400@www.flcduluth.org
SUMMARY:Worship Service
DESCRIPTION:
URL:https://www.flcduluth.org/event/worship-service/
LOCATION:First Lutheran Church\, 1100 E. Superior St.\, Duluth\, MN\, 55802\, United States
CATEGORIES:Worship
END:VEVENT
BEGIN:VEVENT
DTSTART;TZID=America/Chicago:20211225T100000
DTEND;TZID=America/Chicago:20211225T110000
DTSTAMP:20260424T032822
CREATED:20211128T003507Z
LAST-MODIFIED:20211128T003507Z
UID:10001028-1640426400-1640430000@www.flcduluth.org
SUMMARY:Christmas Day Service
DESCRIPTION:
URL:https://www.flcduluth.org/event/christmas-day-service/
LOCATION:First Lutheran Church\, 1100 E. Superior St.\, Duluth\, MN\, 55802\, United States
CATEGORIES:Worship
END:VEVENT
BEGIN:VEVENT
DTSTART;TZID=America/Chicago:20211224T220000
DTEND;TZID=America/Chicago:20211224T230000
DTSTAMP:20260424T032822
CREATED:20211128T003332Z
LAST-MODIFIED:20211128T003332Z
UID:10001027-1640383200-1640386800@www.flcduluth.org
SUMMARY:Christmas Eve Worship
DESCRIPTION:
URL:https://www.flcduluth.org/event/christmas-eve-worship-3/
LOCATION:First Lutheran Church\, 1100 E. Superior St.\, Duluth\, MN\, 55802\, United States
CATEGORIES:Worship
END:VEVENT
BEGIN:VEVENT
DTSTART;TZID=America/Chicago:20211224T170000
DTEND;TZID=America/Chicago:20211224T180000
DTSTAMP:20260424T032822
CREATED:20211128T003240Z
LAST-MODIFIED:20211128T003240Z
UID:10001026-1640365200-1640368800@www.flcduluth.org
SUMMARY:Christmas Eve Worship
DESCRIPTION:
URL:https://www.flcduluth.org/event/christmas-eve-worship-2/
LOCATION:First Lutheran Church\, 1100 E. Superior St.\, Duluth\, MN\, 55802\, United States
CATEGORIES:Worship
END:VEVENT
BEGIN:VEVENT
DTSTART;TZID=America/Chicago:20211223T070000
DTEND;TZID=America/Chicago:20211223T090000
DTSTAMP:20260424T032822
CREATED:20211006T213141Z
LAST-MODIFIED:20211006T213141Z
UID:10000944-1640242800-1640250000@www.flcduluth.org
SUMMARY:Men's Group
DESCRIPTION:
URL:https://www.flcduluth.org/event/mens-group/2021-12-23/
LOCATION:First Lutheran Church\, 1100 E. Superior St.\, Duluth\, MN\, 55802\, United States
CATEGORIES:Men's Ministry
END:VEVENT
BEGIN:VEVENT
DTSTART;TZID=America/Chicago:20211219T150000
DTEND;TZID=America/Chicago:20211219T163000
DTSTAMP:20260424T032822
CREATED:20211128T002603Z
LAST-MODIFIED:20211128T002603Z
UID:10001024-1639926000-1639931400@www.flcduluth.org
SUMMARY:Advent Lessons & Carols
DESCRIPTION:
URL:https://www.flcduluth.org/event/advent-lessons-carols/
LOCATION:First Lutheran Church\, 1100 E. Superior St.\, Duluth\, MN\, 55802\, United States
CATEGORIES:Music Rehearsal
END:VEVENT
BEGIN:VEVENT
DTSTART;TZID=America/Chicago:20211218T100000
DTEND;TZID=America/Chicago:20211218T110000
DTSTAMP:20260424T032822
CREATED:20211006T214126Z
LAST-MODIFIED:20211006T214126Z
UID:10000994-1639821600-1639825200@www.flcduluth.org
SUMMARY:Private Organ Lesson
DESCRIPTION:
URL:https://www.flcduluth.org/event/private-organ-lesson-2/2021-12-18/
LOCATION:First Lutheran Church\, 1100 E. Superior St.\, Duluth\, MN\, 55802\, United States
CATEGORIES:Music Rehearsal
END:VEVENT
BEGIN:VEVENT
DTSTART;TZID=America/Chicago:20211217T160000
DTEND;TZID=America/Chicago:20211217T170000
DTSTAMP:20260424T032822
CREATED:20211006T213931Z
LAST-MODIFIED:20211006T213931Z
UID:10000982-1639756800-1639760400@www.flcduluth.org
SUMMARY:Private Organ Lesson
DESCRIPTION:
URL:https://www.flcduluth.org/event/private-organ-lesson/2021-12-17/
LOCATION:First Lutheran Church\, 1100 E. Superior St.\, Duluth\, MN\, 55802\, United States
CATEGORIES:Music Rehearsal
END:VEVENT
BEGIN:VEVENT
DTSTART;TZID=America/Chicago:20211216T180000
DTEND;TZID=America/Chicago:20211216T190000
DTSTAMP:20260424T032822
CREATED:20211128T002309Z
LAST-MODIFIED:20211128T002309Z
UID:10001021-1639677600-1639681200@www.flcduluth.org
SUMMARY:District AA Meeting
DESCRIPTION:
URL:https://www.flcduluth.org/event/district-aa-meeting-2/
LOCATION:First Lutheran Church\, 1100 E. Superior St.\, Duluth\, MN\, 55802\, United States
CATEGORIES:Outside Group
END:VEVENT
BEGIN:VEVENT
DTSTART;TZID=America/Chicago:20211216T173000
DTEND;TZID=America/Chicago:20211216T183000
DTSTAMP:20260424T032822
CREATED:20211128T002447Z
LAST-MODIFIED:20211128T002447Z
UID:10001023-1639675800-1639679400@www.flcduluth.org
SUMMARY:Preparedness Team Meeting
DESCRIPTION:
URL:https://www.flcduluth.org/event/preparedness-team-meeting/
LOCATION:First Lutheran Church\, 1100 E. Superior St.\, Duluth\, MN\, 55802\, United States
CATEGORIES:Committee Meetings
END:VEVENT
END:VCALENDAR