BEGIN:VCALENDAR
VERSION:2.0
PRODID:-//First Lutheran Church - ECPv6.15.20//NONSGML v1.0//EN
CALSCALE:GREGORIAN
METHOD:PUBLISH
X-WR-CALNAME:First Lutheran Church
X-ORIGINAL-URL:https://www.flcduluth.org
X-WR-CALDESC:Events for First Lutheran Church
REFRESH-INTERVAL;VALUE=DURATION:PT1H
X-Robots-Tag:noindex
X-PUBLISHED-TTL:PT1H
BEGIN:VTIMEZONE
TZID:America/Chicago
BEGIN:DAYLIGHT
TZOFFSETFROM:-0600
TZOFFSETTO:-0500
TZNAME:CDT
DTSTART:20200308T080000
END:DAYLIGHT
BEGIN:STANDARD
TZOFFSETFROM:-0500
TZOFFSETTO:-0600
TZNAME:CST
DTSTART:20201101T070000
END:STANDARD
BEGIN:DAYLIGHT
TZOFFSETFROM:-0600
TZOFFSETTO:-0500
TZNAME:CDT
DTSTART:20210314T080000
END:DAYLIGHT
BEGIN:STANDARD
TZOFFSETFROM:-0500
TZOFFSETTO:-0600
TZNAME:CST
DTSTART:20211107T070000
END:STANDARD
BEGIN:DAYLIGHT
TZOFFSETFROM:-0600
TZOFFSETTO:-0500
TZNAME:CDT
DTSTART:20220313T080000
END:DAYLIGHT
BEGIN:STANDARD
TZOFFSETFROM:-0500
TZOFFSETTO:-0600
TZNAME:CST
DTSTART:20221106T070000
END:STANDARD
END:VTIMEZONE
BEGIN:VEVENT
DTSTART;TZID=America/Chicago:20211211T100000
DTEND;TZID=America/Chicago:20211211T110000
DTSTAMP:20260424T075432
CREATED:20211006T214126Z
LAST-MODIFIED:20211006T214126Z
UID:10000993-1639216800-1639220400@www.flcduluth.org
SUMMARY:Private Organ Lesson
DESCRIPTION:
URL:https://www.flcduluth.org/event/private-organ-lesson-2/2021-12-11/
LOCATION:First Lutheran Church\, 1100 E. Superior St.\, Duluth\, MN\, 55802\, United States
CATEGORIES:Music Rehearsal
END:VEVENT
BEGIN:VEVENT
DTSTART;TZID=America/Chicago:20211210T160000
DTEND;TZID=America/Chicago:20211210T170000
DTSTAMP:20260424T075432
CREATED:20211006T213931Z
LAST-MODIFIED:20211006T213931Z
UID:10000981-1639152000-1639155600@www.flcduluth.org
SUMMARY:Private Organ Lesson
DESCRIPTION:
URL:https://www.flcduluth.org/event/private-organ-lesson/2021-12-10/
LOCATION:First Lutheran Church\, 1100 E. Superior St.\, Duluth\, MN\, 55802\, United States
CATEGORIES:Music Rehearsal
END:VEVENT
BEGIN:VEVENT
DTSTART;TZID=America/Chicago:20211209T070000
DTEND;TZID=America/Chicago:20211209T090000
DTSTAMP:20260424T075432
CREATED:20211006T213141Z
LAST-MODIFIED:20211006T213141Z
UID:10000942-1639033200-1639040400@www.flcduluth.org
SUMMARY:Men's Group
DESCRIPTION:
URL:https://www.flcduluth.org/event/mens-group/2021-12-09/
LOCATION:First Lutheran Church\, 1100 E. Superior St.\, Duluth\, MN\, 55802\, United States
CATEGORIES:Men's Ministry
END:VEVENT
BEGIN:VEVENT
DTSTART;TZID=America/Chicago:20211208T180000
DTEND;TZID=America/Chicago:20211208T200000
DTSTAMP:20260424T075432
CREATED:20211128T001608Z
LAST-MODIFIED:20211128T001608Z
UID:10001424-1638986400-1638993600@www.flcduluth.org
SUMMARY:FLC Band Concert
DESCRIPTION:
URL:https://www.flcduluth.org/event/flc-band-concert/
LOCATION:First Lutheran Church\, 1100 E. Superior St.\, Duluth\, MN\, 55802\, United States
CATEGORIES:Music Rehearsal
END:VEVENT
BEGIN:VEVENT
DTSTART;TZID=America/Chicago:20211207T190000
DTEND;TZID=America/Chicago:20211207T210000
DTSTAMP:20260424T075432
CREATED:20211128T001156Z
LAST-MODIFIED:20211128T001156Z
UID:10000261-1638903600-1638910800@www.flcduluth.org
SUMMARY:FLC Band Rehearsal
DESCRIPTION:
URL:https://www.flcduluth.org/event/flc-band-rehearsal/
LOCATION:First Lutheran Church\, 1100 E. Superior St.\, Duluth\, MN\, 55802\, United States
CATEGORIES:Music Rehearsal
END:VEVENT
BEGIN:VEVENT
DTSTART;TZID=America/Chicago:20211207T113000
DTEND;TZID=America/Chicago:20211207T130000
DTSTAMP:20260424T075432
CREATED:20211112T194157Z
LAST-MODIFIED:20211112T194157Z
UID:10000239-1638876600-1638882000@www.flcduluth.org
SUMMARY:Book Group
DESCRIPTION:Love without Limits
URL:https://www.flcduluth.org/event/book-group/2021-12-07/
LOCATION:First Lutheran Church\, 1100 E. Superior St.\, Duluth\, MN\, 55802\, United States
CATEGORIES:Book Group
END:VEVENT
BEGIN:VEVENT
DTSTART;TZID=America/Chicago:20211204T100000
DTEND;TZID=America/Chicago:20211204T110000
DTSTAMP:20260424T075432
CREATED:20211006T214126Z
LAST-MODIFIED:20211006T214126Z
UID:10000992-1638612000-1638615600@www.flcduluth.org
SUMMARY:Private Organ Lesson
DESCRIPTION:
URL:https://www.flcduluth.org/event/private-organ-lesson-2/2021-12-04/
LOCATION:First Lutheran Church\, 1100 E. Superior St.\, Duluth\, MN\, 55802\, United States
CATEGORIES:Music Rehearsal
END:VEVENT
BEGIN:VEVENT
DTSTART;TZID=America/Chicago:20211203T160000
DTEND;TZID=America/Chicago:20211203T170000
DTSTAMP:20260424T075432
CREATED:20211006T213931Z
LAST-MODIFIED:20211006T213931Z
UID:10000980-1638547200-1638550800@www.flcduluth.org
SUMMARY:Private Organ Lesson
DESCRIPTION:
URL:https://www.flcduluth.org/event/private-organ-lesson/2021-12-03/
LOCATION:First Lutheran Church\, 1100 E. Superior St.\, Duluth\, MN\, 55802\, United States
CATEGORIES:Music Rehearsal
END:VEVENT
BEGIN:VEVENT
DTSTART;TZID=America/Chicago:20211202T070000
DTEND;TZID=America/Chicago:20211202T090000
DTSTAMP:20260424T075432
CREATED:20211006T213141Z
LAST-MODIFIED:20211006T213141Z
UID:10000941-1638428400-1638435600@www.flcduluth.org
SUMMARY:Men's Group
DESCRIPTION:
URL:https://www.flcduluth.org/event/mens-group/2021-12-02/
LOCATION:First Lutheran Church\, 1100 E. Superior St.\, Duluth\, MN\, 55802\, United States
CATEGORIES:Men's Ministry
END:VEVENT
BEGIN:VEVENT
DTSTART;TZID=America/Chicago:20211201T170000
DTEND;TZID=America/Chicago:20211201T190000
DTSTAMP:20260424T075432
CREATED:20211128T000607Z
LAST-MODIFIED:20211128T000607Z
UID:10000219-1638378000-1638385200@www.flcduluth.org
SUMMARY:Meatballs & Lefse
DESCRIPTION:Join us for meatballs & lefse\, a dozen meatballs for $20 and 10 lefse for $10.
URL:https://www.flcduluth.org/event/meatballs-lefse/
LOCATION:First Lutheran Church\, 1100 E. Superior St.\, Duluth\, MN\, 55802\, United States
END:VEVENT
BEGIN:VEVENT
DTSTART;TZID=America/Chicago:20211130T113000
DTEND;TZID=America/Chicago:20211130T130000
DTSTAMP:20260424T075432
CREATED:20211112T194157Z
LAST-MODIFIED:20211112T194157Z
UID:10000238-1638271800-1638277200@www.flcduluth.org
SUMMARY:Book Group
DESCRIPTION:Love without Limits
URL:https://www.flcduluth.org/event/book-group/2021-11-30/
LOCATION:First Lutheran Church\, 1100 E. Superior St.\, Duluth\, MN\, 55802\, United States
CATEGORIES:Book Group
END:VEVENT
BEGIN:VEVENT
DTSTART;TZID=America/Chicago:20211128T120000
DTEND;TZID=America/Chicago:20211128T133000
DTSTAMP:20260424T075432
CREATED:20211006T220134Z
LAST-MODIFIED:20211006T220134Z
UID:10000208-1638100800-1638106200@www.flcduluth.org
SUMMARY:Community Meal
DESCRIPTION:
URL:https://www.flcduluth.org/event/community-meal/2021-11-28/
LOCATION:First Lutheran Church\, 1100 E. Superior St.\, Duluth\, MN\, 55802\, United States
END:VEVENT
BEGIN:VEVENT
DTSTART;TZID=America/Chicago:20211127T100000
DTEND;TZID=America/Chicago:20211127T110000
DTSTAMP:20260424T075432
CREATED:20211006T214126Z
LAST-MODIFIED:20211006T214126Z
UID:10000991-1638007200-1638010800@www.flcduluth.org
SUMMARY:Private Organ Lesson
DESCRIPTION:
URL:https://www.flcduluth.org/event/private-organ-lesson-2/2021-11-27/
LOCATION:First Lutheran Church\, 1100 E. Superior St.\, Duluth\, MN\, 55802\, United States
CATEGORIES:Music Rehearsal
END:VEVENT
BEGIN:VEVENT
DTSTART;TZID=America/Chicago:20211126T160000
DTEND;TZID=America/Chicago:20211126T170000
DTSTAMP:20260424T075432
CREATED:20211006T213931Z
LAST-MODIFIED:20211006T213931Z
UID:10000979-1637942400-1637946000@www.flcduluth.org
SUMMARY:Private Organ Lesson
DESCRIPTION:
URL:https://www.flcduluth.org/event/private-organ-lesson/2021-11-26/
LOCATION:First Lutheran Church\, 1100 E. Superior St.\, Duluth\, MN\, 55802\, United States
CATEGORIES:Music Rehearsal
END:VEVENT
BEGIN:VEVENT
DTSTART;TZID=America/Chicago:20211125T083000
DTEND;TZID=America/Chicago:20211125T120000
DTSTAMP:20260424T075432
CREATED:20211112T195526Z
LAST-MODIFIED:20211112T195526Z
UID:10000217-1637829000-1637841600@www.flcduluth.org
SUMMARY:Gobble Gallop
DESCRIPTION:
URL:https://www.flcduluth.org/event/gobble-gallop/
LOCATION:First Lutheran Church\, 1100 E. Superior St.\, Duluth\, MN\, 55802\, United States
END:VEVENT
BEGIN:VEVENT
DTSTART;TZID=America/Chicago:20211125T070000
DTEND;TZID=America/Chicago:20211125T090000
DTSTAMP:20260424T075432
CREATED:20211006T213141Z
LAST-MODIFIED:20211006T213141Z
UID:10000940-1637823600-1637830800@www.flcduluth.org
SUMMARY:Men's Group
DESCRIPTION:
URL:https://www.flcduluth.org/event/mens-group/2021-11-25/
LOCATION:First Lutheran Church\, 1100 E. Superior St.\, Duluth\, MN\, 55802\, United States
CATEGORIES:Men's Ministry
END:VEVENT
BEGIN:VEVENT
DTSTART;TZID=America/Chicago:20211123T190000
DTEND;TZID=America/Chicago:20211123T210000
DTSTAMP:20260424T075432
CREATED:20211112T195404Z
LAST-MODIFIED:20211112T195404Z
UID:10000213-1637694000-1637701200@www.flcduluth.org
SUMMARY:Interfaith Thanksgiving Service
DESCRIPTION:
URL:https://www.flcduluth.org/event/interfaith-thanksgiving-service/
LOCATION:First Lutheran Church\, 1100 E. Superior St.\, Duluth\, MN\, 55802\, United States
CATEGORIES:Worship
END:VEVENT
BEGIN:VEVENT
DTSTART;TZID=America/Chicago:20211123T113000
DTEND;TZID=America/Chicago:20211123T130000
DTSTAMP:20260424T075432
CREATED:20211112T194157Z
LAST-MODIFIED:20211112T194157Z
UID:10000237-1637667000-1637672400@www.flcduluth.org
SUMMARY:Book Group
DESCRIPTION:Love without Limits
URL:https://www.flcduluth.org/event/book-group/2021-11-23/
LOCATION:First Lutheran Church\, 1100 E. Superior St.\, Duluth\, MN\, 55802\, United States
CATEGORIES:Book Group
END:VEVENT
BEGIN:VEVENT
DTSTART;TZID=America/Chicago:20211120T100000
DTEND;TZID=America/Chicago:20211120T110000
DTSTAMP:20260424T075432
CREATED:20211006T214126Z
LAST-MODIFIED:20211006T214126Z
UID:10000990-1637402400-1637406000@www.flcduluth.org
SUMMARY:Private Organ Lesson
DESCRIPTION:
URL:https://www.flcduluth.org/event/private-organ-lesson-2/2021-11-20/
LOCATION:First Lutheran Church\, 1100 E. Superior St.\, Duluth\, MN\, 55802\, United States
CATEGORIES:Music Rehearsal
END:VEVENT
BEGIN:VEVENT
DTSTART;TZID=America/Chicago:20211119T170000
DTEND;TZID=America/Chicago:20211119T220000
DTSTAMP:20260424T075432
CREATED:20211112T194739Z
LAST-MODIFIED:20211112T194739Z
UID:10000205-1637341200-1637359200@www.flcduluth.org
SUMMARY:Christmas City of the North Parade
DESCRIPTION:Staging area for the Christmas City of the North Parade 5pm until complete.
URL:https://www.flcduluth.org/event/christmas-city-of-the-north-parade/
LOCATION:First Lutheran Church\, 1100 E. Superior St.\, Duluth\, MN\, 55802\, United States
CATEGORIES:Outside Group
END:VEVENT
BEGIN:VEVENT
DTSTART;TZID=America/Chicago:20211119T160000
DTEND;TZID=America/Chicago:20211119T170000
DTSTAMP:20260424T075432
CREATED:20211006T213931Z
LAST-MODIFIED:20211006T213931Z
UID:10000978-1637337600-1637341200@www.flcduluth.org
SUMMARY:Private Organ Lesson
DESCRIPTION:
URL:https://www.flcduluth.org/event/private-organ-lesson/2021-11-19/
LOCATION:First Lutheran Church\, 1100 E. Superior St.\, Duluth\, MN\, 55802\, United States
CATEGORIES:Music Rehearsal
END:VEVENT
BEGIN:VEVENT
DTSTART;TZID=America/Chicago:20211118T180000
DTEND;TZID=America/Chicago:20211118T203000
DTSTAMP:20260424T075432
CREATED:20211112T194621Z
LAST-MODIFIED:20211112T194621Z
UID:10000202-1637258400-1637267400@www.flcduluth.org
SUMMARY:Arrowhead Rehearsal
DESCRIPTION:
URL:https://www.flcduluth.org/event/arrowhead-rehearsal-2/
LOCATION:First Lutheran Church\, 1100 E. Superior St.\, Duluth\, MN\, 55802\, United States
CATEGORIES:Music Rehearsal
END:VEVENT
BEGIN:VEVENT
DTSTART;TZID=America/Chicago:20211118T180000
DTEND;TZID=America/Chicago:20211118T200000
DTSTAMP:20260424T075432
CREATED:20211112T194504Z
LAST-MODIFIED:20211112T194504Z
UID:10000200-1637258400-1637265600@www.flcduluth.org
SUMMARY:District AA Meeting
DESCRIPTION:
URL:https://www.flcduluth.org/event/district-aa-meeting/
LOCATION:First Lutheran Church\, 1100 E. Superior St.\, Duluth\, MN\, 55802\, United States
CATEGORIES:Outside Group
END:VEVENT
BEGIN:VEVENT
DTSTART;TZID=America/Chicago:20211118T170000
DTEND;TZID=America/Chicago:20211118T183000
DTSTAMP:20260424T075432
CREATED:20211112T194300Z
LAST-MODIFIED:20211112T194300Z
UID:10000260-1637254800-1637260200@www.flcduluth.org
SUMMARY:Finance Committee
DESCRIPTION:
URL:https://www.flcduluth.org/event/finance-committee/
LOCATION:First Lutheran Church\, 1100 E. Superior St.\, Duluth\, MN\, 55802\, United States
CATEGORIES:Committee Meetings
END:VEVENT
BEGIN:VEVENT
DTSTART;TZID=America/Chicago:20211118T070000
DTEND;TZID=America/Chicago:20211118T090000
DTSTAMP:20260424T075432
CREATED:20211006T213141Z
LAST-MODIFIED:20211006T213141Z
UID:10000939-1637218800-1637226000@www.flcduluth.org
SUMMARY:Men's Group
DESCRIPTION:
URL:https://www.flcduluth.org/event/mens-group/2021-11-18/
LOCATION:First Lutheran Church\, 1100 E. Superior St.\, Duluth\, MN\, 55802\, United States
CATEGORIES:Men's Ministry
END:VEVENT
BEGIN:VEVENT
DTSTART;TZID=America/Chicago:20211116T113000
DTEND;TZID=America/Chicago:20211116T130000
DTSTAMP:20260424T075432
CREATED:20211112T194157Z
LAST-MODIFIED:20211112T194157Z
UID:10000236-1637062200-1637067600@www.flcduluth.org
SUMMARY:Book Group
DESCRIPTION:Love without Limits
URL:https://www.flcduluth.org/event/book-group/2021-11-16/
LOCATION:First Lutheran Church\, 1100 E. Superior St.\, Duluth\, MN\, 55802\, United States
CATEGORIES:Book Group
END:VEVENT
BEGIN:VEVENT
DTSTART;TZID=America/Chicago:20211113T190000
DTEND;TZID=America/Chicago:20211113T220000
DTSTAMP:20260424T075432
CREATED:20211112T193359Z
LAST-MODIFIED:20211112T193359Z
UID:10000220-1636830000-1636840800@www.flcduluth.org
SUMMARY:Twin Ports Choral Project Concert
DESCRIPTION:
URL:https://www.flcduluth.org/event/twin-ports-choral-project-concert/
LOCATION:First Lutheran Church\, 1100 E. Superior St.\, Duluth\, MN\, 55802\, United States
CATEGORIES:Outside Group
END:VEVENT
BEGIN:VEVENT
DTSTART;TZID=America/Chicago:20211113T110000
DTEND;TZID=America/Chicago:20211113T123000
DTSTAMP:20260424T075432
CREATED:20211112T193309Z
LAST-MODIFIED:20211112T193309Z
UID:10000215-1636801200-1636806600@www.flcduluth.org
SUMMARY:Arrowhead Rehearsal
DESCRIPTION:
URL:https://www.flcduluth.org/event/arrowhead-rehearsal/
LOCATION:First Lutheran Church\, 1100 E. Superior St.\, Duluth\, MN\, 55802\, United States
CATEGORIES:Outside Group
END:VEVENT
BEGIN:VEVENT
DTSTART;TZID=America/Chicago:20211113T100000
DTEND;TZID=America/Chicago:20211113T110000
DTSTAMP:20260424T075432
CREATED:20211006T214126Z
LAST-MODIFIED:20211006T214126Z
UID:10000989-1636797600-1636801200@www.flcduluth.org
SUMMARY:Private Organ Lesson
DESCRIPTION:
URL:https://www.flcduluth.org/event/private-organ-lesson-2/2021-11-13/
LOCATION:First Lutheran Church\, 1100 E. Superior St.\, Duluth\, MN\, 55802\, United States
CATEGORIES:Music Rehearsal
END:VEVENT
BEGIN:VEVENT
DTSTART;TZID=America/Chicago:20211112T190000
DTEND;TZID=America/Chicago:20211112T220000
DTSTAMP:20260424T075432
CREATED:20211112T193011Z
LAST-MODIFIED:20211112T193011Z
UID:10000212-1636743600-1636754400@www.flcduluth.org
SUMMARY:Twin Port Choral Project Concert
DESCRIPTION:
URL:https://www.flcduluth.org/event/twin-port-choral-project-concert/
LOCATION:First Lutheran Church\, 1100 E. Superior St.\, Duluth\, MN\, 55802\, United States
CATEGORIES:Outside Group
END:VEVENT
END:VCALENDAR