BEGIN:VCALENDAR
VERSION:2.0
PRODID:-//First Lutheran Church - ECPv6.15.20//NONSGML v1.0//EN
CALSCALE:GREGORIAN
METHOD:PUBLISH
X-ORIGINAL-URL:https://www.flcduluth.org
X-WR-CALDESC:Events for First Lutheran Church
REFRESH-INTERVAL;VALUE=DURATION:PT1H
X-Robots-Tag:noindex
X-PUBLISHED-TTL:PT1H
BEGIN:VTIMEZONE
TZID:America/Chicago
BEGIN:DAYLIGHT
TZOFFSETFROM:-0600
TZOFFSETTO:-0500
TZNAME:CDT
DTSTART:20220313T080000
END:DAYLIGHT
BEGIN:STANDARD
TZOFFSETFROM:-0500
TZOFFSETTO:-0600
TZNAME:CST
DTSTART:20221106T070000
END:STANDARD
BEGIN:DAYLIGHT
TZOFFSETFROM:-0600
TZOFFSETTO:-0500
TZNAME:CDT
DTSTART:20230312T080000
END:DAYLIGHT
BEGIN:STANDARD
TZOFFSETFROM:-0500
TZOFFSETTO:-0600
TZNAME:CST
DTSTART:20231105T070000
END:STANDARD
BEGIN:DAYLIGHT
TZOFFSETFROM:-0600
TZOFFSETTO:-0500
TZNAME:CDT
DTSTART:20240310T080000
END:DAYLIGHT
BEGIN:STANDARD
TZOFFSETFROM:-0500
TZOFFSETTO:-0600
TZNAME:CST
DTSTART:20241103T070000
END:STANDARD
END:VTIMEZONE
BEGIN:VEVENT
DTSTART;TZID=America/Chicago:20230416T180000
DTEND;TZID=America/Chicago:20230416T193000
DTSTAMP:20260423T200729
CREATED:20230110T215355Z
LAST-MODIFIED:20230110T215449Z
UID:10002137-1681668000-1681673400@www.flcduluth.org
SUMMARY:Confirmation
DESCRIPTION:
URL:https://www.flcduluth.org/event/confirmation-6/2023-04-16/
LOCATION:First Lutheran Church\, 1100 E. Superior St.\, Duluth\, MN\, 55802\, United States
CATEGORIES:Confirmation,Youth Ministry
END:VEVENT
BEGIN:VEVENT
DTSTART;TZID=America/Chicago:20230416T180000
DTEND;TZID=America/Chicago:20230416T193000
DTSTAMP:20260423T200729
CREATED:20230110T215158Z
LAST-MODIFIED:20230110T215530Z
UID:10002065-1681668000-1681673400@www.flcduluth.org
SUMMARY:Middle School Youth Group
DESCRIPTION:
URL:https://www.flcduluth.org/event/middle-school-youth-group-2/2023-04-16/
LOCATION:First Lutheran Church\, 1100 E. Superior St.\, Duluth\, MN\, 55802\, United States
CATEGORIES:Youth Ministry
END:VEVENT
BEGIN:VEVENT
DTSTART;TZID=America/Chicago:20230416T110000
DTEND;TZID=America/Chicago:20230416T120000
DTSTAMP:20260423T200729
CREATED:20230110T215041Z
LAST-MODIFIED:20230110T215608Z
UID:10001993-1681642800-1681646400@www.flcduluth.org
SUMMARY:Worship
DESCRIPTION:
URL:https://www.flcduluth.org/event/worship-6/2023-04-16/
LOCATION:First Lutheran Church\, 1100 E. Superior St.\, Duluth\, MN\, 55802\, United States
CATEGORIES:Worship
END:VEVENT
BEGIN:VEVENT
DTSTART;TZID=America/Chicago:20230416T083000
DTEND;TZID=America/Chicago:20230416T093000
DTSTAMP:20260423T200729
CREATED:20230110T214941Z
LAST-MODIFIED:20230110T215643Z
UID:10001921-1681633800-1681637400@www.flcduluth.org
SUMMARY:Worship
DESCRIPTION:
URL:https://www.flcduluth.org/event/worship-5/2023-04-16/
LOCATION:First Lutheran Church\, 1100 E. Superior St.\, Duluth\, MN\, 55802\, United States
CATEGORIES:Worship
END:VEVENT
BEGIN:VEVENT
DTSTART;TZID=America/Chicago:20230409T180000
DTEND;TZID=America/Chicago:20230409T193000
DTSTAMP:20260423T200729
CREATED:20230110T215355Z
LAST-MODIFIED:20230110T215449Z
UID:10002136-1681063200-1681068600@www.flcduluth.org
SUMMARY:Confirmation
DESCRIPTION:
URL:https://www.flcduluth.org/event/confirmation-6/2023-04-09/
LOCATION:First Lutheran Church\, 1100 E. Superior St.\, Duluth\, MN\, 55802\, United States
CATEGORIES:Confirmation,Youth Ministry
END:VEVENT
BEGIN:VEVENT
DTSTART;TZID=America/Chicago:20230409T180000
DTEND;TZID=America/Chicago:20230409T193000
DTSTAMP:20260423T200730
CREATED:20230110T215158Z
LAST-MODIFIED:20230110T215530Z
UID:10002064-1681063200-1681068600@www.flcduluth.org
SUMMARY:Middle School Youth Group
DESCRIPTION:
URL:https://www.flcduluth.org/event/middle-school-youth-group-2/2023-04-09/
LOCATION:First Lutheran Church\, 1100 E. Superior St.\, Duluth\, MN\, 55802\, United States
CATEGORIES:Youth Ministry
END:VEVENT
BEGIN:VEVENT
DTSTART;TZID=America/Chicago:20230409T110000
DTEND;TZID=America/Chicago:20230409T120000
DTSTAMP:20260423T200730
CREATED:20230110T215041Z
LAST-MODIFIED:20230110T215608Z
UID:10001992-1681038000-1681041600@www.flcduluth.org
SUMMARY:Worship
DESCRIPTION:
URL:https://www.flcduluth.org/event/worship-6/2023-04-09/
LOCATION:First Lutheran Church\, 1100 E. Superior St.\, Duluth\, MN\, 55802\, United States
CATEGORIES:Worship
END:VEVENT
BEGIN:VEVENT
DTSTART;TZID=America/Chicago:20230409T083000
DTEND;TZID=America/Chicago:20230409T093000
DTSTAMP:20260423T200730
CREATED:20230110T214941Z
LAST-MODIFIED:20230110T215643Z
UID:10001920-1681029000-1681032600@www.flcduluth.org
SUMMARY:Worship
DESCRIPTION:
URL:https://www.flcduluth.org/event/worship-5/2023-04-09/
LOCATION:First Lutheran Church\, 1100 E. Superior St.\, Duluth\, MN\, 55802\, United States
CATEGORIES:Worship
END:VEVENT
BEGIN:VEVENT
DTSTART;TZID=America/Chicago:20230403T190000
DTEND;TZID=America/Chicago:20230403T203000
DTSTAMP:20260423T200730
CREATED:20230201T213018Z
LAST-MODIFIED:20230201T213018Z
UID:10003970-1680548400-1680553800@www.flcduluth.org
SUMMARY:Ruth Gathering
DESCRIPTION:
URL:https://www.flcduluth.org/event/ruth-gathering-3/2023-04-03/
LOCATION:First Lutheran Church\, 1100 E. Superior St.\, Duluth\, MN\, 55802\, United States
CATEGORIES:Women's Ministry
END:VEVENT
BEGIN:VEVENT
DTSTART;TZID=America/Chicago:20230402T180000
DTEND;TZID=America/Chicago:20230402T193000
DTSTAMP:20260423T200730
CREATED:20230110T215355Z
LAST-MODIFIED:20230110T215449Z
UID:10002135-1680458400-1680463800@www.flcduluth.org
SUMMARY:Confirmation
DESCRIPTION:
URL:https://www.flcduluth.org/event/confirmation-6/2023-04-02/
LOCATION:First Lutheran Church\, 1100 E. Superior St.\, Duluth\, MN\, 55802\, United States
CATEGORIES:Confirmation,Youth Ministry
END:VEVENT
BEGIN:VEVENT
DTSTART;TZID=America/Chicago:20230402T180000
DTEND;TZID=America/Chicago:20230402T193000
DTSTAMP:20260423T200730
CREATED:20230110T215158Z
LAST-MODIFIED:20230110T215530Z
UID:10002063-1680458400-1680463800@www.flcduluth.org
SUMMARY:Middle School Youth Group
DESCRIPTION:
URL:https://www.flcduluth.org/event/middle-school-youth-group-2/2023-04-02/
LOCATION:First Lutheran Church\, 1100 E. Superior St.\, Duluth\, MN\, 55802\, United States
CATEGORIES:Youth Ministry
END:VEVENT
BEGIN:VEVENT
DTSTART;TZID=America/Chicago:20230402T110000
DTEND;TZID=America/Chicago:20230402T120000
DTSTAMP:20260423T200730
CREATED:20230110T215041Z
LAST-MODIFIED:20230110T215608Z
UID:10001991-1680433200-1680436800@www.flcduluth.org
SUMMARY:Worship
DESCRIPTION:
URL:https://www.flcduluth.org/event/worship-6/2023-04-02/
LOCATION:First Lutheran Church\, 1100 E. Superior St.\, Duluth\, MN\, 55802\, United States
CATEGORIES:Worship
END:VEVENT
BEGIN:VEVENT
DTSTART;TZID=America/Chicago:20230402T083000
DTEND;TZID=America/Chicago:20230402T093000
DTSTAMP:20260423T200730
CREATED:20230110T214941Z
LAST-MODIFIED:20230110T215643Z
UID:10001919-1680424200-1680427800@www.flcduluth.org
SUMMARY:Worship
DESCRIPTION:
URL:https://www.flcduluth.org/event/worship-5/2023-04-02/
LOCATION:First Lutheran Church\, 1100 E. Superior St.\, Duluth\, MN\, 55802\, United States
CATEGORIES:Worship
END:VEVENT
BEGIN:VEVENT
DTSTART;TZID=America/Chicago:20230326T180000
DTEND;TZID=America/Chicago:20230326T193000
DTSTAMP:20260423T200730
CREATED:20230110T215355Z
LAST-MODIFIED:20230110T215449Z
UID:10002134-1679853600-1679859000@www.flcduluth.org
SUMMARY:Confirmation
DESCRIPTION:
URL:https://www.flcduluth.org/event/confirmation-6/2023-03-26/
LOCATION:First Lutheran Church\, 1100 E. Superior St.\, Duluth\, MN\, 55802\, United States
CATEGORIES:Confirmation,Youth Ministry
END:VEVENT
BEGIN:VEVENT
DTSTART;TZID=America/Chicago:20230326T180000
DTEND;TZID=America/Chicago:20230326T193000
DTSTAMP:20260423T200730
CREATED:20230110T215158Z
LAST-MODIFIED:20230110T215530Z
UID:10002062-1679853600-1679859000@www.flcduluth.org
SUMMARY:Middle School Youth Group
DESCRIPTION:
URL:https://www.flcduluth.org/event/middle-school-youth-group-2/2023-03-26/
LOCATION:First Lutheran Church\, 1100 E. Superior St.\, Duluth\, MN\, 55802\, United States
CATEGORIES:Youth Ministry
END:VEVENT
BEGIN:VEVENT
DTSTART;TZID=America/Chicago:20230326T110000
DTEND;TZID=America/Chicago:20230326T120000
DTSTAMP:20260423T200730
CREATED:20230110T215041Z
LAST-MODIFIED:20230110T215608Z
UID:10001990-1679828400-1679832000@www.flcduluth.org
SUMMARY:Worship
DESCRIPTION:
URL:https://www.flcduluth.org/event/worship-6/2023-03-26/
LOCATION:First Lutheran Church\, 1100 E. Superior St.\, Duluth\, MN\, 55802\, United States
CATEGORIES:Worship
END:VEVENT
BEGIN:VEVENT
DTSTART;TZID=America/Chicago:20230326T083000
DTEND;TZID=America/Chicago:20230326T093000
DTSTAMP:20260423T200730
CREATED:20230110T214941Z
LAST-MODIFIED:20230110T215643Z
UID:10001918-1679819400-1679823000@www.flcduluth.org
SUMMARY:Worship
DESCRIPTION:
URL:https://www.flcduluth.org/event/worship-5/2023-03-26/
LOCATION:First Lutheran Church\, 1100 E. Superior St.\, Duluth\, MN\, 55802\, United States
CATEGORIES:Worship
END:VEVENT
BEGIN:VEVENT
DTSTART;TZID=America/Chicago:20230319T180000
DTEND;TZID=America/Chicago:20230319T193000
DTSTAMP:20260423T200730
CREATED:20230110T215355Z
LAST-MODIFIED:20230110T215449Z
UID:10002133-1679248800-1679254200@www.flcduluth.org
SUMMARY:Confirmation
DESCRIPTION:
URL:https://www.flcduluth.org/event/confirmation-6/2023-03-19/
LOCATION:First Lutheran Church\, 1100 E. Superior St.\, Duluth\, MN\, 55802\, United States
CATEGORIES:Confirmation,Youth Ministry
END:VEVENT
BEGIN:VEVENT
DTSTART;TZID=America/Chicago:20230319T180000
DTEND;TZID=America/Chicago:20230319T193000
DTSTAMP:20260423T200730
CREATED:20230110T215158Z
LAST-MODIFIED:20230110T215530Z
UID:10002061-1679248800-1679254200@www.flcduluth.org
SUMMARY:Middle School Youth Group
DESCRIPTION:
URL:https://www.flcduluth.org/event/middle-school-youth-group-2/2023-03-19/
LOCATION:First Lutheran Church\, 1100 E. Superior St.\, Duluth\, MN\, 55802\, United States
CATEGORIES:Youth Ministry
END:VEVENT
BEGIN:VEVENT
DTSTART;TZID=America/Chicago:20230319T110000
DTEND;TZID=America/Chicago:20230319T120000
DTSTAMP:20260423T200730
CREATED:20230110T215041Z
LAST-MODIFIED:20230110T215608Z
UID:10001989-1679223600-1679227200@www.flcduluth.org
SUMMARY:Worship
DESCRIPTION:
URL:https://www.flcduluth.org/event/worship-6/2023-03-19/
LOCATION:First Lutheran Church\, 1100 E. Superior St.\, Duluth\, MN\, 55802\, United States
CATEGORIES:Worship
END:VEVENT
BEGIN:VEVENT
DTSTART;TZID=America/Chicago:20230319T083000
DTEND;TZID=America/Chicago:20230319T093000
DTSTAMP:20260423T200730
CREATED:20230110T214941Z
LAST-MODIFIED:20230110T215643Z
UID:10001917-1679214600-1679218200@www.flcduluth.org
SUMMARY:Worship
DESCRIPTION:
URL:https://www.flcduluth.org/event/worship-5/2023-03-19/
LOCATION:First Lutheran Church\, 1100 E. Superior St.\, Duluth\, MN\, 55802\, United States
CATEGORIES:Worship
END:VEVENT
BEGIN:VEVENT
DTSTART;TZID=America/Chicago:20230312T180000
DTEND;TZID=America/Chicago:20230312T193000
DTSTAMP:20260423T200730
CREATED:20230110T215355Z
LAST-MODIFIED:20230110T215449Z
UID:10002132-1678644000-1678649400@www.flcduluth.org
SUMMARY:Confirmation
DESCRIPTION:
URL:https://www.flcduluth.org/event/confirmation-6/2023-03-12/
LOCATION:First Lutheran Church\, 1100 E. Superior St.\, Duluth\, MN\, 55802\, United States
CATEGORIES:Confirmation,Youth Ministry
END:VEVENT
BEGIN:VEVENT
DTSTART;TZID=America/Chicago:20230312T180000
DTEND;TZID=America/Chicago:20230312T193000
DTSTAMP:20260423T200730
CREATED:20230110T215158Z
LAST-MODIFIED:20230110T215530Z
UID:10002060-1678644000-1678649400@www.flcduluth.org
SUMMARY:Middle School Youth Group
DESCRIPTION:
URL:https://www.flcduluth.org/event/middle-school-youth-group-2/2023-03-12/
LOCATION:First Lutheran Church\, 1100 E. Superior St.\, Duluth\, MN\, 55802\, United States
CATEGORIES:Youth Ministry
END:VEVENT
BEGIN:VEVENT
DTSTART;TZID=America/Chicago:20230312T110000
DTEND;TZID=America/Chicago:20230312T120000
DTSTAMP:20260423T200730
CREATED:20230110T215041Z
LAST-MODIFIED:20230110T215608Z
UID:10001988-1678618800-1678622400@www.flcduluth.org
SUMMARY:Worship
DESCRIPTION:
URL:https://www.flcduluth.org/event/worship-6/2023-03-12/
LOCATION:First Lutheran Church\, 1100 E. Superior St.\, Duluth\, MN\, 55802\, United States
CATEGORIES:Worship
END:VEVENT
BEGIN:VEVENT
DTSTART;TZID=America/Chicago:20230312T083000
DTEND;TZID=America/Chicago:20230312T093000
DTSTAMP:20260423T200730
CREATED:20230110T214941Z
LAST-MODIFIED:20230110T215643Z
UID:10001916-1678609800-1678613400@www.flcduluth.org
SUMMARY:Worship
DESCRIPTION:
URL:https://www.flcduluth.org/event/worship-5/2023-03-12/
LOCATION:First Lutheran Church\, 1100 E. Superior St.\, Duluth\, MN\, 55802\, United States
CATEGORIES:Worship
END:VEVENT
BEGIN:VEVENT
DTSTART;TZID=America/Chicago:20230306T190000
DTEND;TZID=America/Chicago:20230306T203000
DTSTAMP:20260423T200730
CREATED:20230201T213018Z
LAST-MODIFIED:20230201T213018Z
UID:10003969-1678129200-1678134600@www.flcduluth.org
SUMMARY:Ruth Gathering
DESCRIPTION:
URL:https://www.flcduluth.org/event/ruth-gathering-3/2023-03-06/
LOCATION:First Lutheran Church\, 1100 E. Superior St.\, Duluth\, MN\, 55802\, United States
CATEGORIES:Women's Ministry
END:VEVENT
BEGIN:VEVENT
DTSTART;TZID=America/Chicago:20230305T180000
DTEND;TZID=America/Chicago:20230305T193000
DTSTAMP:20260423T200730
CREATED:20230110T215355Z
LAST-MODIFIED:20230110T215449Z
UID:10002131-1678039200-1678044600@www.flcduluth.org
SUMMARY:Confirmation
DESCRIPTION:
URL:https://www.flcduluth.org/event/confirmation-6/2023-03-05/
LOCATION:First Lutheran Church\, 1100 E. Superior St.\, Duluth\, MN\, 55802\, United States
CATEGORIES:Confirmation,Youth Ministry
END:VEVENT
BEGIN:VEVENT
DTSTART;TZID=America/Chicago:20230305T180000
DTEND;TZID=America/Chicago:20230305T193000
DTSTAMP:20260423T200730
CREATED:20230110T215158Z
LAST-MODIFIED:20230110T215530Z
UID:10002059-1678039200-1678044600@www.flcduluth.org
SUMMARY:Middle School Youth Group
DESCRIPTION:
URL:https://www.flcduluth.org/event/middle-school-youth-group-2/2023-03-05/
LOCATION:First Lutheran Church\, 1100 E. Superior St.\, Duluth\, MN\, 55802\, United States
CATEGORIES:Youth Ministry
END:VEVENT
BEGIN:VEVENT
DTSTART;TZID=America/Chicago:20230305T110000
DTEND;TZID=America/Chicago:20230305T120000
DTSTAMP:20260423T200730
CREATED:20230110T215041Z
LAST-MODIFIED:20230110T215608Z
UID:10001987-1678014000-1678017600@www.flcduluth.org
SUMMARY:Worship
DESCRIPTION:
URL:https://www.flcduluth.org/event/worship-6/2023-03-05/
LOCATION:First Lutheran Church\, 1100 E. Superior St.\, Duluth\, MN\, 55802\, United States
CATEGORIES:Worship
END:VEVENT
BEGIN:VEVENT
DTSTART;TZID=America/Chicago:20230305T083000
DTEND;TZID=America/Chicago:20230305T093000
DTSTAMP:20260423T200730
CREATED:20230110T214941Z
LAST-MODIFIED:20230110T215643Z
UID:10001915-1678005000-1678008600@www.flcduluth.org
SUMMARY:Worship
DESCRIPTION:
URL:https://www.flcduluth.org/event/worship-5/2023-03-05/
LOCATION:First Lutheran Church\, 1100 E. Superior St.\, Duluth\, MN\, 55802\, United States
CATEGORIES:Worship
END:VEVENT
END:VCALENDAR