BEGIN:VCALENDAR
VERSION:2.0
PRODID:-//First Lutheran Church - ECPv6.15.20//NONSGML v1.0//EN
CALSCALE:GREGORIAN
METHOD:PUBLISH
X-ORIGINAL-URL:https://www.flcduluth.org
X-WR-CALDESC:Events for First Lutheran Church
REFRESH-INTERVAL;VALUE=DURATION:PT1H
X-Robots-Tag:noindex
X-PUBLISHED-TTL:PT1H
BEGIN:VTIMEZONE
TZID:America/Chicago
BEGIN:DAYLIGHT
TZOFFSETFROM:-0600
TZOFFSETTO:-0500
TZNAME:CDT
DTSTART:20210314T080000
END:DAYLIGHT
BEGIN:STANDARD
TZOFFSETFROM:-0500
TZOFFSETTO:-0600
TZNAME:CST
DTSTART:20211107T070000
END:STANDARD
BEGIN:DAYLIGHT
TZOFFSETFROM:-0600
TZOFFSETTO:-0500
TZNAME:CDT
DTSTART:20220313T080000
END:DAYLIGHT
BEGIN:STANDARD
TZOFFSETFROM:-0500
TZOFFSETTO:-0600
TZNAME:CST
DTSTART:20221106T070000
END:STANDARD
BEGIN:DAYLIGHT
TZOFFSETFROM:-0600
TZOFFSETTO:-0500
TZNAME:CDT
DTSTART:20230312T080000
END:DAYLIGHT
BEGIN:STANDARD
TZOFFSETFROM:-0500
TZOFFSETTO:-0600
TZNAME:CST
DTSTART:20231105T070000
END:STANDARD
END:VTIMEZONE
BEGIN:VEVENT
DTSTART;TZID=America/Chicago:20220712T200000
DTEND;TZID=America/Chicago:20220712T220000
DTSTAMP:20260424T014159
CREATED:20220629T143754Z
LAST-MODIFIED:20220629T143754Z
UID:10000640-1657656000-1657663200@www.flcduluth.org
SUMMARY:FLC Flyers Softball Game
DESCRIPTION:Join us tonight to cheer on the team at Wheeler Field #1 at 8:00pm. If you are able to play\, let Vic Krause know in advance or come to cheer us on! Hope to see you there! GO FLYERS!!
URL:https://www.flcduluth.org/event/flc-flyers-softball-game-2/
LOCATION:Wheeler Field\, 3501 Grand Ave\, Duluth\, MN\, 55807\, United States
END:VEVENT
BEGIN:VEVENT
DTSTART;TZID=America/Chicago:20220705T190000
DTEND;TZID=America/Chicago:20220705T210000
DTSTAMP:20260424T014159
CREATED:20220629T143705Z
LAST-MODIFIED:20220629T143705Z
UID:10000637-1657047600-1657054800@www.flcduluth.org
SUMMARY:FLC Flyers Softball Game
DESCRIPTION:Join us tonight to cheer on the team at Wheeler Field #1 at 7:00pm. If you are able to play\, let Vic Krause know in advance or come to cheer us on! Hope to see you there! GO FLYERS!!
URL:https://www.flcduluth.org/event/flc-flyers-softball-game/
LOCATION:Wheeler Field\, 3501 Grand Ave\, Duluth\, MN\, 55807\, United States
END:VEVENT
END:VCALENDAR